BEGIN:VCALENDAR
VERSION:2.0
PRODID:-//Elkins-Randolph County Tourism - ECPv6.15.20//NONSGML v1.0//EN
CALSCALE:GREGORIAN
METHOD:PUBLISH
X-WR-CALNAME:Elkins-Randolph County Tourism
X-ORIGINAL-URL:https://elkinsrandolphwv.com
X-WR-CALDESC:Events for Elkins-Randolph County Tourism
REFRESH-INTERVAL;VALUE=DURATION:PT1H
X-Robots-Tag:noindex
X-PUBLISHED-TTL:PT1H
BEGIN:VTIMEZONE
TZID:UTC
BEGIN:STANDARD
TZOFFSETFROM:+0000
TZOFFSETTO:+0000
TZNAME:UTC
DTSTART:20180101T000000
END:STANDARD
END:VTIMEZONE
BEGIN:VEVENT
DTSTART;TZID=UTC:20190504T190000
DTEND;TZID=UTC:20190504T210000
DTSTAMP:20260425T124157
CREATED:20190502T021737Z
LAST-MODIFIED:20190502T021737Z
UID:10849-1556996400-1557003600@elkinsrandolphwv.com
SUMMARY:Contra Dance @ Beverly IOOF Lodge
DESCRIPTION:Contra dancing is a social dance that one can attend without a partner. The dancers form couples\, and the couples form sets of two couples in long lines starting from the stage and going down the length of the dance hall.
URL:https://elkinsrandolphwv.com/event/contra-dance-beverly-ioof-lodge/2019-05-04/
LOCATION:Beverly Heritage Center\, 4 Court Street\, Beverly\, WV\, 26253\, United States
ATTACH;FMTTYPE=image/png:https://elkinsrandolphwv.com/wp-content/uploads/2019/03/beverly-2.png
ORGANIZER;CN="Beverly Heritage Center":MAILTO:info@beverlyheritagecenter.org
GEO:38.8405774458;-79.8751789914
X-APPLE-STRUCTURED-LOCATION;VALUE=URI;X-ADDRESS=Beverly Heritage Center 4 Court Street Beverly WV 26253 United States;X-APPLE-RADIUS=500;X-TITLE=4 Court Street:geo:-79.8751789914,38.8405774458
END:VEVENT
END:VCALENDAR