BEGIN:VCALENDAR
VERSION:2.0
PRODID:-//Elkins-Randolph County Tourism - ECPv6.15.17.1//NONSGML v1.0//EN
CALSCALE:GREGORIAN
METHOD:PUBLISH
X-ORIGINAL-URL:https://elkinsrandolphwv.com
X-WR-CALDESC:Events for Elkins-Randolph County Tourism
REFRESH-INTERVAL;VALUE=DURATION:PT1H
X-Robots-Tag:noindex
X-PUBLISHED-TTL:PT1H
BEGIN:VTIMEZONE
TZID:UTC
BEGIN:STANDARD
TZOFFSETFROM:+0000
TZOFFSETTO:+0000
TZNAME:UTC
DTSTART:20240101T000000
END:STANDARD
END:VTIMEZONE
BEGIN:VEVENT
DTSTART;TZID=UTC:20250307T190000
DTEND;TZID=UTC:20250307T210000
DTSTAMP:20260422T032008
CREATED:20250306T205338Z
LAST-MODIFIED:20250306T205338Z
UID:29954-1741374000-1741381200@elkinsrandolphwv.com
SUMMARY:Elkins High School Presents “A Midsummer Night’s Dream”
DESCRIPTION:Thursday\, March 6 & 7th beginning at 7pm \nSaturaday\, March 8th beginning at 3pm \nTicktets are $10
URL:https://elkinsrandolphwv.com/event/elkins-high-school-presents-a-midsummer-nights-dream/2025-03-07/
LOCATION:Elkins High School\, 100 Kennedy Dr\, Elkins\, WV 26241\, USA\, 13 Kennedy Dr\, United States
GEO:38.892308;-79.849775
X-APPLE-STRUCTURED-LOCATION;VALUE=URI;X-ADDRESS=Elkins High School 100 Kennedy Dr Elkins WV 26241 USA 13 Kennedy Dr United States;X-APPLE-RADIUS=500;X-TITLE=13 Kennedy Dr:geo:-79.849775,38.892308
END:VEVENT
BEGIN:VEVENT
DTSTART;TZID=UTC:20250306T190000
DTEND;TZID=UTC:20250306T210000
DTSTAMP:20260422T032008
CREATED:20250306T205338Z
LAST-MODIFIED:20250306T205338Z
UID:29953-1741287600-1741294800@elkinsrandolphwv.com
SUMMARY:Elkins High School Presents “A Midsummer Night’s Dream”
DESCRIPTION:Thursday\, March 6 & 7th beginning at 7pm \nSaturaday\, March 8th beginning at 3pm \nTicktets are $10
URL:https://elkinsrandolphwv.com/event/elkins-high-school-presents-a-midsummer-nights-dream/2025-03-06/
LOCATION:Elkins High School\, 100 Kennedy Dr\, Elkins\, WV 26241\, USA\, 13 Kennedy Dr\, United States
GEO:38.892308;-79.849775
X-APPLE-STRUCTURED-LOCATION;VALUE=URI;X-ADDRESS=Elkins High School 100 Kennedy Dr Elkins WV 26241 USA 13 Kennedy Dr United States;X-APPLE-RADIUS=500;X-TITLE=13 Kennedy Dr:geo:-79.849775,38.892308
END:VEVENT
END:VCALENDAR