BEGIN:VCALENDAR
VERSION:2.0
PRODID:-//Elkins-Randolph County Tourism - ECPv6.15.20//NONSGML v1.0//EN
CALSCALE:GREGORIAN
METHOD:PUBLISH
X-ORIGINAL-URL:https://elkinsrandolphwv.com
X-WR-CALDESC:Events for Elkins-Randolph County Tourism
REFRESH-INTERVAL;VALUE=DURATION:PT1H
X-Robots-Tag:noindex
X-PUBLISHED-TTL:PT1H
BEGIN:VTIMEZONE
TZID:UTC
BEGIN:STANDARD
TZOFFSETFROM:+0000
TZOFFSETTO:+0000
TZNAME:UTC
DTSTART:20230101T000000
END:STANDARD
END:VTIMEZONE
BEGIN:VEVENT
DTSTART;TZID=UTC:20240114T110000
DTEND;TZID=UTC:20240114T150000
DTSTAMP:20260423T124829
CREATED:20240113T211401Z
LAST-MODIFIED:20240113T211401Z
UID:28150-1705230000-1705244400@elkinsrandolphwv.com
SUMMARY:Elkins Winter Special Train Excursion
DESCRIPTION:Buy tickets online or at the depot!
URL:https://elkinsrandolphwv.com/event/elkins-winter-special-train-excursion-2/2024-01-14/
LOCATION:315 Railroad Ave Elkins\, WV 26241
CATEGORIES:Train Excursions
ATTACH;FMTTYPE=image/jpeg:https://elkinsrandolphwv.com/wp-content/uploads/2022/11/Train-Ride-5.jpeg
END:VEVENT
END:VCALENDAR