BEGIN:VCALENDAR
VERSION:2.0
PRODID:-//Elkins-Randolph County Tourism - ECPv6.15.20//NONSGML v1.0//EN
CALSCALE:GREGORIAN
METHOD:PUBLISH
X-ORIGINAL-URL:https://elkinsrandolphwv.com
X-WR-CALDESC:Events for Elkins-Randolph County Tourism
REFRESH-INTERVAL;VALUE=DURATION:PT1H
X-Robots-Tag:noindex
X-PUBLISHED-TTL:PT1H
BEGIN:VTIMEZONE
TZID:UTC
BEGIN:STANDARD
TZOFFSETFROM:+0000
TZOFFSETTO:+0000
TZNAME:UTC
DTSTART:20230101T000000
END:STANDARD
END:VTIMEZONE
BEGIN:VEVENT
DTSTART;TZID=UTC:20240113T110000
DTEND;TZID=UTC:20240113T150000
DTSTAMP:20260423T152752
CREATED:20240113T210958Z
LAST-MODIFIED:20240113T211117Z
UID:28136-1705143600-1705158000@elkinsrandolphwv.com
SUMMARY:Elkins Winter Special Train Excursion
DESCRIPTION:Buy tickets online or at the depot!
URL:https://elkinsrandolphwv.com/event/elkins-winter-special-train-excursion/2024-01-13/
LOCATION:Elkins Depot Welcome Center\, 315 Railroad Ave\, Elkins\, WV 26241\, USA\, 2 Railroad Ave\, United States
CATEGORIES:Train Excursions
ATTACH;FMTTYPE=image/jpeg:https://elkinsrandolphwv.com/wp-content/uploads/2022/11/Train-Ride-5.jpeg
GEO:38.92313;-79.851004
X-APPLE-STRUCTURED-LOCATION;VALUE=URI;X-ADDRESS=Elkins Depot Welcome Center 315 Railroad Ave Elkins WV 26241 USA 2 Railroad Ave United States;X-APPLE-RADIUS=500;X-TITLE=2 Railroad Ave:geo:-79.851004,38.92313
END:VEVENT
END:VCALENDAR