BEGIN:VCALENDAR
VERSION:2.0
PRODID:-//Elkins-Randolph County Tourism - ECPv6.15.20//NONSGML v1.0//EN
CALSCALE:GREGORIAN
METHOD:PUBLISH
X-WR-CALNAME:Elkins-Randolph County Tourism
X-ORIGINAL-URL:https://elkinsrandolphwv.com
X-WR-CALDESC:Events for Elkins-Randolph County Tourism
REFRESH-INTERVAL;VALUE=DURATION:PT1H
X-Robots-Tag:noindex
X-PUBLISHED-TTL:PT1H
BEGIN:VTIMEZONE
TZID:UTC
BEGIN:STANDARD
TZOFFSETFROM:+0000
TZOFFSETTO:+0000
TZNAME:UTC
DTSTART:20180101T000000
END:STANDARD
END:VTIMEZONE
BEGIN:VEVENT
DTSTART;TZID=UTC:20191031T110000
DTEND;TZID=UTC:20191031T140000
DTSTAMP:20260424T011605
CREATED:20191016T190230Z
LAST-MODIFIED:20191016T190230Z
UID:16016-1572519600-1572530400@elkinsrandolphwv.com
SUMMARY:Fall Book Sale @ The Elkins Library
DESCRIPTION:Talk about Trick or TREAT! The Bookhounds are holding their Annual Fall Book Sale starting on Halloween this year! Join us Oct 31-Nov 2 for huge book selection\, available for donation!
URL:https://elkinsrandolphwv.com/event/fall-book-sale-the-elkins-library/2019-10-31/
LOCATION:Elkins-Randolph County Library\, 416 Davis Ave\, Elkins\, WV 26241\, USA\, 348 S Davis Ave\, United States\, 101 F St\, United States
CATEGORIES:Community
ATTACH;FMTTYPE=image/png:https://elkinsrandolphwv.com/wp-content/uploads/2019/05/elkins-randolph-county-public-library.png
GEO:38.542138;-121.739593
X-APPLE-STRUCTURED-LOCATION;VALUE=URI;X-ADDRESS=Elkins-Randolph County Library 416 Davis Ave Elkins WV 26241 USA 348 S Davis Ave United States 101 F St United States;X-APPLE-RADIUS=500;X-TITLE=101 F St:geo:-121.739593,38.542138
END:VEVENT
END:VCALENDAR