BEGIN:VCALENDAR
VERSION:2.0
PRODID:-//Elkins-Randolph County Tourism - ECPv6.15.20//NONSGML v1.0//EN
CALSCALE:GREGORIAN
METHOD:PUBLISH
X-WR-CALNAME:Elkins-Randolph County Tourism
X-ORIGINAL-URL:https://elkinsrandolphwv.com
X-WR-CALDESC:Events for Elkins-Randolph County Tourism
REFRESH-INTERVAL;VALUE=DURATION:PT1H
X-Robots-Tag:noindex
X-PUBLISHED-TTL:PT1H
BEGIN:VTIMEZONE
TZID:UTC
BEGIN:STANDARD
TZOFFSETFROM:+0000
TZOFFSETTO:+0000
TZNAME:UTC
DTSTART:20180101T000000
END:STANDARD
END:VTIMEZONE
BEGIN:VEVENT
DTSTART;TZID=UTC:20190710T170000
DTEND;TZID=UTC:20190710T200000
DTSTAMP:20260425T153820
CREATED:20190514T201145Z
LAST-MODIFIED:20190514T201145Z
UID:12816-1562778000-1562788800@elkinsrandolphwv.com
SUMMARY:Mountain State Street Machines Cruise-Ins
DESCRIPTION:Weather permitting\, the Mountain State Street Machines will host Thursday evening cruise-ins at The Delmonte Market from May 2nd until September 28th. Any year cars\, trucks\, classics\, bikes\, rods\, muscle\, customs\, and tuner are all welcome! Concessions\, 50-50\, free concerts will be held at the Elkins Town Square Amphitheatre during cruise-ins (in July only\, concerts will be on Wednesdays). \nThe last event of the season is the Mountain State Forest Festival Car Show & Chili Cookoff on Saturday September 28th from 1pm to 6pm. Trophies will be awarded by Maid Silvia and her royal court.
URL:https://elkinsrandolphwv.com/event/mountain-state-street-machines-cruise-ins/2019-07-10/
LOCATION:Downtown Elkins\, Davis Avenue\, Elkins\, WV\, 26241\, United States
ATTACH;FMTTYPE=image/png:https://elkinsrandolphwv.com/wp-content/uploads/2019/03/main-logo-3.png
ORGANIZER;CN="Mountain State Street Machines":MAILTO:mssmelkins@gmail.com
END:VEVENT
END:VCALENDAR