BEGIN:VCALENDAR
VERSION:2.0
PRODID:-//Elkins-Randolph County Tourism - ECPv6.15.20//NONSGML v1.0//EN
CALSCALE:GREGORIAN
METHOD:PUBLISH
X-WR-CALNAME:Elkins-Randolph County Tourism
X-ORIGINAL-URL:https://elkinsrandolphwv.com
X-WR-CALDESC:Events for Elkins-Randolph County Tourism
REFRESH-INTERVAL;VALUE=DURATION:PT1H
X-Robots-Tag:noindex
X-PUBLISHED-TTL:PT1H
BEGIN:VTIMEZONE
TZID:UTC
BEGIN:STANDARD
TZOFFSETFROM:+0000
TZOFFSETTO:+0000
TZNAME:UTC
DTSTART:20240101T000000
END:STANDARD
END:VTIMEZONE
BEGIN:VEVENT
DTSTART;TZID=UTC:20250420T110000
DTEND;TZID=UTC:20250420T150000
DTSTAMP:20260425T095616
CREATED:20250409T200126Z
LAST-MODIFIED:20250409T200126Z
UID:30059-1745146800-1745161200@elkinsrandolphwv.com
SUMMARY:Scenic Train Excursion | New Tygart Flyer
DESCRIPTION:This wilderness excursion features mountain grades\, an “S” curve tunnel\, a high bridge and miles of unspoiled mountain views. Vintage diesel-powered locomotives climb along the cascading Shavers Fork of the Cheat River to the High Falls of Cheat. Enjoy the view relaxing aboard our comfortable climate controlled passenger coaches. \nThis vintage diesel-powered passenger train has gained a reputation as one of the most relaxing mountain wilderness excursions in our Mountain Rail Adventure portfolio. The 4-hour\, 46 mile round trip departs at 11 a.m. from the restored Elkins Depot on Railroad Avenue. \nOn the trip to the Falls\, enjoy a cold cut lunch\, which is included in the ticket price. The trip culminates at the High Falls of Cheat\, an 18′ high\, 150′ wide waterfall located in one of the most remote and pristine settings in the region. If you’re looking for comfort and spectacular views on a vintage train this is the ride for you! \nLooking for extra leg room? Adult beverages? Your own private train host? Upgrade to our Parlor Car service for these special perks and more. \nBook Tickets:  \n 
URL:https://elkinsrandolphwv.com/event/scenic-train-excursion-new-tygart-flyer/2025-04-20/
LOCATION:Durbin & Greenbrier Valley Railroad Elkins\, WV 26241 USA\, United States
GEO:38.205009;-80.526508
END:VEVENT
BEGIN:VEVENT
DTSTART;TZID=UTC:20250419T110000
DTEND;TZID=UTC:20250419T150000
DTSTAMP:20260425T095616
CREATED:20250409T200126Z
LAST-MODIFIED:20250409T200126Z
UID:30058-1745060400-1745074800@elkinsrandolphwv.com
SUMMARY:Scenic Train Excursion | New Tygart Flyer
DESCRIPTION:This wilderness excursion features mountain grades\, an “S” curve tunnel\, a high bridge and miles of unspoiled mountain views. Vintage diesel-powered locomotives climb along the cascading Shavers Fork of the Cheat River to the High Falls of Cheat. Enjoy the view relaxing aboard our comfortable climate controlled passenger coaches. \nThis vintage diesel-powered passenger train has gained a reputation as one of the most relaxing mountain wilderness excursions in our Mountain Rail Adventure portfolio. The 4-hour\, 46 mile round trip departs at 11 a.m. from the restored Elkins Depot on Railroad Avenue. \nOn the trip to the Falls\, enjoy a cold cut lunch\, which is included in the ticket price. The trip culminates at the High Falls of Cheat\, an 18′ high\, 150′ wide waterfall located in one of the most remote and pristine settings in the region. If you’re looking for comfort and spectacular views on a vintage train this is the ride for you! \nLooking for extra leg room? Adult beverages? Your own private train host? Upgrade to our Parlor Car service for these special perks and more. \nBook Tickets:  \n 
URL:https://elkinsrandolphwv.com/event/scenic-train-excursion-new-tygart-flyer/2025-04-19/
LOCATION:Durbin & Greenbrier Valley Railroad Elkins\, WV 26241 USA\, United States
GEO:38.205009;-80.526508
END:VEVENT
BEGIN:VEVENT
DTSTART;TZID=UTC:20250413T110000
DTEND;TZID=UTC:20250413T150000
DTSTAMP:20260425T095616
CREATED:20250409T200126Z
LAST-MODIFIED:20250409T200126Z
UID:30057-1744542000-1744556400@elkinsrandolphwv.com
SUMMARY:Scenic Train Excursion | New Tygart Flyer
DESCRIPTION:This wilderness excursion features mountain grades\, an “S” curve tunnel\, a high bridge and miles of unspoiled mountain views. Vintage diesel-powered locomotives climb along the cascading Shavers Fork of the Cheat River to the High Falls of Cheat. Enjoy the view relaxing aboard our comfortable climate controlled passenger coaches. \nThis vintage diesel-powered passenger train has gained a reputation as one of the most relaxing mountain wilderness excursions in our Mountain Rail Adventure portfolio. The 4-hour\, 46 mile round trip departs at 11 a.m. from the restored Elkins Depot on Railroad Avenue. \nOn the trip to the Falls\, enjoy a cold cut lunch\, which is included in the ticket price. The trip culminates at the High Falls of Cheat\, an 18′ high\, 150′ wide waterfall located in one of the most remote and pristine settings in the region. If you’re looking for comfort and spectacular views on a vintage train this is the ride for you! \nLooking for extra leg room? Adult beverages? Your own private train host? Upgrade to our Parlor Car service for these special perks and more. \nBook Tickets:  \n 
URL:https://elkinsrandolphwv.com/event/scenic-train-excursion-new-tygart-flyer/2025-04-13/
LOCATION:Durbin & Greenbrier Valley Railroad Elkins\, WV 26241 USA\, United States
GEO:38.205009;-80.526508
END:VEVENT
BEGIN:VEVENT
DTSTART;TZID=UTC:20250412T110000
DTEND;TZID=UTC:20250412T150000
DTSTAMP:20260425T095616
CREATED:20250409T200126Z
LAST-MODIFIED:20250409T200126Z
UID:30056-1744455600-1744470000@elkinsrandolphwv.com
SUMMARY:Scenic Train Excursion | New Tygart Flyer
DESCRIPTION:This wilderness excursion features mountain grades\, an “S” curve tunnel\, a high bridge and miles of unspoiled mountain views. Vintage diesel-powered locomotives climb along the cascading Shavers Fork of the Cheat River to the High Falls of Cheat. Enjoy the view relaxing aboard our comfortable climate controlled passenger coaches. \nThis vintage diesel-powered passenger train has gained a reputation as one of the most relaxing mountain wilderness excursions in our Mountain Rail Adventure portfolio. The 4-hour\, 46 mile round trip departs at 11 a.m. from the restored Elkins Depot on Railroad Avenue. \nOn the trip to the Falls\, enjoy a cold cut lunch\, which is included in the ticket price. The trip culminates at the High Falls of Cheat\, an 18′ high\, 150′ wide waterfall located in one of the most remote and pristine settings in the region. If you’re looking for comfort and spectacular views on a vintage train this is the ride for you! \nLooking for extra leg room? Adult beverages? Your own private train host? Upgrade to our Parlor Car service for these special perks and more. \nBook Tickets:  \n 
URL:https://elkinsrandolphwv.com/event/scenic-train-excursion-new-tygart-flyer/2025-04-12/
LOCATION:Durbin & Greenbrier Valley Railroad Elkins\, WV 26241 USA\, United States
GEO:38.205009;-80.526508
END:VEVENT
END:VCALENDAR