BEGIN:VCALENDAR
VERSION:2.0
PRODID:-//Elkins-Randolph County Tourism - ECPv6.15.20//NONSGML v1.0//EN
CALSCALE:GREGORIAN
METHOD:PUBLISH
X-ORIGINAL-URL:https://elkinsrandolphwv.com
X-WR-CALDESC:Events for Elkins-Randolph County Tourism
REFRESH-INTERVAL;VALUE=DURATION:PT1H
X-Robots-Tag:noindex
X-PUBLISHED-TTL:PT1H
BEGIN:VTIMEZONE
TZID:UTC
BEGIN:STANDARD
TZOFFSETFROM:+0000
TZOFFSETTO:+0000
TZNAME:UTC
DTSTART:20230101T000000
END:STANDARD
END:VTIMEZONE
BEGIN:VEVENT
DTSTART;TZID=UTC:20240219T100000
DTEND;TZID=UTC:20240219T150000
DTSTAMP:20260425T144400
CREATED:20240214T204907Z
LAST-MODIFIED:20240214T204907Z
UID:28307-1708336800-1708354800@elkinsrandolphwv.com
SUMMARY:The United Way and #VITA Tax Preparation
DESCRIPTION:Call 304-366-4550 to set up a drop-off appointment.
URL:https://elkinsrandolphwv.com/event/the-united-way-and-vita-tax-preparation/2024-02-19/
LOCATION:WV Wood Technology Center\, 10 11th Street\, Elkins\, WV\, 26241\, United States
CATEGORIES:Educational,Information
ATTACH;FMTTYPE=image/jpeg:https://elkinsrandolphwv.com/wp-content/uploads/2024/02/tvuw_hztl_one-scaled.jpg
END:VEVENT
END:VCALENDAR