BEGIN:VCALENDAR
VERSION:2.0
PRODID:-//Elkins-Randolph County Tourism - ECPv6.15.20//NONSGML v1.0//EN
CALSCALE:GREGORIAN
METHOD:PUBLISH
X-WR-CALNAME:Elkins-Randolph County Tourism
X-ORIGINAL-URL:https://elkinsrandolphwv.com
X-WR-CALDESC:Events for Elkins-Randolph County Tourism
REFRESH-INTERVAL;VALUE=DURATION:PT1H
X-Robots-Tag:noindex
X-PUBLISHED-TTL:PT1H
BEGIN:VTIMEZONE
TZID:UTC
BEGIN:STANDARD
TZOFFSETFROM:+0000
TZOFFSETTO:+0000
TZNAME:UTC
DTSTART:20180101T000000
END:STANDARD
END:VTIMEZONE
BEGIN:VTIMEZONE
TZID:America/New_York
BEGIN:DAYLIGHT
TZOFFSETFROM:-0500
TZOFFSETTO:-0400
TZNAME:EDT
DTSTART:20180311T070000
END:DAYLIGHT
BEGIN:STANDARD
TZOFFSETFROM:-0400
TZOFFSETTO:-0500
TZNAME:EST
DTSTART:20181104T060000
END:STANDARD
BEGIN:DAYLIGHT
TZOFFSETFROM:-0500
TZOFFSETTO:-0400
TZNAME:EDT
DTSTART:20190310T070000
END:DAYLIGHT
BEGIN:STANDARD
TZOFFSETFROM:-0400
TZOFFSETTO:-0500
TZNAME:EST
DTSTART:20191103T060000
END:STANDARD
BEGIN:DAYLIGHT
TZOFFSETFROM:-0500
TZOFFSETTO:-0400
TZNAME:EDT
DTSTART:20200308T070000
END:DAYLIGHT
BEGIN:STANDARD
TZOFFSETFROM:-0400
TZOFFSETTO:-0500
TZNAME:EST
DTSTART:20201101T060000
END:STANDARD
END:VTIMEZONE
BEGIN:VEVENT
DTSTART;TZID=UTC:20190516T100000
DTEND;TZID=UTC:20190517T130000
DTSTAMP:20260423T071338
CREATED:20190515T222239Z
LAST-MODIFIED:20190515T222239Z
UID:12911-1558000800-1558098000@elkinsrandolphwv.com
SUMMARY:West Virginia Celebration Exhibition Contest
DESCRIPTION:West Virginia Celebration Exhibition\nArt work accepted until May 24\nUpcoming West Virginia Celebration Exhibition featuring WV inspired art. Designed to highlight our state’s beauty\, our West Virginia Celebration is poised to be one of our best attended exhibits\, and will be visited by educators\, artists\, exhibit jurors\, and cultural dignitaries from all over the state and beyond. \nThis exhibit will display May 30 to July 5. This exhibit is a “judged” exhibit\, Judge TBA. \nAll mediums accepted. Painting\, photography\, wood work\, glass\, pottery\, sculpture\, fabric\, and more…this exhibit has no limits.
URL:https://elkinsrandolphwv.com/event/west-virginia-celebration-exhibition-contest/
LOCATION:The Arts Center\, aka Randolph Co. Community Arts Council\, 2 Park St\, Elkins\, WV\, 26241\, United States
ATTACH;FMTTYPE=image/png:https://elkinsrandolphwv.com/wp-content/uploads/2019/03/the-arts-center-e1726534520618.png
GEO:38.924095;-79.850318
X-APPLE-STRUCTURED-LOCATION;VALUE=URI;X-ADDRESS=The Arts Center aka Randolph Co. Community Arts Council 2 Park St Elkins WV 26241 United States;X-APPLE-RADIUS=500;X-TITLE=2 Park St:geo:-79.850318,38.924095
END:VEVENT
BEGIN:VEVENT
DTSTART;TZID=America/New_York:20190517T180000
DTEND;TZID=America/New_York:20190517T200000
DTSTAMP:20260423T071338
CREATED:20190423T072913Z
LAST-MODIFIED:20190507T224720Z
UID:4391-1558116000-1558123200@elkinsrandolphwv.com
SUMMARY:3rd Friday BBQ @ Brewstel
DESCRIPTION:Its that time again\, folks. If you’ve tasted our house-smoked barbeque in the past you know what to expect every 3rd Friday of the month: pork shoulder\, smoked slow and low and seasoned up nice so you will want to ask it out on a date. Come have dinner and a beer with us or grab some grub to take home to the family.  \nSandwich: pork\, slaw\, and pickle $6.50\nPlatter: dinner portion of pork\, slaw\, and beans $10\nPound: 1lb of expertly smoked pulled pork $15\nFamily combo: 1 lb of pork\, buns\, slaw\, and beans $22
URL:https://elkinsrandolphwv.com/event/brewstel-3rd-friday-bbq/
LOCATION:Brewstel Brew Shop and Hostel\, 120 Davis Ave\, Elkins\, WV 26241\, USA\, United States
GEO:38.91402;-79.854877
END:VEVENT
BEGIN:VEVENT
DTSTART;TZID=America/New_York:20190517T180000
DTEND;TZID=America/New_York:20190517T200000
DTSTAMP:20260423T071338
CREATED:20190423T072914Z
LAST-MODIFIED:20190507T224721Z
UID:4392-1558116000-1558123200@elkinsrandolphwv.com
SUMMARY:Gandy Dancer: Premier Show
DESCRIPTION:After a wonderful plated dinner\, sit back and listen to the fabulous Mountain Memories Show Band as they serve up a 2 hour Branson-style show with music from the 50’s- today featuring Country\, Pop\, Motown\, Gospel\, and Patriotic along with family- friendly comedy and amazing dancers. The Gandy Dancer offers a show that’s guaranteed to have you dancing in your seat\, laughing ‘til you cry\, touch your heart and give you memories that will last a lifetime. \nArrive at 5:30pm  ~ Dinner at 6:00pm  ~ Show at 7:00pm
URL:https://elkinsrandolphwv.com/event/gandy-dancer-premier-show-4/
LOCATION:Gandy Dancer Theatre and Conference Center\, 359 Beverly Pike\, Elkins\, WV 26241\, USA\, United States
GEO:38.918641;-79.842607
END:VEVENT
BEGIN:VEVENT
DTSTART;TZID=UTC:20190517T180000
DTEND;TZID=UTC:20190517T210000
DTSTAMP:20260423T071338
CREATED:20190508T183303Z
LAST-MODIFIED:20190508T183303Z
UID:12731-1558116000-1558126800@elkinsrandolphwv.com
SUMMARY:The Craig's @ Smoke on the Water
DESCRIPTION:The Craig’s are a husband and wife duo. Mary Beth supplies the vocals while David\, accompanies her on the guitar\, as well as the ukulele. The Craig’s play wide variety of songs from the 20’s to present.
URL:https://elkinsrandolphwv.com/event/the-craigs-smoke-on-the-water/
LOCATION:Smoke on the Water\, Rt 33 East\, 1455 Allegheny Highway\, Elkins\, WV 26241\, USA\, 1 US Rte 33\, United States
ATTACH;FMTTYPE=image/jpeg:https://elkinsrandolphwv.com/wp-content/uploads/2019/03/29511280_1624413420927078_4924421038033815654_n-e1557334446313.jpg
GEO:38.92145;-79.841852
X-APPLE-STRUCTURED-LOCATION;VALUE=URI;X-ADDRESS=Smoke on the Water Rt 33 East 1455 Allegheny Highway Elkins WV 26241 USA 1 US Rte 33 United States;X-APPLE-RADIUS=500;X-TITLE=1 US Rte 33:geo:-79.841852,38.92145
END:VEVENT
BEGIN:VEVENT
DTSTART;TZID=America/New_York:20190517T190000
DTEND;TZID=America/New_York:20190517T200000
DTSTAMP:20260423T071338
CREATED:20190423T072915Z
LAST-MODIFIED:20190507T224735Z
UID:4396-1558119600-1558123200@elkinsrandolphwv.com
SUMMARY:2019 WV State Plott Sectional Coon hunt & Bear Field Trial
DESCRIPTION:Appalachian Coon Hunters\, Inc.  \nFriday\n7pm UCK Licensed Bench Show\n8pm UCK Licensed Night Hunt
URL:https://elkinsrandolphwv.com/event/2019-wv-state-plott-sectional-coon-hunt-bear-field-trial/
LOCATION:Camp Pioneer\, 38 Pioneer Circle\, Kings Run Rd\, Beverly\, WV 26253\, USA\, 38 Pioneer Circle\, Kings Run Road\, Beverly\, WV\, United States
GEO:38.818697;-79.853493
X-APPLE-STRUCTURED-LOCATION;VALUE=URI;X-ADDRESS=Camp Pioneer 38 Pioneer Circle Kings Run Rd Beverly WV 26253 USA 38 Pioneer Circle Kings Run Road Beverly WV United States;X-APPLE-RADIUS=500;X-TITLE=38 Pioneer Circle\, Kings Run Road:geo:-79.853493,38.818697
END:VEVENT
BEGIN:VEVENT
DTSTART;TZID=America/New_York:20190517T190000
DTEND;TZID=America/New_York:20190517T210000
DTSTAMP:20260423T071338
CREATED:20190423T072917Z
LAST-MODIFIED:20190508T211920Z
UID:4397-1558119600-1558126800@elkinsrandolphwv.com
SUMMARY:EHS: The Addams Family
DESCRIPTION:Elkins High School students are preparing to perform the play “The Addams Family\,” which will be presented to the public on Friday\, May 17 and Saturday\, May 18 at 7 p.m. and on Sunday\, May 19 at 2 p.m. \nThe play includes humor\, as it is a comedy\, along with an irreverent approach to darker things\, for which the Addams family is known for. Also\, the play contains singing and dancing\, for even more added entertainment. The musical was written by Marshall Brickman and Rick Elice\, with lyrics and music by Andrew Lippa. It is produced by special arrangement with Theatrical Rights Worldwide. \nThe cost for the play is $10 for adults and the show is free for Elkins High School students. Tickets are available at the door or at www.ElkinsDrama.org. \n 
URL:https://elkinsrandolphwv.com/event/ehs-the-addams-family-2/
END:VEVENT
END:VCALENDAR