BEGIN:VCALENDAR
VERSION:2.0
PRODID:-//Elkins-Randolph County Tourism - ECPv6.15.20//NONSGML v1.0//EN
CALSCALE:GREGORIAN
METHOD:PUBLISH
X-WR-CALNAME:Elkins-Randolph County Tourism
X-ORIGINAL-URL:https://elkinsrandolphwv.com
X-WR-CALDESC:Events for Elkins-Randolph County Tourism
REFRESH-INTERVAL;VALUE=DURATION:PT1H
X-Robots-Tag:noindex
X-PUBLISHED-TTL:PT1H
BEGIN:VTIMEZONE
TZID:America/New_York
BEGIN:DAYLIGHT
TZOFFSETFROM:-0500
TZOFFSETTO:-0400
TZNAME:EDT
DTSTART:20180311T070000
END:DAYLIGHT
BEGIN:STANDARD
TZOFFSETFROM:-0400
TZOFFSETTO:-0500
TZNAME:EST
DTSTART:20181104T060000
END:STANDARD
BEGIN:DAYLIGHT
TZOFFSETFROM:-0500
TZOFFSETTO:-0400
TZNAME:EDT
DTSTART:20190310T070000
END:DAYLIGHT
BEGIN:STANDARD
TZOFFSETFROM:-0400
TZOFFSETTO:-0500
TZNAME:EST
DTSTART:20191103T060000
END:STANDARD
BEGIN:DAYLIGHT
TZOFFSETFROM:-0500
TZOFFSETTO:-0400
TZNAME:EDT
DTSTART:20200308T070000
END:DAYLIGHT
BEGIN:STANDARD
TZOFFSETFROM:-0400
TZOFFSETTO:-0500
TZNAME:EST
DTSTART:20201101T060000
END:STANDARD
END:VTIMEZONE
BEGIN:VTIMEZONE
TZID:UTC
BEGIN:STANDARD
TZOFFSETFROM:+0000
TZOFFSETTO:+0000
TZNAME:UTC
DTSTART:20180101T000000
END:STANDARD
END:VTIMEZONE
BEGIN:VEVENT
DTSTART;VALUE=DATE:20190518
DTEND;VALUE=DATE:20190519
DTSTAMP:20260423T050456
CREATED:20190423T072917Z
LAST-MODIFIED:20190507T224735Z
UID:4399-1558144800-1558223999@elkinsrandolphwv.com
SUMMARY:Elkins River Day
DESCRIPTION:https://www.facebook.com/events/283956652263451/
URL:https://elkinsrandolphwv.com/event/elkins-river-day/
LOCATION:Revelle’s River Resort\, 9 Faulkner Rd\, Elkins\, WV 26241\, USA\, 2 Faulkner Rd\, United States
GEO:38.909784;-79.708843
X-APPLE-STRUCTURED-LOCATION;VALUE=URI;X-ADDRESS=Revelle’s River Resort 9 Faulkner Rd Elkins WV 26241 USA 2 Faulkner Rd United States;X-APPLE-RADIUS=500;X-TITLE=2 Faulkner Rd:geo:-79.708843,38.909784
END:VEVENT
BEGIN:VEVENT
DTSTART;TZID=America/New_York:20190518T080000
DTEND;TZID=America/New_York:20190518T110000
DTSTAMP:20260423T050456
CREATED:20190423T072918Z
LAST-MODIFIED:20190507T224741Z
UID:4402-1558166400-1558177200@elkinsrandolphwv.com
SUMMARY:Homestead Farmers Market Opening Day
DESCRIPTION:
URL:https://elkinsrandolphwv.com/event/homestead-farmers-market-opening-day/
END:VEVENT
BEGIN:VEVENT
DTSTART;TZID=America/New_York:20190518T080000
DTEND;TZID=America/New_York:20190518T200000
DTSTAMP:20260423T050456
CREATED:20190423T072920Z
LAST-MODIFIED:20190507T224741Z
UID:4403-1558166400-1558209600@elkinsrandolphwv.com
SUMMARY:2019 WV State Plott Sectional Coon Hunt and Bear Field Trial
DESCRIPTION:Food served all day! \nSaturday\n8am Ground Open\n8:30am Entries open for Bear Dash Race\n9am Bear Dash Race (Line and Treet)\n10:30am Entries open for UKC Licensed Coon Water Race\n11am Bear Treeing Contest\n2:30pm Entries open for UKC Licensed Coon Water Race\n3pm UKC Licensed Coon Water Race\n5pm Entries Open for UCK Licensed Bench Show\n6pm UKC Licensed Bench Show\n7pm Entries open for IKC Licensed Night Hunt\n8pm UCK Licensed Night Hunt \nEVENT CONTACT\nJamie Estep: 304.614.7118\nCanan Summerfield- 304.940.6007\nRusty Harsh: 304.642.9129\nMikayla Blake: 681.495.2564
URL:https://elkinsrandolphwv.com/event/2019-wv-state-plott-sectional-coon-hunt-and-bear-field-trial/
LOCATION:Camp Pioneer\, 38 Pioneer Circle\, Kings Run Rd\, Beverly\, WV 26253\, USA\, 38 Pioneer Circle\, Kings Run Road\, Beverly\, WV\, United States
GEO:38.818697;-79.853493
X-APPLE-STRUCTURED-LOCATION;VALUE=URI;X-ADDRESS=Camp Pioneer 38 Pioneer Circle Kings Run Rd Beverly WV 26253 USA 38 Pioneer Circle Kings Run Road Beverly WV United States;X-APPLE-RADIUS=500;X-TITLE=38 Pioneer Circle\, Kings Run Road:geo:-79.853493,38.818697
END:VEVENT
BEGIN:VEVENT
DTSTART;TZID=UTC:20190518T080000
DTEND;TZID=UTC:20190518T210000
DTSTAMP:20260423T050456
CREATED:20190510T213500Z
LAST-MODIFIED:20190510T220657Z
UID:12780-1558166400-1558213200@elkinsrandolphwv.com
SUMMARY:Market Day @ Tractor Supply
DESCRIPTION:The store will host its annual Market Day event from 8 a.m. until 9 p.m. May 18 featuring local vendors and their homemade and homegrown goods. Market Day is a free event\, featuring items such as crafts\, candles\, produce\, baked goods and more in tents outside the Tractor Supply store\, located at 800 Beverly Pike. \nThis year’s vendors and community partners include: Teter Creek Lake Neighborhood Watch on site from 2 – 9 p.m. and Hillbilly Creatives on site 8 a.m. – 4 p.m. Local artisans\, farmers and craft makers interested in selling their goods are invited to register at TSCeventpartners.com or visit the local Elkins Tractor Supply store before May 15. While participation is free\, all vendors are responsible for complying with state and local ordinances. \nContact the Elkins Tractor Supply store at 304-637-2346 for more details or information about participating in the event. To learn more about Tractor Supply Company and Tractor Supply Market Day\, visit TractorSupply.com/MarketDay.
URL:https://elkinsrandolphwv.com/event/12780/
LOCATION:Tractor Supply Co.\, 800 Beverly Pike\, Elkins\, WV\, 26241\, United States
ATTACH;FMTTYPE=image/png:https://elkinsrandolphwv.com/wp-content/uploads/2019/04/Tractor-Supply.png
END:VEVENT
BEGIN:VEVENT
DTSTART;TZID=UTC:20190518T090000
DTEND;TZID=UTC:20190518T140000
DTSTAMP:20260423T050456
CREATED:20190425T213132Z
LAST-MODIFIED:20190425T213132Z
UID:7880-1558170000-1558188000@elkinsrandolphwv.com
SUMMARY:Emma Scott Garden Club's Sixth Annual Food\, Floral\, and Fun
DESCRIPTION:The club will be selling plants (annuals\, perennials\, shrubs as well as houseplants) from our own gardens. Also there will be a bazaar with gently used gardening items\, a bucket raffle including a portable greenhouse\, and baked goods. This annual fundraiser helps the club fund projects throughout the community.
URL:https://elkinsrandolphwv.com/event/emma-scott-garden-clubs-sixth-annual-food-floral-and-fun/
LOCATION:The Arts Center\, aka Randolph Co. Community Arts Council\, 2 Park St\, Elkins\, WV\, 26241\, United States
GEO:38.924095;-79.850318
X-APPLE-STRUCTURED-LOCATION;VALUE=URI;X-ADDRESS=The Arts Center aka Randolph Co. Community Arts Council 2 Park St Elkins WV 26241 United States;X-APPLE-RADIUS=500;X-TITLE=2 Park St:geo:-79.850318,38.924095
END:VEVENT
BEGIN:VEVENT
DTSTART;TZID=UTC:20190518T100000
DTEND;TZID=UTC:20190518T120000
DTSTAMP:20260423T050456
CREATED:20190501T180051Z
LAST-MODIFIED:20190502T014554Z
UID:10189-1558173600-1558180800@elkinsrandolphwv.com
SUMMARY:Downtown Elkins Bicycle Parade and Rodeo
DESCRIPTION:9 am Registration City Hall Parking Lot\n10 am Parade Davis Avenue\, Fifth to Third Streets. \nRodeo immediately follows parade on Third Street at Joey’s Bike Shop. Free T-shirts for first 30 registrants age 12 & under. \nParticipants are invited to dress up and decorate bikes. Prizes will be awarded in six categories:\nWild Camo\, Color Crazy\, Super Hero\, Flower Power\, Sparkle & Shine and Mayor’s Choice. \nRiders must wear helmets & closed toe shoes. Parent/Guardian signature required.
URL:https://elkinsrandolphwv.com/event/downtown-elkins-bicycle-parade-and-rodeo/
LOCATION:Downtown Elkins\, Davis Avenue\, Elkins\, WV\, 26241\, United States
ATTACH;FMTTYPE=image/jpeg:https://elkinsrandolphwv.com/wp-content/uploads/2019/05/Elkins-Main-Street-Bicycle-Parade-and-Rodeo.jpg
ORGANIZER;CN="Elkins Main Street":MAILTO:elkinsmainstreet@gmail.com
END:VEVENT
BEGIN:VEVENT
DTSTART;TZID=UTC:20190518T100000
DTEND;TZID=UTC:20190518T150000
DTSTAMP:20260423T050456
CREATED:20190507T222340Z
LAST-MODIFIED:20190507T222340Z
UID:12167-1558173600-1558191600@elkinsrandolphwv.com
SUMMARY:2019 Endagered Species Day
DESCRIPTION:
URL:https://elkinsrandolphwv.com/event/2019-endagered-species-day/
LOCATION:Elkins Randolph County YMCA\, 400 Davis Avenue\, Elkins\, WV\, 26241\, United States
ATTACH;FMTTYPE=image/png:https://elkinsrandolphwv.com/wp-content/uploads/2019/03/americorps.png
ORGANIZER;CN="Appalachian Forest National Heritage Area":MAILTO:info@appalachianforest.us
END:VEVENT
BEGIN:VEVENT
DTSTART;TZID=America/New_York:20190518T110000
DTEND;TZID=America/New_York:20190518T150000
DTSTAMP:20260423T050456
CREATED:20190423T072917Z
LAST-MODIFIED:20190507T224735Z
UID:4400-1558177200-1558191600@elkinsrandolphwv.com
SUMMARY:Elkins Depot- New Tygart Flyer
DESCRIPTION:Trip Summary*\n4-hour and 48-mile round-trip excursion from Elkins to High Falls and return\nClimate controlled\nLunch included\nParlor car service upgrade available!\nScenic waterfall destination! \nCall 304-636-9477 for more information
URL:https://elkinsrandolphwv.com/event/elkins-depot-new-tygart-flyer-5/
LOCATION:Elkins Depot Welcome Center\, 315 Railroad Ave\, Elkins\, WV 26241\, USA\, 2 Railroad Ave\, United States
GEO:38.92313;-79.851004
X-APPLE-STRUCTURED-LOCATION;VALUE=URI;X-ADDRESS=Elkins Depot Welcome Center 315 Railroad Ave Elkins WV 26241 USA 2 Railroad Ave United States;X-APPLE-RADIUS=500;X-TITLE=2 Railroad Ave:geo:-79.851004,38.92313
END:VEVENT
BEGIN:VEVENT
DTSTART;TZID=America/New_York:20190518T140000
DTEND;TZID=America/New_York:20190518T160000
DTSTAMP:20260423T050456
CREATED:20190423T072923Z
LAST-MODIFIED:20190507T224748Z
UID:4409-1558188000-1558195200@elkinsrandolphwv.com
SUMMARY:EHS: The Addams Family
DESCRIPTION:
URL:https://elkinsrandolphwv.com/event/ehs-the-addams-family-3/
END:VEVENT
BEGIN:VEVENT
DTSTART;TZID=UTC:20190518T150000
DTEND;TZID=UTC:20190518T170000
DTSTAMP:20260423T050456
CREATED:20190508T223050Z
LAST-MODIFIED:20190508T223050Z
UID:12757-1558191600-1558198800@elkinsrandolphwv.com
SUMMARY:Women of Beverly Walking Tour
DESCRIPTION:Saturday\, May 18 at 3 pm\, the Beverly Heritage Center will host a walking tour featuring nine different stories about women who made an impact on Beverly. You will get to hear stories about Civil War romances\, gossip\, working class ladies\, and many more!\nThe tour is open to the public with a suggested $5 donation that will go entirely towards maintenance. We’re looking forward to seeing you!
URL:https://elkinsrandolphwv.com/event/women-of-beverly-walking-tour/
LOCATION:Beverly Heritage Center\, 4 Court Street\, Beverly\, WV\, 26253\, United States
ATTACH;FMTTYPE=image/png:https://elkinsrandolphwv.com/wp-content/uploads/2019/03/beverly-1.png
GEO:38.8405774458;-79.8751789914
X-APPLE-STRUCTURED-LOCATION;VALUE=URI;X-ADDRESS=Beverly Heritage Center 4 Court Street Beverly WV 26253 United States;X-APPLE-RADIUS=500;X-TITLE=4 Court Street:geo:-79.8751789914,38.8405774458
END:VEVENT
BEGIN:VEVENT
DTSTART;TZID=America/New_York:20190518T170000
DTEND;TZID=America/New_York:20190518T193000
DTSTAMP:20260423T050456
CREATED:20190423T072924Z
LAST-MODIFIED:20190507T224748Z
UID:4411-1558198800-1558207800@elkinsrandolphwv.com
SUMMARY:Smoke on the Water: Josh Folmsbee
DESCRIPTION:
URL:https://elkinsrandolphwv.com/event/smoke-on-the-water-josh-folmsbee/
LOCATION:Smoke on the Water\, Rt 33 East\, 1455 Allegheny Highway\, Elkins\, WV 26241\, USA\, 1 US Rte 33\, United States
GEO:38.92145;-79.841852
X-APPLE-STRUCTURED-LOCATION;VALUE=URI;X-ADDRESS=Smoke on the Water Rt 33 East 1455 Allegheny Highway Elkins WV 26241 USA 1 US Rte 33 United States;X-APPLE-RADIUS=500;X-TITLE=1 US Rte 33:geo:-79.841852,38.92145
END:VEVENT
BEGIN:VEVENT
DTSTART;TZID=America/New_York:20190518T180000
DTEND;TZID=America/New_York:20190518T200000
DTSTAMP:20260423T050456
CREATED:20190423T072922Z
LAST-MODIFIED:20190507T224742Z
UID:4407-1558202400-1558209600@elkinsrandolphwv.com
SUMMARY:Gandy Dancer: Tribute to Musical Legends Dinner & Show
DESCRIPTION:Enjoy this amazing show where our performers pay their tribute to such musical legends as Dolly Parton\, Kenny Rogers\, John and June Cash\, Elvis and many more.
URL:https://elkinsrandolphwv.com/event/gandy-dancer-tribute-to-musical-legends-dinner-show-3/
LOCATION:Gandy Dancer Theatre and Conference Center\, 359 Beverly Pike\, Elkins\, WV 26241\, USA\, United States
GEO:38.918641;-79.842607
END:VEVENT
END:VCALENDAR