BEGIN:VCALENDAR
VERSION:2.0
PRODID:-//Elkins-Randolph County Tourism - ECPv6.15.17.1//NONSGML v1.0//EN
CALSCALE:GREGORIAN
METHOD:PUBLISH
X-WR-CALNAME:Elkins-Randolph County Tourism
X-ORIGINAL-URL:https://elkinsrandolphwv.com
X-WR-CALDESC:Events for Elkins-Randolph County Tourism
REFRESH-INTERVAL;VALUE=DURATION:PT1H
X-Robots-Tag:noindex
X-PUBLISHED-TTL:PT1H
BEGIN:VTIMEZONE
TZID:UTC
BEGIN:STANDARD
TZOFFSETFROM:+0000
TZOFFSETTO:+0000
TZNAME:UTC
DTSTART:20180101T000000
END:STANDARD
END:VTIMEZONE
BEGIN:VTIMEZONE
TZID:America/New_York
BEGIN:DAYLIGHT
TZOFFSETFROM:-0500
TZOFFSETTO:-0400
TZNAME:EDT
DTSTART:20180311T070000
END:DAYLIGHT
BEGIN:STANDARD
TZOFFSETFROM:-0400
TZOFFSETTO:-0500
TZNAME:EST
DTSTART:20181104T060000
END:STANDARD
BEGIN:DAYLIGHT
TZOFFSETFROM:-0500
TZOFFSETTO:-0400
TZNAME:EDT
DTSTART:20190310T070000
END:DAYLIGHT
BEGIN:STANDARD
TZOFFSETFROM:-0400
TZOFFSETTO:-0500
TZNAME:EST
DTSTART:20191103T060000
END:STANDARD
BEGIN:DAYLIGHT
TZOFFSETFROM:-0500
TZOFFSETTO:-0400
TZNAME:EDT
DTSTART:20200308T070000
END:DAYLIGHT
BEGIN:STANDARD
TZOFFSETFROM:-0400
TZOFFSETTO:-0500
TZNAME:EST
DTSTART:20201101T060000
END:STANDARD
END:VTIMEZONE
BEGIN:VEVENT
DTSTART;TZID=UTC:20190519T080000
DTEND;TZID=UTC:20190519T170000
DTSTAMP:20260421T140531
CREATED:20190515T221940Z
LAST-MODIFIED:20190515T221940Z
UID:12907-1558252800-1558285200@elkinsrandolphwv.com
SUMMARY:1st Annual Ride to Survive Spring Ride
DESCRIPTION:Spring ATV ride. This will be different route than our fall ride. Approx 50 mile round trip. Something for everyone. Plenty of mud. Come out for a great ride through some beautiful scenery. Support the Ellamore Volunteer Fire Department.
URL:https://elkinsrandolphwv.com/event/1st-annual-ride-to-survive-spring-ride/
LOCATION:Ellamore Fire Department\, 9797 Old Elkins Road\, Ellamore\, WV\, 26267\, United States
END:VEVENT
BEGIN:VEVENT
DTSTART;TZID=America/New_York:20190519T110000
DTEND;TZID=America/New_York:20190519T150000
DTSTAMP:20260421T140531
CREATED:20190423T072924Z
LAST-MODIFIED:20190507T224748Z
UID:4412-1558263600-1558278000@elkinsrandolphwv.com
SUMMARY:Elkins Depot- New Tygart Flyer
DESCRIPTION:Trip Summary*\n4-hour and 48-mile round-trip excursion from Elkins to High Falls and return\nClimate controlled\nLunch included\nParlor car service upgrade available!\nScenic waterfall destination! \nCall 304-636-9477 for more information
URL:https://elkinsrandolphwv.com/event/elkins-depot-new-tygart-flyer-6/
LOCATION:Elkins Depot Welcome Center\, 315 Railroad Ave\, Elkins\, WV 26241\, USA\, 2 Railroad Ave\, United States
GEO:38.92313;-79.851004
X-APPLE-STRUCTURED-LOCATION;VALUE=URI;X-ADDRESS=Elkins Depot Welcome Center 315 Railroad Ave Elkins WV 26241 USA 2 Railroad Ave United States;X-APPLE-RADIUS=500;X-TITLE=2 Railroad Ave:geo:-79.851004,38.92313
END:VEVENT
BEGIN:VEVENT
DTSTART;TZID=America/New_York:20190519T120000
DTEND;TZID=America/New_York:20190519T160000
DTSTAMP:20260421T140531
CREATED:20190423T072924Z
LAST-MODIFIED:20190507T224751Z
UID:4413-1558267200-1558281600@elkinsrandolphwv.com
SUMMARY:Sunday Bingo @ Coalton Fire Department
DESCRIPTION:Doors open at noon\nDinner at 1pm\nBingo at 2pm
URL:https://elkinsrandolphwv.com/event/coalton-fire-department-sunday-bingo-4/
LOCATION:Coalton VFW\, Coalton\, WV 26257\, USA\, 1 Coalton Ave\, United States
GEO:38.924546;-79.972583
X-APPLE-STRUCTURED-LOCATION;VALUE=URI;X-ADDRESS=Coalton VFW Coalton WV 26257 USA 1 Coalton Ave United States;X-APPLE-RADIUS=500;X-TITLE=1 Coalton Ave:geo:-79.972583,38.924546
END:VEVENT
BEGIN:VEVENT
DTSTART;TZID=UTC:20190519T130000
DTEND;TZID=UTC:20190519T163000
DTSTAMP:20260421T140531
CREATED:20190508T185050Z
LAST-MODIFIED:20190508T185050Z
UID:12734-1558270800-1558283400@elkinsrandolphwv.com
SUMMARY:Don Olson @ Smoke on the Water
DESCRIPTION:Longtime Randolph County resident Don Olson performs a mix of blues\, jazz and other selections from the great American songbook.
URL:https://elkinsrandolphwv.com/event/don-olson-smoke-on-the-water/
LOCATION:Smoke on the Water\, Rt 33 East\, 1455 Allegheny Highway\, Elkins\, WV 26241\, USA\, 1 US Rte 33\, United States
ATTACH;FMTTYPE=image/jpeg:https://elkinsrandolphwv.com/wp-content/uploads/2019/03/29511280_1624413420927078_4924421038033815654_n-e1557334446313.jpg
GEO:38.92145;-79.841852
X-APPLE-STRUCTURED-LOCATION;VALUE=URI;X-ADDRESS=Smoke on the Water Rt 33 East 1455 Allegheny Highway Elkins WV 26241 USA 1 US Rte 33 United States;X-APPLE-RADIUS=500;X-TITLE=1 US Rte 33:geo:-79.841852,38.92145
END:VEVENT
BEGIN:VEVENT
DTSTART;TZID=UTC:20190519T133000
DTEND;TZID=UTC:20190519T160000
DTSTAMP:20260421T140531
CREATED:20190515T221508Z
LAST-MODIFIED:20190515T221508Z
UID:12904-1558272600-1558281600@elkinsrandolphwv.com
SUMMARY:Divine Feminine Activation
DESCRIPTION:May’s offering for the monthly DFA series for women. \nThis month’s session includes a movement practice\, journaling\, group talk\, lecture\, guided meditation all designed to shake loose and soothe the nervous system as we go deep into the important topics of food\, body image\, ways in which we limit ourselves and our health. \nThe session lasts 2 hours and you may want to allow an additional 1/2 hour to socialize and join the group for tea after.
URL:https://elkinsrandolphwv.com/event/divine-feminine-activation/
LOCATION:200 Weese Street\, Elkins\, WV 26241
END:VEVENT
BEGIN:VEVENT
DTSTART;TZID=UTC:20190519T140000
DTEND;TZID=UTC:20190519T160000
DTSTAMP:20260421T140531
CREATED:20190509T183600Z
LAST-MODIFIED:20190509T183600Z
UID:12765-1558274400-1558281600@elkinsrandolphwv.com
SUMMARY:Nature Walk @ Davis and Elkins College
DESCRIPTION:Organized by First United Methodist Church for kids and their families. On Sunday\, May 19th at 2:00 we will be meeting at the nature trail at D&E College. \nKate Reed will lead us on our walk as we enjoy God’s creation together. Trail mix and drinks will be provided at the end of our adventure. For safety all children MUST be accompanied by an adult to participate. Comfortable shoes\, appropriate clothes\, and sunscreen are encouraged.
URL:https://elkinsrandolphwv.com/event/nature-walk-davis-and-elkins-college/
LOCATION:Robert E. Urban Natural Train\, 100 Campus Drive\, Elkins\, WV\, 26241\, United States
ATTACH;FMTTYPE=image/jpeg:https://elkinsrandolphwv.com/wp-content/uploads/2019/05/nature-trail-Robert-E-Urban.jpg
END:VEVENT
BEGIN:VEVENT
DTSTART;TZID=UTC:20190519T170000
DTEND;TZID=UTC:20190519T200000
DTSTAMP:20260421T140531
CREATED:20190508T203845Z
LAST-MODIFIED:20190508T203845Z
UID:12738-1558285200-1558296000@elkinsrandolphwv.com
SUMMARY:Allen Shaw @ Smoke on the Water
DESCRIPTION:Come get barbequed-up\, enjoy live music featured almost every weekend\, and choose a beverage from the full-service bar and largest selection of craft beers in Elkins!
URL:https://elkinsrandolphwv.com/event/allen-shaw-smoke-on-the-water/
LOCATION:Smoke on the Water\, Rt 33 East\, 1455 Allegheny Highway\, Elkins\, WV 26241\, USA\, 1 US Rte 33\, United States
ATTACH;FMTTYPE=image/jpeg:https://elkinsrandolphwv.com/wp-content/uploads/2019/03/29511280_1624413420927078_4924421038033815654_n-e1557334446313.jpg
GEO:38.92145;-79.841852
X-APPLE-STRUCTURED-LOCATION;VALUE=URI;X-ADDRESS=Smoke on the Water Rt 33 East 1455 Allegheny Highway Elkins WV 26241 USA 1 US Rte 33 United States;X-APPLE-RADIUS=500;X-TITLE=1 US Rte 33:geo:-79.841852,38.92145
END:VEVENT
END:VCALENDAR