BEGIN:VCALENDAR
VERSION:2.0
PRODID:-//Elkins-Randolph County Tourism - ECPv6.15.17.1//NONSGML v1.0//EN
CALSCALE:GREGORIAN
METHOD:PUBLISH
X-ORIGINAL-URL:https://elkinsrandolphwv.com
X-WR-CALDESC:Events for Elkins-Randolph County Tourism
REFRESH-INTERVAL;VALUE=DURATION:PT1H
X-Robots-Tag:noindex
X-PUBLISHED-TTL:PT1H
BEGIN:VTIMEZONE
TZID:America/New_York
BEGIN:DAYLIGHT
TZOFFSETFROM:-0500
TZOFFSETTO:-0400
TZNAME:EDT
DTSTART:20180311T070000
END:DAYLIGHT
BEGIN:STANDARD
TZOFFSETFROM:-0400
TZOFFSETTO:-0500
TZNAME:EST
DTSTART:20181104T060000
END:STANDARD
BEGIN:DAYLIGHT
TZOFFSETFROM:-0500
TZOFFSETTO:-0400
TZNAME:EDT
DTSTART:20190310T070000
END:DAYLIGHT
BEGIN:STANDARD
TZOFFSETFROM:-0400
TZOFFSETTO:-0500
TZNAME:EST
DTSTART:20191103T060000
END:STANDARD
BEGIN:DAYLIGHT
TZOFFSETFROM:-0500
TZOFFSETTO:-0400
TZNAME:EDT
DTSTART:20200308T070000
END:DAYLIGHT
BEGIN:STANDARD
TZOFFSETFROM:-0400
TZOFFSETTO:-0500
TZNAME:EST
DTSTART:20201101T060000
END:STANDARD
END:VTIMEZONE
BEGIN:VTIMEZONE
TZID:UTC
BEGIN:STANDARD
TZOFFSETFROM:+0000
TZOFFSETTO:+0000
TZNAME:UTC
DTSTART:20180101T000000
END:STANDARD
END:VTIMEZONE
BEGIN:VEVENT
DTSTART;VALUE=DATE:20190520
DTEND;VALUE=DATE:20190525
DTSTAMP:20260419T204027
CREATED:20190423T072928Z
LAST-MODIFIED:20190507T224752Z
UID:4417-1558317600-1558742399@elkinsrandolphwv.com
SUMMARY:Model A National Tour
DESCRIPTION:
URL:https://elkinsrandolphwv.com/event/model-a-national-tour/
LOCATION:Elkins\, WV 26241\, USA\, United States
GEO:38.92594;-79.84673
END:VEVENT
BEGIN:VEVENT
DTSTART;TZID=America/New_York:20190521T160000
DTEND;TZID=America/New_York:20190521T210000
DTSTAMP:20260419T204027
CREATED:20190502T015020Z
LAST-MODIFIED:20190507T224806Z
UID:10561-1558454400-1558472400@elkinsrandolphwv.com
SUMMARY:Speghetti Night @ Vintage
DESCRIPTION:For nearly FIVE YEARS … when the Elkins\, Randolph County and surrounding areas think ITALIAN DINNER … they think of VINTAGE!!! \n“ITALIAN NIGHT” is always Tuesday night at VINTAGE!!! In addition to our regular menu\, we serve a wonderful variety of mouth-watering\, delightful Italian special features!!! And Tuesday night always features\, our special recipe for a Meat & Cheese Lover’s LASAGNA … this homemade lasagna is layered with Italian sausage\, ground beef\, house-made marinara sauce\, and three cheeses. Served with garlic toast and a small salad!!! YUM!!! \nWhen you want it to be special… think VINTAGE!!! Feel the love!!! \nAt VINTAGE\, we carefully source “West Virginia” products when available to provide YOU the BEST possible ingredients\, at the peak of FRESHNESS!!! VINTAGE … quality first with a big city variety at a small town price … food\, family\, friends and fun!!! \nPlease like us on Facebook at https://www.facebook.com/vintage.elkinswv
URL:https://elkinsrandolphwv.com/event/speghetti-night-vintage-3/
LOCATION:Vintage | Restaurant and Wine Bar\, 25 Randolph Ave\, Elkins\, WV 26241\, USA\, United States
GEO:38.935629;-79.854811
END:VEVENT
BEGIN:VEVENT
DTSTART;TZID=UTC:20190521T161500
DTEND;TZID=UTC:20190521T190000
DTSTAMP:20260419T204027
CREATED:20190429T174934Z
LAST-MODIFIED:20190429T174934Z
UID:9390-1558455300-1558465200@elkinsrandolphwv.com
SUMMARY:Mayor's Intra-City Johnny Keller Track Meet
DESCRIPTION:The Elkins Parks and Recreation Commission is hosting their annual Mayor’s Intra-City Johnny Keller Track Meet. Bring your kindergarten through fifth graders out to join in the fun and compete for the best school attendance prize. Participation is free. Bring your completed registration form with you\, or fill one out when you arrive.
URL:https://elkinsrandolphwv.com/event/mayors-intra-city-johnny-keller-track-meet/
LOCATION:Elkins High School\, 100 Kennedy Dr\, Elkins\, WV 26241\, USA\, 13 Kennedy Dr\, United States
ATTACH;FMTTYPE=image/jpeg:https://elkinsrandolphwv.com/wp-content/uploads/2019/03/seal.jpg
GEO:38.892308;-79.849775
X-APPLE-STRUCTURED-LOCATION;VALUE=URI;X-ADDRESS=Elkins High School 100 Kennedy Dr Elkins WV 26241 USA 13 Kennedy Dr United States;X-APPLE-RADIUS=500;X-TITLE=13 Kennedy Dr:geo:-79.849775,38.892308
END:VEVENT
BEGIN:VEVENT
DTSTART;TZID=America/New_York:20190521T170000
DTEND;TZID=America/New_York:20190521T190000
DTSTAMP:20260419T204027
CREATED:20190423T072937Z
LAST-MODIFIED:20190507T224822Z
UID:4426-1558458000-1558465200@elkinsrandolphwv.com
SUMMARY:Model A National Tour- Ice Cream Social
DESCRIPTION:
URL:https://elkinsrandolphwv.com/event/model-a-national-tour-ice-cream-social/
LOCATION:Elkins Depot Welcome Center\, 315 Railroad Ave\, Elkins\, WV 26241\, USA\, 2 Railroad Ave\, United States
GEO:38.92313;-79.851004
X-APPLE-STRUCTURED-LOCATION;VALUE=URI;X-ADDRESS=Elkins Depot Welcome Center 315 Railroad Ave Elkins WV 26241 USA 2 Railroad Ave United States;X-APPLE-RADIUS=500;X-TITLE=2 Railroad Ave:geo:-79.851004,38.92313
END:VEVENT
BEGIN:VEVENT
DTSTART;TZID=America/New_York:20190521T170000
DTEND;TZID=America/New_York:20190521T200000
DTSTAMP:20260419T204027
CREATED:20190502T015020Z
LAST-MODIFIED:20190507T224822Z
UID:10562-1558458000-1558468800@elkinsrandolphwv.com
SUMMARY:2 for 1 Tuesday's @ Vintage
DESCRIPTION:Ask the server about the featured items of the day!
URL:https://elkinsrandolphwv.com/event/2-for-1-tuesdays-vintage-2/
LOCATION:Vintage | Restaurant and Wine Bar\, 25 Randolph Ave\, Elkins\, WV 26241\, USA\, United States
GEO:38.935629;-79.854811
END:VEVENT
BEGIN:VEVENT
DTSTART;TZID=America/New_York:20190521T180000
DTEND;TZID=America/New_York:20190521T210000
DTSTAMP:20260419T204027
CREATED:20190423T072936Z
LAST-MODIFIED:20190507T224822Z
UID:4425-1558461600-1558472400@elkinsrandolphwv.com
SUMMARY:Bingo Night @ Leading Creek Fire Department
DESCRIPTION:Weekly dinner special around 6pm with Bingo starting at 7pm. Every Tuesday.
URL:https://elkinsrandolphwv.com/event/leading-creek-fire-department-bingo-night-5/
LOCATION:Leading Creek Volunteer Fire Department\, Co Rte 7\, Montrose\, WV 26283\, USA\, 32 Leading Creek Rd\, United States
GEO:39.003619;-79.844368
X-APPLE-STRUCTURED-LOCATION;VALUE=URI;X-ADDRESS=Leading Creek Volunteer Fire Department Co Rte 7 Montrose WV 26283 USA 32 Leading Creek Rd United States;X-APPLE-RADIUS=500;X-TITLE=32 Leading Creek Rd:geo:-79.844368,39.003619
END:VEVENT
END:VCALENDAR