BEGIN:VCALENDAR
VERSION:2.0
PRODID:-//Elkins-Randolph County Tourism - ECPv6.15.20//NONSGML v1.0//EN
CALSCALE:GREGORIAN
METHOD:PUBLISH
X-ORIGINAL-URL:https://elkinsrandolphwv.com
X-WR-CALDESC:Events for Elkins-Randolph County Tourism
REFRESH-INTERVAL;VALUE=DURATION:PT1H
X-Robots-Tag:noindex
X-PUBLISHED-TTL:PT1H
BEGIN:VTIMEZONE
TZID:UTC
BEGIN:STANDARD
TZOFFSETFROM:+0000
TZOFFSETTO:+0000
TZNAME:UTC
DTSTART:20200101T000000
END:STANDARD
END:VTIMEZONE
BEGIN:VEVENT
DTSTART;VALUE=DATE:20211002
DTEND;VALUE=DATE:20211012
DTSTAMP:20260425T143315
CREATED:20210329T222216Z
LAST-MODIFIED:20210329T222216Z
UID:22917-1633140000-1633917599@elkinsrandolphwv.com
SUMMARY:Mountain State Forest Festival
DESCRIPTION:The Mountain State Forest Festival is one of the largest and oldest festivals in West Virginia originating in 1930. The festival has continued to promote the beauty and splendor of our mountains and valleys in all their autumn glory and promoting prudent development\, conservation and culture of our abundant natural resources for the future. \nThe events have increased so much over the years that now instead of having a three or four day festival; it lasts for over a week. Some events that are held are Opening\, Closing Ceremony\, Grand feature parade\, Children’s Parade\, ATV Race\, Carnival\, Coronation of Queen Silvia\, Distinguished Guest Dinner\, Queen’s Ball\, ATV Race\, Lumberjack Competition and many more. All together there are over 100 events included in the Mountain State Forest Festival.
URL:https://elkinsrandolphwv.com/event/mountain-state-forest-festival-3/
LOCATION:Downtown Elkins\, Davis Avenue\, Elkins\, WV\, 26241\, United States\, 101 Davis St\, United States
CATEGORIES:Entertainment
ATTACH;FMTTYPE=image/png:https://elkinsrandolphwv.com/wp-content/uploads/2019/08/MSFF.png
GEO:38.92227;-79.845372
X-APPLE-STRUCTURED-LOCATION;VALUE=URI;X-ADDRESS=Downtown Elkins Davis Avenue Elkins WV 26241 United States 101 Davis St United States;X-APPLE-RADIUS=500;X-TITLE=101 Davis St:geo:-79.845372,38.92227
END:VEVENT
END:VCALENDAR