BEGIN:VCALENDAR
VERSION:2.0
PRODID:-//Elkins-Randolph County Tourism - ECPv6.15.20//NONSGML v1.0//EN
CALSCALE:GREGORIAN
METHOD:PUBLISH
X-ORIGINAL-URL:https://elkinsrandolphwv.com
X-WR-CALDESC:Events for Elkins-Randolph County Tourism
REFRESH-INTERVAL;VALUE=DURATION:PT1H
X-Robots-Tag:noindex
X-PUBLISHED-TTL:PT1H
BEGIN:VTIMEZONE
TZID:UTC
BEGIN:STANDARD
TZOFFSETFROM:+0000
TZOFFSETTO:+0000
TZNAME:UTC
DTSTART:20200101T000000
END:STANDARD
END:VTIMEZONE
BEGIN:VEVENT
DTSTART;TZID=UTC:20211030T093000
DTEND;TZID=UTC:20211030T163000
DTSTAMP:20260426T000714
CREATED:20211021T175114Z
LAST-MODIFIED:20211021T175114Z
UID:24924-1635586200-1635611400@elkinsrandolphwv.com
SUMMARY:FREE Admission Day @ The West Virginia Railroad Museum
DESCRIPTION:Don’t miss the last day of the exhibit 20-20 Visions: 100 Years of West Virginia Railroading at the West Virginia Railroad Museum. It’s a free admission day before the museum closes for the season and work starts on the new exhibit.
URL:https://elkinsrandolphwv.com/event/free-admission-day-the-west-virginia-railroad-museum/
LOCATION:West Virginia Railroad Museum\, 2 Railroad Ave\, Elkins\, WV 26241\, USA\, 2 Railroad Ave\, United States
CATEGORIES:Educational,Entertainment,Kids & Family
ATTACH;FMTTYPE=image/jpeg:https://elkinsrandolphwv.com/wp-content/uploads/2019/10/Exterior-of-AFHA-Railroad-Museum.jpg
GEO:38.92313;-79.851004
X-APPLE-STRUCTURED-LOCATION;VALUE=URI;X-ADDRESS=West Virginia Railroad Museum 2 Railroad Ave Elkins WV 26241 USA 2 Railroad Ave United States;X-APPLE-RADIUS=500;X-TITLE=2 Railroad Ave:geo:-79.851004,38.92313
END:VEVENT
BEGIN:VEVENT
DTSTART;TZID=UTC:20211030T130000
DTEND;TZID=UTC:20211030T160000
DTSTAMP:20260426T000714
CREATED:20211021T174743Z
LAST-MODIFIED:20211021T174743Z
UID:24923-1635598800-1635609600@elkinsrandolphwv.com
SUMMARY:Disc Golf @ Davis & Elkins College
DESCRIPTION:Sponsored by Elkins Parks and Recreation and Davis & Elkins College \nTry something new! Open to all ages\, equipment provided.
URL:https://elkinsrandolphwv.com/event/disc-golf-davis-elkins-college/
LOCATION:Davis & Elkins College\, 100 Campus Dr\, Elkins\, WV 26241\, USA – Harper McNeeley Auditorium\, United States
CATEGORIES:Community,Entertainment,Kids & Family,Sports & Recreations
ATTACH;FMTTYPE=image/jpeg:https://elkinsrandolphwv.com/wp-content/uploads/2019/03/1916779_232589465984_856477_n.jpg
GEO:38.921503;-79.844583
END:VEVENT
END:VCALENDAR