BEGIN:VCALENDAR
VERSION:2.0
PRODID:-//Elkins-Randolph County Tourism - ECPv6.15.20//NONSGML v1.0//EN
CALSCALE:GREGORIAN
METHOD:PUBLISH
X-WR-CALNAME:Elkins-Randolph County Tourism
X-ORIGINAL-URL:https://elkinsrandolphwv.com
X-WR-CALDESC:Events for Elkins-Randolph County Tourism
REFRESH-INTERVAL;VALUE=DURATION:PT1H
X-Robots-Tag:noindex
X-PUBLISHED-TTL:PT1H
BEGIN:VTIMEZONE
TZID:UTC
BEGIN:STANDARD
TZOFFSETFROM:+0000
TZOFFSETTO:+0000
TZNAME:UTC
DTSTART:20200101T000000
END:STANDARD
END:VTIMEZONE
BEGIN:VEVENT
DTSTART;TZID=UTC:20211231T190000
DTEND;TZID=UTC:20211231T190000
DTSTAMP:20260423T131828
CREATED:20210428T160539Z
LAST-MODIFIED:20210428T160539Z
UID:23357-1640977200-1640977200@elkinsrandolphwv.com
SUMMARY:Rock n' Roll New Years Eve Celebration @ Gandy Dancer Dinner Theatre
DESCRIPTION:Dinner from 7 – 8 pm \nDinner includes a carving station of ham and turkey with a plated meal of chicken cordon bleu\, baked potato\, green beans\, side salad\, dinner roll and cake \n8 – 10 pm \nELVIS” takes the stage for two hours of dancing to your favorites \n10 – 11 pm \nELVIS” returns for more dancing and fun followed by a non-alcoholic toast at midnight!
URL:https://elkinsrandolphwv.com/event/rock-n-roll-new-years-eve-celebration-gandy-dancer-dinner-theatre/
LOCATION:Gandy Dancer Theatre and Conference Center\, 359 Beverly Pike\, Elkins\, WV 26241\, USA\, United States
CATEGORIES:Entertainment,Food & Drink,Music
ATTACH;FMTTYPE=image/jpeg:https://elkinsrandolphwv.com/wp-content/uploads/2019/03/Gandy-Logo-1-480x335-e1727185281650.jpg
GEO:38.918641;-79.842607
END:VEVENT
BEGIN:VEVENT
DTSTART;TZID=UTC:20211231T220000
DTEND;TZID=UTC:20211231T220000
DTSTAMP:20260423T131828
CREATED:20211207T201316Z
LAST-MODIFIED:20211207T201316Z
UID:25036-1640988000-1640988000@elkinsrandolphwv.com
SUMMARY:New Years Eve Dance Party @ Bar One
DESCRIPTION:Your favorite local funk band back to bring you that deep funk you’ve been needing to ring in the new year!
URL:https://elkinsrandolphwv.com/event/new-years-eve-dance-party-bar-one/
LOCATION:Bar One\, 122 Davis Avenue\, Elkins\, WV\, 26241\, United States
ATTACH;FMTTYPE=image/jpeg:https://elkinsrandolphwv.com/wp-content/uploads/2020/12/bar-one-logo.jpg
END:VEVENT
END:VCALENDAR