BEGIN:VCALENDAR
VERSION:2.0
PRODID:-//Elkins-Randolph County Tourism - ECPv6.15.20//NONSGML v1.0//EN
CALSCALE:GREGORIAN
METHOD:PUBLISH
X-ORIGINAL-URL:https://elkinsrandolphwv.com
X-WR-CALDESC:Events for Elkins-Randolph County Tourism
REFRESH-INTERVAL;VALUE=DURATION:PT1H
X-Robots-Tag:noindex
X-PUBLISHED-TTL:PT1H
BEGIN:VTIMEZONE
TZID:UTC
BEGIN:STANDARD
TZOFFSETFROM:+0000
TZOFFSETTO:+0000
TZNAME:UTC
DTSTART:20210101T000000
END:STANDARD
END:VTIMEZONE
BEGIN:VEVENT
DTSTART;TZID=UTC:20220304T160000
DTEND;TZID=UTC:20220304T180000
DTSTAMP:20260423T072446
CREATED:20220304T005551Z
LAST-MODIFIED:20220304T005551Z
UID:25383-1646409600-1646416800@elkinsrandolphwv.com
SUMMARY:After School Art Student Exhibit Reception @ The Arts Center
DESCRIPTION:The After School Art program\, reflects on art they created this year after school. Art ranges from painting\, drawing\, pottery and more. This program supplements the school experience. Art instructors Dani Cade\, Macie Higgins and Katie Driver. \nExhibiting in conjunction with Student Art Show in Randolph County. \nCelebrate Youth Art Month with art students in Randolph County! Youth Art Month is a celebration of the visual arts. The National Art Education Association recognizes art as a necessity during the developmental years with direct attention to the value of art education. The Arts Center is committed to encouraging arts awareness to our community organizations\, and businesses in hopes to increase community understanding and interests in the arts through art education\, art exhibits\, workshops\, and other creative adventures. The Arts Center does just that with our Student Exhibition!
URL:https://elkinsrandolphwv.com/event/after-school-art-student-exhibit-reception-the-arts-center/
LOCATION:The Arts Center\, aka Randolph Co. Community Arts Council\, 2 Park St\, Elkins\, WV\, 26241\, United States
CATEGORIES:Art & Culture,Community
ATTACH;FMTTYPE=image/png:https://elkinsrandolphwv.com/wp-content/uploads/2019/03/the-arts-center-e1726534520618.png
GEO:38.924095;-79.850318
X-APPLE-STRUCTURED-LOCATION;VALUE=URI;X-ADDRESS=The Arts Center aka Randolph Co. Community Arts Council 2 Park St Elkins WV 26241 United States;X-APPLE-RADIUS=500;X-TITLE=2 Park St:geo:-79.850318,38.924095
END:VEVENT
BEGIN:VEVENT
DTSTART;TZID=UTC:20220304T210000
DTEND;TZID=UTC:20220304T210000
DTSTAMP:20260423T072446
CREATED:20220304T003004Z
LAST-MODIFIED:20220304T003004Z
UID:25262-1646427600-1646427600@elkinsrandolphwv.com
SUMMARY:Crosstown Traffic @ El Gran Sabor
DESCRIPTION:
URL:https://elkinsrandolphwv.com/event/crosstown-traffic-el-gran-sabor-4/
LOCATION:El Gran Sabor\, 413 Kerens Ave\, Elkins\, WV 26241\, USA\, 155 Kerens Ave\, United States
CATEGORIES:Food & Drink,Music
ATTACH;FMTTYPE=image/png:https://elkinsrandolphwv.com/wp-content/uploads/2019/05/elgransabor-06-e1517894257221.png
GEO:38.92349;-79.848286
X-APPLE-STRUCTURED-LOCATION;VALUE=URI;X-ADDRESS=El Gran Sabor 413 Kerens Ave Elkins WV 26241 USA 155 Kerens Ave United States;X-APPLE-RADIUS=500;X-TITLE=155 Kerens Ave:geo:-79.848286,38.92349
END:VEVENT
END:VCALENDAR