BEGIN:VCALENDAR
VERSION:2.0
PRODID:-//Elkins-Randolph County Tourism - ECPv6.15.17.1//NONSGML v1.0//EN
CALSCALE:GREGORIAN
METHOD:PUBLISH
X-ORIGINAL-URL:https://elkinsrandolphwv.com
X-WR-CALDESC:Events for Elkins-Randolph County Tourism
REFRESH-INTERVAL;VALUE=DURATION:PT1H
X-Robots-Tag:noindex
X-PUBLISHED-TTL:PT1H
BEGIN:VTIMEZONE
TZID:America/New_York
BEGIN:DAYLIGHT
TZOFFSETFROM:-0500
TZOFFSETTO:-0400
TZNAME:EDT
DTSTART:20210314T070000
END:DAYLIGHT
BEGIN:STANDARD
TZOFFSETFROM:-0400
TZOFFSETTO:-0500
TZNAME:EST
DTSTART:20211107T060000
END:STANDARD
BEGIN:DAYLIGHT
TZOFFSETFROM:-0500
TZOFFSETTO:-0400
TZNAME:EDT
DTSTART:20220313T070000
END:DAYLIGHT
BEGIN:STANDARD
TZOFFSETFROM:-0400
TZOFFSETTO:-0500
TZNAME:EST
DTSTART:20221106T060000
END:STANDARD
BEGIN:DAYLIGHT
TZOFFSETFROM:-0500
TZOFFSETTO:-0400
TZNAME:EDT
DTSTART:20230312T070000
END:DAYLIGHT
BEGIN:STANDARD
TZOFFSETFROM:-0400
TZOFFSETTO:-0500
TZNAME:EST
DTSTART:20231105T060000
END:STANDARD
END:VTIMEZONE
BEGIN:VTIMEZONE
TZID:UTC
BEGIN:STANDARD
TZOFFSETFROM:+0000
TZOFFSETTO:+0000
TZNAME:UTC
DTSTART:20210101T000000
END:STANDARD
END:VTIMEZONE
BEGIN:VEVENT
DTSTART;TZID=America/New_York:20220305T110000
DTEND;TZID=America/New_York:20220305T180000
DTSTAMP:20260420T034531
CREATED:20220202T220416Z
LAST-MODIFIED:20220202T220416Z
UID:25086-1646478000-1646503200@elkinsrandolphwv.com
SUMMARY:Rifle Rally @ Phil Gainer Community Center
DESCRIPTION:The annual Rifle Rally hosted by Rich Mountain Battlefield Foundation and Tygart Valley Lions Club returns in person on March 5 at the Phil Gainer Community Center. Doors open at 11 a.m. with prize drawings beginning at noon and the grand prize drawing at 6 p.m. Admission includes complimentary all-you-can-eat food and refreshments including the famous Lions Club pork tenderloin and beef\, plus access to additional raffles and special drawings throughout the day. Tickets are available online at www.tygartcommunity.com\, from any Tygart Valley Lions Club member\, or at the Beverly Heritage Center.
URL:https://elkinsrandolphwv.com/event/rifle-rally-phil-gainer-community-center-2/
LOCATION:Phil Gainer Community Center\, 142 Robert E Lee Ave Ext\, Elkins\, WV 26241\, USA\, 149 Robert E Lee Ave Exd\, United States
ATTACH;FMTTYPE=image/png:https://elkinsrandolphwv.com/wp-content/uploads/2021/05/Rich-Mountain-Logo-2.png
ORGANIZER;CN="Beverly Heritage Center":MAILTO:info@beverlyheritagecenter.org
GEO:38.925764;-79.864059
X-APPLE-STRUCTURED-LOCATION;VALUE=URI;X-ADDRESS=Phil Gainer Community Center 142 Robert E Lee Ave Ext Elkins WV 26241 USA 149 Robert E Lee Ave Exd United States;X-APPLE-RADIUS=500;X-TITLE=149 Robert E Lee Ave Exd:geo:-79.864059,38.925764
END:VEVENT
BEGIN:VEVENT
DTSTART;TZID=UTC:20220305T140000
DTEND;TZID=UTC:20220305T170000
DTSTAMP:20260420T034531
CREATED:20220222T190354Z
LAST-MODIFIED:20220222T190354Z
UID:25234-1646488800-1646499600@elkinsrandolphwv.com
SUMMARY:Sprout into Spring @ Downtown Elkins
DESCRIPTION:
URL:https://elkinsrandolphwv.com/event/sprout-into-spring-downtown-elkins/2022-03-05/
CATEGORIES:Community
ATTACH;FMTTYPE=image/jpeg:https://elkinsrandolphwv.com/wp-content/uploads/2021/03/our-town-logo.jpg
END:VEVENT
END:VCALENDAR