BEGIN:VCALENDAR
VERSION:2.0
PRODID:-//Elkins-Randolph County Tourism - ECPv6.15.20//NONSGML v1.0//EN
CALSCALE:GREGORIAN
METHOD:PUBLISH
X-WR-CALNAME:Elkins-Randolph County Tourism
X-ORIGINAL-URL:https://elkinsrandolphwv.com
X-WR-CALDESC:Events for Elkins-Randolph County Tourism
REFRESH-INTERVAL;VALUE=DURATION:PT1H
X-Robots-Tag:noindex
X-PUBLISHED-TTL:PT1H
BEGIN:VTIMEZONE
TZID:America/New_York
BEGIN:DAYLIGHT
TZOFFSETFROM:-0500
TZOFFSETTO:-0400
TZNAME:EDT
DTSTART:20210314T070000
END:DAYLIGHT
BEGIN:STANDARD
TZOFFSETFROM:-0400
TZOFFSETTO:-0500
TZNAME:EST
DTSTART:20211107T060000
END:STANDARD
BEGIN:DAYLIGHT
TZOFFSETFROM:-0500
TZOFFSETTO:-0400
TZNAME:EDT
DTSTART:20220313T070000
END:DAYLIGHT
BEGIN:STANDARD
TZOFFSETFROM:-0400
TZOFFSETTO:-0500
TZNAME:EST
DTSTART:20221106T060000
END:STANDARD
BEGIN:DAYLIGHT
TZOFFSETFROM:-0500
TZOFFSETTO:-0400
TZNAME:EDT
DTSTART:20230312T070000
END:DAYLIGHT
BEGIN:STANDARD
TZOFFSETFROM:-0400
TZOFFSETTO:-0500
TZNAME:EST
DTSTART:20231105T060000
END:STANDARD
END:VTIMEZONE
BEGIN:VEVENT
DTSTART;TZID=America/New_York:20220312T110000
DTEND;TZID=America/New_York:20220312T163000
DTSTAMP:20260422T134907
CREATED:20220225T000421Z
LAST-MODIFIED:20220225T000421Z
UID:25251-1647082800-1647102600@elkinsrandolphwv.com
SUMMARY:Grand Opening @ Beverly Heritage Library
DESCRIPTION:The Beverly Heritage Branch of the Elkins-Randolph County Public Library will open for service on Tuesday\, March 1st with a Grand Opening event to follow on Saturday\, March 12th.\nThe new Beverly Heritage Library will be open to the public from 10:30-4:30 Wednesdays\, Thursdays\, and Fridays.\nA Grand Opening event will take place on Saturday\, March 12th at 11:00am with a ribbon-cutting ceremony followed by light refreshments.\nThe Library is located in the Beverly Heritage Center\, on the second floor of the former Randolph County Courthouse built in 1808.\nFor more info about the Beverly Heritage Branch call 304-635-7674 or visit https://elkinslibrary.com/beverly-heritage-branch.
URL:https://elkinsrandolphwv.com/event/grand-opening-beverly-heritage-library/
LOCATION:Beverly Heritage Center\, 4 Court Street\, Beverly\, WV\, 26253\, United States
ATTACH;FMTTYPE=image/jpeg:https://elkinsrandolphwv.com/wp-content/uploads/2022/02/beverly-heritage-branch.jpg
GEO:38.8405774458;-79.8751789914
X-APPLE-STRUCTURED-LOCATION;VALUE=URI;X-ADDRESS=Beverly Heritage Center 4 Court Street Beverly WV 26253 United States;X-APPLE-RADIUS=500;X-TITLE=4 Court Street:geo:-79.8751789914,38.8405774458
END:VEVENT
END:VCALENDAR