BEGIN:VCALENDAR
VERSION:2.0
PRODID:-//Elkins-Randolph County Tourism - ECPv6.15.20//NONSGML v1.0//EN
CALSCALE:GREGORIAN
METHOD:PUBLISH
X-WR-CALNAME:Elkins-Randolph County Tourism
X-ORIGINAL-URL:https://elkinsrandolphwv.com
X-WR-CALDESC:Events for Elkins-Randolph County Tourism
REFRESH-INTERVAL;VALUE=DURATION:PT1H
X-Robots-Tag:noindex
X-PUBLISHED-TTL:PT1H
BEGIN:VTIMEZONE
TZID:UTC
BEGIN:STANDARD
TZOFFSETFROM:+0000
TZOFFSETTO:+0000
TZNAME:UTC
DTSTART:20210101T000000
END:STANDARD
END:VTIMEZONE
BEGIN:VEVENT
DTSTART;VALUE=DATE:20220314
DTEND;VALUE=DATE:20220316
DTSTAMP:20260423T150948
CREATED:20220313T183839Z
LAST-MODIFIED:20220313T183839Z
UID:25507-1647223200-1647309599@elkinsrandolphwv.com
SUMMARY:GFWC Women's Club of Elkins Online Live Auction
DESCRIPTION:
URL:https://elkinsrandolphwv.com/event/gfwc-womens-club-of-elkins-online-live-auction/2022-03-14/
CATEGORIES:Community
END:VEVENT
END:VCALENDAR