BEGIN:VCALENDAR
VERSION:2.0
PRODID:-//Elkins-Randolph County Tourism - ECPv6.15.20//NONSGML v1.0//EN
CALSCALE:GREGORIAN
METHOD:PUBLISH
X-WR-CALNAME:Elkins-Randolph County Tourism
X-ORIGINAL-URL:https://elkinsrandolphwv.com
X-WR-CALDESC:Events for Elkins-Randolph County Tourism
REFRESH-INTERVAL;VALUE=DURATION:PT1H
X-Robots-Tag:noindex
X-PUBLISHED-TTL:PT1H
BEGIN:VTIMEZONE
TZID:UTC
BEGIN:STANDARD
TZOFFSETFROM:+0000
TZOFFSETTO:+0000
TZNAME:UTC
DTSTART:20210101T000000
END:STANDARD
END:VTIMEZONE
BEGIN:VEVENT
DTSTART;TZID=UTC:20220324T080000
DTEND;TZID=UTC:20220324T170000
DTSTAMP:20260424T002249
CREATED:20220202T214929Z
LAST-MODIFIED:20220202T215339Z
UID:25077-1648108800-1648141200@elkinsrandolphwv.com
SUMMARY:E3 Expo @ Phil Gainer Community Center
DESCRIPTION:The Elkins Entrepreneurs Expo 2022 scheduled for March 24th is an effective event if you are planning to start\, expand/enhance\, or relocate your business. This inaugural event will draw the large quality\, business\, and professional network of the Elkins-Randolph County Chamber\, Elkins Main Street\, and the Randolph County Development Authority. The E3 Expo will attract guests from the entire region and beyond. This once in a year event is your opportunity to discover why Randolph County is now the best place to start\, locate\, and expand/enhance your business. Join in one of the many roundtable discussions\, one-on-one conversations\, and workshops with industry leaders\, business coaches\, and local lenders.
URL:https://elkinsrandolphwv.com/event/e3-expo-phil-gainer-community-center/
LOCATION:Phil Gainer Community Center\, 142 Robert E Lee Ave Ext\, Elkins\, WV 26241\, USA\, 149 Robert E Lee Ave Exd\, United States
CATEGORIES:Community,Conferences,Educational
ATTACH;FMTTYPE=image/jpeg:https://elkinsrandolphwv.com/wp-content/uploads/2019/03/ERCCC_Logo_Stacked-01-e1561493887892.jpg
ORGANIZER;CN="Elkins-Randolph County Chamber of Commerce":MAILTO:chamber@erccc.com
GEO:38.925764;-79.864059
X-APPLE-STRUCTURED-LOCATION;VALUE=URI;X-ADDRESS=Phil Gainer Community Center 142 Robert E Lee Ave Ext Elkins WV 26241 USA 149 Robert E Lee Ave Exd United States;X-APPLE-RADIUS=500;X-TITLE=149 Robert E Lee Ave Exd:geo:-79.864059,38.925764
END:VEVENT
BEGIN:VEVENT
DTSTART;TZID=UTC:20220324T190000
DTEND;TZID=UTC:20220324T190000
DTSTAMP:20260424T002249
CREATED:20220204T211319Z
LAST-MODIFIED:20220204T211319Z
UID:25220-1648148400-1648148400@elkinsrandolphwv.com
SUMMARY:Open Lecture @ Davis & Elkins College
DESCRIPTION:Lecture “Refuge for All? Reflections from Recent American Arrivals”  \n7 p.m. March 24 Myles Center for the Arts\, Davis & Elkins College campus.  \nSponsored by the Morrison-Novakovic Center for Faith and Public Policy.  \nFree admission.
URL:https://elkinsrandolphwv.com/event/open-lecture-davis-elkins-college-3/
LOCATION:Myles Center for the Arts\, 100 Campus Drive\, Elkins\, WV\, 26241\, United States
CATEGORIES:Community,Davis & Elkins College,Educational
ATTACH;FMTTYPE=image/jpeg:https://elkinsrandolphwv.com/wp-content/uploads/2019/03/1916779_232589465984_856477_n.jpg
END:VEVENT
END:VCALENDAR