BEGIN:VCALENDAR
VERSION:2.0
PRODID:-//Elkins-Randolph County Tourism - ECPv6.15.20//NONSGML v1.0//EN
CALSCALE:GREGORIAN
METHOD:PUBLISH
X-ORIGINAL-URL:https://elkinsrandolphwv.com
X-WR-CALDESC:Events for Elkins-Randolph County Tourism
REFRESH-INTERVAL;VALUE=DURATION:PT1H
X-Robots-Tag:noindex
X-PUBLISHED-TTL:PT1H
BEGIN:VTIMEZONE
TZID:UTC
BEGIN:STANDARD
TZOFFSETFROM:+0000
TZOFFSETTO:+0000
TZNAME:UTC
DTSTART:20210101T000000
END:STANDARD
END:VTIMEZONE
BEGIN:VEVENT
DTSTART;TZID=UTC:20220325T160000
DTEND;TZID=UTC:20220325T190000
DTSTAMP:20260422T175230
CREATED:20220313T182330Z
LAST-MODIFIED:20220313T182635Z
UID:25501-1648224000-1648234800@elkinsrandolphwv.com
SUMMARY:Live Music by Kristin Federer @ DiBella's Bar & Grill
DESCRIPTION:
URL:https://elkinsrandolphwv.com/event/live-music-by-kristin-federer-dibellas-bar-grill/
LOCATION:DiBella’s 3rd Street Bar n Grill\, 305 3rd Street\, Elkins\, WV\, 26241\, United States
CATEGORIES:Music
ATTACH;FMTTYPE=image/jpeg:https://elkinsrandolphwv.com/wp-content/uploads/2020/01/dibellas-logo.jpg
END:VEVENT
END:VCALENDAR