BEGIN:VCALENDAR
VERSION:2.0
PRODID:-//Elkins-Randolph County Tourism - ECPv6.15.20//NONSGML v1.0//EN
CALSCALE:GREGORIAN
METHOD:PUBLISH
X-WR-CALNAME:Elkins-Randolph County Tourism
X-ORIGINAL-URL:https://elkinsrandolphwv.com
X-WR-CALDESC:Events for Elkins-Randolph County Tourism
REFRESH-INTERVAL;VALUE=DURATION:PT1H
X-Robots-Tag:noindex
X-PUBLISHED-TTL:PT1H
BEGIN:VTIMEZONE
TZID:UTC
BEGIN:STANDARD
TZOFFSETFROM:+0000
TZOFFSETTO:+0000
TZNAME:UTC
DTSTART:20210101T000000
END:STANDARD
END:VTIMEZONE
BEGIN:VEVENT
DTSTART;TZID=UTC:20220407T110000
DTEND;TZID=UTC:20220407T110000
DTSTAMP:20260422T194042
CREATED:20220401T181611Z
LAST-MODIFIED:20220401T181611Z
UID:25590-1649329200-1649329200@elkinsrandolphwv.com
SUMMARY:Myles Center for the Arts Dedication @ Davis & Elkins College
DESCRIPTION:
URL:https://elkinsrandolphwv.com/event/myles-center-for-the-arts-dedication-davis-elkins-college/
LOCATION:Myles Center for the Arts\, 100 Campus Drive\, Elkins\, WV\, 26241\, United States
CATEGORIES:Davis & Elkins College
ATTACH;FMTTYPE=image/jpeg:https://elkinsrandolphwv.com/wp-content/uploads/2019/03/1916779_232589465984_856477_n.jpg
END:VEVENT
BEGIN:VEVENT
DTSTART;TZID=UTC:20220407T190000
DTEND;TZID=UTC:20220407T190000
DTSTAMP:20260422T194042
CREATED:20220204T211425Z
LAST-MODIFIED:20220204T211425Z
UID:25221-1649358000-1649358000@elkinsrandolphwv.com
SUMMARY:Open Lecture @ Davis & Elkins College
DESCRIPTION:Lecture “Freedom OF or FROM Religion?”  \n7 p.m. April 7 Myles Center for the Arts\, Davis & Elkins College campus.  \nSponsored by the Morrison-Novakovic Center for Faith and Public Policy.  \nFree admission.
URL:https://elkinsrandolphwv.com/event/open-lecture-davis-elkins-college-4/
LOCATION:Myles Center for the Arts\, 100 Campus Drive\, Elkins\, WV\, 26241\, United States
CATEGORIES:Community,Davis & Elkins College,Educational
ATTACH;FMTTYPE=image/jpeg:https://elkinsrandolphwv.com/wp-content/uploads/2019/03/1916779_232589465984_856477_n.jpg
END:VEVENT
BEGIN:VEVENT
DTSTART;TZID=UTC:20220407T190000
DTEND;TZID=UTC:20220407T220000
DTSTAMP:20260422T194042
CREATED:20220313T182501Z
LAST-MODIFIED:20220313T182544Z
UID:25503-1649358000-1649368800@elkinsrandolphwv.com
SUMMARY:Live Music by Kristin Federer @ Whiskey River Grill
DESCRIPTION:
URL:https://elkinsrandolphwv.com/event/live-music-by-kristin-federer-whiskey-river-grill/
LOCATION:Whiskey River Grill\, 171 River Circle Drive\, Bowden\, WV 26254\, USA\, 200 River Dr\, United States
CATEGORIES:Food & Drink,Music
ATTACH;FMTTYPE=image/png:https://elkinsrandolphwv.com/wp-content/uploads/2019/03/Whiskey-River-Grill.png
GEO:38.474184;-80.412527
X-APPLE-STRUCTURED-LOCATION;VALUE=URI;X-ADDRESS=Whiskey River Grill 171 River Circle Drive Bowden WV 26254 USA 200 River Dr United States;X-APPLE-RADIUS=500;X-TITLE=200 River Dr:geo:-80.412527,38.474184
END:VEVENT
END:VCALENDAR