BEGIN:VCALENDAR
VERSION:2.0
PRODID:-//Elkins-Randolph County Tourism - ECPv6.15.20//NONSGML v1.0//EN
CALSCALE:GREGORIAN
METHOD:PUBLISH
X-ORIGINAL-URL:https://elkinsrandolphwv.com
X-WR-CALDESC:Events for Elkins-Randolph County Tourism
REFRESH-INTERVAL;VALUE=DURATION:PT1H
X-Robots-Tag:noindex
X-PUBLISHED-TTL:PT1H
BEGIN:VTIMEZONE
TZID:UTC
BEGIN:STANDARD
TZOFFSETFROM:+0000
TZOFFSETTO:+0000
TZNAME:UTC
DTSTART:20210101T000000
END:STANDARD
END:VTIMEZONE
BEGIN:VEVENT
DTSTART;TZID=UTC:20220413T190000
DTEND;TZID=UTC:20220413T190000
DTSTAMP:20260422T193220
CREATED:20220406T184600Z
LAST-MODIFIED:20220406T184600Z
UID:25626-1649876400-1649876400@elkinsrandolphwv.com
SUMMARY:History of WV's Coyotes & Wolves @ WV DNR Operations Center
DESCRIPTION:Dr. Ed Michael will discuss the history of these closely related carnivores and provide forecasts for their future in West Virginia. A professor of wildlife ecology and West Virginia University from 1970 to 2000\, Dr. Michael has published two novels focused on these large canines. The will be available for purchase at the event. \nYou are invited to a public presentation to learn about coyotes and wolves and the WV Master Naturalist Certification Program. If you want to learn about and share your knowledge of West Virginia’s flora\, fauna and unique habitats with other\, then the Master Naturalist Program may be for you! \n738 Ward Rd\, Elkins\, WV 26241 \nTygart Valley Chapter Spring Classes forming now! \nKay Hart\, Coordinator: kayhart24@gmail.com
URL:https://elkinsrandolphwv.com/event/history-of-wvs-coyotes-wolves-wv-dnr-operations-center/
CATEGORIES:Community,Educational
END:VEVENT
BEGIN:VEVENT
DTSTART;TZID=UTC:20220413T193000
DTEND;TZID=UTC:20220413T193000
DTSTAMP:20260422T193220
CREATED:20220407T212933Z
LAST-MODIFIED:20220407T212933Z
UID:25627-1649878200-1649878200@elkinsrandolphwv.com
SUMMARY:Jesse Milnes Band @ Big Timber Brewing Taproom
DESCRIPTION:Every Wednesday night at 7:30pm until the end of May!
URL:https://elkinsrandolphwv.com/event/jesse-milnes-band-big-timber-brewing-taproom/2022-04-13/
LOCATION:Big Timber Brewing\, 2 Davis Avenue\, Elkins\, WV\, 26241\, United States
CATEGORIES:Music
ATTACH;FMTTYPE=image/jpeg:https://elkinsrandolphwv.com/wp-content/uploads/2019/03/big-timber-1-e1725543945387.jpg
END:VEVENT
END:VCALENDAR