BEGIN:VCALENDAR
VERSION:2.0
PRODID:-//Elkins-Randolph County Tourism - ECPv6.15.17.1//NONSGML v1.0//EN
CALSCALE:GREGORIAN
METHOD:PUBLISH
X-ORIGINAL-URL:https://elkinsrandolphwv.com
X-WR-CALDESC:Events for Elkins-Randolph County Tourism
REFRESH-INTERVAL;VALUE=DURATION:PT1H
X-Robots-Tag:noindex
X-PUBLISHED-TTL:PT1H
BEGIN:VTIMEZONE
TZID:UTC
BEGIN:STANDARD
TZOFFSETFROM:+0000
TZOFFSETTO:+0000
TZNAME:UTC
DTSTART:20210101T000000
END:STANDARD
END:VTIMEZONE
BEGIN:VEVENT
DTSTART;TZID=UTC:20220415T103000
DTEND;TZID=UTC:20220415T103000
DTSTAMP:20260420T020716
CREATED:20220401T194606Z
LAST-MODIFIED:20220401T194606Z
UID:25599-1650018600-1650018600@elkinsrandolphwv.com
SUMMARY:Easter Egg Hunt @ Beverly Library
DESCRIPTION:April 15th Elkins-Randolph County Library will be hosting an Easter Egg Hunt at the Beverly branch.
URL:https://elkinsrandolphwv.com/event/easter-egg-hunt-beverly-library/
LOCATION:Beverly Heritage Center\, 4 Court Street\, Beverly\, WV\, 26253\, United States
CATEGORIES:Community,Kids & Family
ATTACH;FMTTYPE=image/png:https://elkinsrandolphwv.com/wp-content/uploads/2019/05/elkins-randolph-county-public-library.png
GEO:38.8405774458;-79.8751789914
X-APPLE-STRUCTURED-LOCATION;VALUE=URI;X-ADDRESS=Beverly Heritage Center 4 Court Street Beverly WV 26253 United States;X-APPLE-RADIUS=500;X-TITLE=4 Court Street:geo:-79.8751789914,38.8405774458
END:VEVENT
BEGIN:VEVENT
DTSTART;TZID=UTC:20220415T200000
DTEND;TZID=UTC:20220415T230000
DTSTAMP:20260420T020716
CREATED:20220401T202830Z
LAST-MODIFIED:20220401T202830Z
UID:25611-1650052800-1650063600@elkinsrandolphwv.com
SUMMARY:Karaoke with Geno Austin @ The American Legion Post 29
DESCRIPTION:No cover charge \nMust be 21 with valid ID
URL:https://elkinsrandolphwv.com/event/karaoke-with-geno-austin-the-american-legion-post-29/
LOCATION:American Legion Post 29\, 326 Railroad Avenue\, Elkins\, WV\, 26241\, United States
CATEGORIES:Music
ATTACH;FMTTYPE=image/png:https://elkinsrandolphwv.com/wp-content/uploads/2019/03/american-legion.png
END:VEVENT
END:VCALENDAR