BEGIN:VCALENDAR
VERSION:2.0
PRODID:-//Elkins-Randolph County Tourism - ECPv6.15.17.1//NONSGML v1.0//EN
CALSCALE:GREGORIAN
METHOD:PUBLISH
X-WR-CALNAME:Elkins-Randolph County Tourism
X-ORIGINAL-URL:https://elkinsrandolphwv.com
X-WR-CALDESC:Events for Elkins-Randolph County Tourism
REFRESH-INTERVAL;VALUE=DURATION:PT1H
X-Robots-Tag:noindex
X-PUBLISHED-TTL:PT1H
BEGIN:VTIMEZONE
TZID:UTC
BEGIN:STANDARD
TZOFFSETFROM:+0000
TZOFFSETTO:+0000
TZNAME:UTC
DTSTART:20210101T000000
END:STANDARD
END:VTIMEZONE
BEGIN:VEVENT
DTSTART;TZID=UTC:20220503T113000
DTEND;TZID=UTC:20220503T130000
DTSTAMP:20260420T032642
CREATED:20220202T215659Z
LAST-MODIFIED:20220202T215659Z
UID:25084-1651577400-1651582800@elkinsrandolphwv.com
SUMMARY:Legislative Luncheon
DESCRIPTION:Chamber of Commerce Legislative Luncheon\, Tuesday\, May 3rd. \n11:45 Lunch; 12:00 Program. \nVenue TBD.
URL:https://elkinsrandolphwv.com/event/legislative-luncheon/
CATEGORIES:Community
ATTACH;FMTTYPE=image/jpeg:https://elkinsrandolphwv.com/wp-content/uploads/2019/03/ERCCC_Logo_Stacked-01-e1561493887892.jpg
ORGANIZER;CN="Elkins-Randolph County Chamber of Commerce":MAILTO:chamber@erccc.com
END:VEVENT
END:VCALENDAR