BEGIN:VCALENDAR
VERSION:2.0
PRODID:-//Elkins-Randolph County Tourism - ECPv6.15.20//NONSGML v1.0//EN
CALSCALE:GREGORIAN
METHOD:PUBLISH
X-WR-CALNAME:Elkins-Randolph County Tourism
X-ORIGINAL-URL:https://elkinsrandolphwv.com
X-WR-CALDESC:Events for Elkins-Randolph County Tourism
REFRESH-INTERVAL;VALUE=DURATION:PT1H
X-Robots-Tag:noindex
X-PUBLISHED-TTL:PT1H
BEGIN:VTIMEZONE
TZID:UTC
BEGIN:STANDARD
TZOFFSETFROM:+0000
TZOFFSETTO:+0000
TZNAME:UTC
DTSTART:20210101T000000
END:STANDARD
END:VTIMEZONE
BEGIN:VEVENT
DTSTART;TZID=UTC:20220507T140000
DTEND;TZID=UTC:20220507T140000
DTSTAMP:20260423T031558
CREATED:20220407T213210Z
LAST-MODIFIED:20220407T213210Z
UID:25634-1651932000-1651932000@elkinsrandolphwv.com
SUMMARY:Young Eagles Event @ Elkins Airport
DESCRIPTION:The Elkins Pilots Club and Experimental Aircraft Association will provide free flights from 2pm until dark or the last kiddo gets a ride\, weather permitting. Free hotdogs and drinks too. Sorry parents and grandparents\, these flights are for the kids only\, ages 8-17.
URL:https://elkinsrandolphwv.com/event/young-eagles-event-elkins-airport/
CATEGORIES:Kids & Family,Sports & Recreations
END:VEVENT
BEGIN:VEVENT
DTSTART;TZID=UTC:20220507T173000
DTEND;TZID=UTC:20220507T220000
DTSTAMP:20260423T031558
CREATED:20220426T183437Z
LAST-MODIFIED:20220426T183437Z
UID:25792-1651944600-1651960800@elkinsrandolphwv.com
SUMMARY:Davis Health Foundation Kentucky Derby Gala @ Phil Gainer Community Center
DESCRIPTION:
URL:https://elkinsrandolphwv.com/event/davis-health-foundation-kentucky-derby-gala-phil-gainer-community-center/
LOCATION:Phil Gainer Community Center\, 142 Robert E Lee Ave Ext\, Elkins\, WV 26241\, USA\, 149 Robert E Lee Ave Exd\, United States
ATTACH;FMTTYPE=image/jpeg:https://elkinsrandolphwv.com/wp-content/uploads/2019/04/Davis-Health-System-Foundation-logo.jpg
GEO:38.925764;-79.864059
X-APPLE-STRUCTURED-LOCATION;VALUE=URI;X-ADDRESS=Phil Gainer Community Center 142 Robert E Lee Ave Ext Elkins WV 26241 USA 149 Robert E Lee Ave Exd United States;X-APPLE-RADIUS=500;X-TITLE=149 Robert E Lee Ave Exd:geo:-79.864059,38.925764
END:VEVENT
END:VCALENDAR