BEGIN:VCALENDAR
VERSION:2.0
PRODID:-//Elkins-Randolph County Tourism - ECPv6.15.17.1//NONSGML v1.0//EN
CALSCALE:GREGORIAN
METHOD:PUBLISH
X-ORIGINAL-URL:https://elkinsrandolphwv.com
X-WR-CALDESC:Events for Elkins-Randolph County Tourism
REFRESH-INTERVAL;VALUE=DURATION:PT1H
X-Robots-Tag:noindex
X-PUBLISHED-TTL:PT1H
BEGIN:VTIMEZONE
TZID:UTC
BEGIN:STANDARD
TZOFFSETFROM:+0000
TZOFFSETTO:+0000
TZNAME:UTC
DTSTART:20210101T000000
END:STANDARD
END:VTIMEZONE
BEGIN:VEVENT
DTSTART;VALUE=DATE:20220514
DTEND;VALUE=DATE:20220516
DTSTAMP:20260419T211707
CREATED:20220313T184221Z
LAST-MODIFIED:20220317T215340Z
UID:25515-1652493600-1652579999@elkinsrandolphwv.com
SUMMARY:Hooked on Fishing Not on Drugs @ Phil Gainer Community Center
DESCRIPTION:
URL:https://elkinsrandolphwv.com/event/hooked-on-fishing-not-on-drugs-phil-gainer-community-center/
LOCATION:Phil Gainer Community Center\, 142 Robert E Lee Ave Ext\, Elkins\, WV 26241\, USA\, 149 Robert E Lee Ave Exd\, United States
CATEGORIES:Community,Educational,Kids & Family,Sports & Recreations
ATTACH;FMTTYPE=image/png:https://elkinsrandolphwv.com/wp-content/uploads/2022/03/EPRC001-Logo_Color.png
GEO:38.925764;-79.864059
X-APPLE-STRUCTURED-LOCATION;VALUE=URI;X-ADDRESS=Phil Gainer Community Center 142 Robert E Lee Ave Ext Elkins WV 26241 USA 149 Robert E Lee Ave Exd United States;X-APPLE-RADIUS=500;X-TITLE=149 Robert E Lee Ave Exd:geo:-79.864059,38.925764
END:VEVENT
BEGIN:VEVENT
DTSTART;TZID=UTC:20220514T080000
DTEND;TZID=UTC:20220514T120000
DTSTAMP:20260419T211707
CREATED:20220426T182945Z
LAST-MODIFIED:20220426T182945Z
UID:25775-1652515200-1652529600@elkinsrandolphwv.com
SUMMARY:Elkins Farmer's Market @ Elkins Town Square
DESCRIPTION:
URL:https://elkinsrandolphwv.com/event/elkins-farmers-market-elkins-town-square-2/2022-05-14/
LOCATION:Rotary Ampitheatre in Elkins Town Square\, 315 Railroad Avenue\, Elkins\, WV\, 26241\, United States\, 2 Railroad Ave\, United States
CATEGORIES:Community,Food & Drink
ATTACH;FMTTYPE=image/png:https://elkinsrandolphwv.com/wp-content/uploads/2019/04/logo-2.png
GEO:38.92313;-79.851004
X-APPLE-STRUCTURED-LOCATION;VALUE=URI;X-ADDRESS=Rotary Ampitheatre in Elkins Town Square 315 Railroad Avenue Elkins WV 26241 United States 2 Railroad Ave United States;X-APPLE-RADIUS=500;X-TITLE=2 Railroad Ave:geo:-79.851004,38.92313
END:VEVENT
BEGIN:VEVENT
DTSTART;TZID=UTC:20220514T090000
DTEND;TZID=UTC:20220514T140000
DTSTAMP:20260419T211707
CREATED:20220412T172219Z
LAST-MODIFIED:20220418T211221Z
UID:25667-1652518800-1652536800@elkinsrandolphwv.com
SUMMARY:Emma Scott Garden Club Plant Sale @ Randolph County Community Arts Center
DESCRIPTION:GardenClubFlyer2022 \nAnnuals\, perennial\, and houseplants from our own member gardens will be offered as well as a “garden” bazaar with unique items including baked goods!
URL:https://elkinsrandolphwv.com/event/emma-scott-garden-club-plant-sale-randolph-county-community-arts-center/
LOCATION:Randolph County Community Arts Center\, 2 Park Street\, Elkins\, 26241
CATEGORIES:Community
END:VEVENT
END:VCALENDAR