BEGIN:VCALENDAR
VERSION:2.0
PRODID:-//Elkins-Randolph County Tourism - ECPv6.15.17.1//NONSGML v1.0//EN
CALSCALE:GREGORIAN
METHOD:PUBLISH
X-ORIGINAL-URL:https://elkinsrandolphwv.com
X-WR-CALDESC:Events for Elkins-Randolph County Tourism
REFRESH-INTERVAL;VALUE=DURATION:PT1H
X-Robots-Tag:noindex
X-PUBLISHED-TTL:PT1H
BEGIN:VTIMEZONE
TZID:UTC
BEGIN:STANDARD
TZOFFSETFROM:+0000
TZOFFSETTO:+0000
TZNAME:UTC
DTSTART:20210101T000000
END:STANDARD
END:VTIMEZONE
BEGIN:VEVENT
DTSTART;TZID=UTC:20220520T173000
DTEND;TZID=UTC:20220520T210000
DTSTAMP:20260420T034601
CREATED:20220304T011130Z
LAST-MODIFIED:20220304T012449Z
UID:25412-1653067800-1653080400@elkinsrandolphwv.com
SUMMARY:Tribute to Musical Legends Dinner & Show @ The Gandy Dancer Dinner Theatre
DESCRIPTION:Enjoy this amazing show where our performers pay their tribute to such musical legends as Dolly Parton\, Kenny Rogers\, John and June Cash\, Elvis and many more. \nEvening\n~ Arrive at 5:30 pm ~\n~ Dinner at 6:00 pm ~\n~ Show Only arrive at 6:30 pm ~\n~ Show at 7:00 pm ~ \nChicken cordon bleu\, hamburger steak with gravy\, baked potato\, green beans\, coleslaw\, dinner roll\, dessert and beverage.
URL:https://elkinsrandolphwv.com/event/tribute-to-musical-legends-dinner-show-the-gandy-dancer-dinner-theatre/2022-05-20/
LOCATION:Gandy Dancer Theatre and Conference Center\, 359 Beverly Pike\, Elkins\, WV 26241\, USA\, United States
CATEGORIES:Entertainment,Food & Drink
ATTACH;FMTTYPE=image/png:https://elkinsrandolphwv.com/wp-content/uploads/2020/09/Gandy-Dancer-FullPanel-AD-2020-1.png
GEO:38.918641;-79.842607
END:VEVENT
END:VCALENDAR