BEGIN:VCALENDAR
VERSION:2.0
PRODID:-//Elkins-Randolph County Tourism - ECPv6.15.20//NONSGML v1.0//EN
CALSCALE:GREGORIAN
METHOD:PUBLISH
X-ORIGINAL-URL:https://elkinsrandolphwv.com
X-WR-CALDESC:Events for Elkins-Randolph County Tourism
REFRESH-INTERVAL;VALUE=DURATION:PT1H
X-Robots-Tag:noindex
X-PUBLISHED-TTL:PT1H
BEGIN:VTIMEZONE
TZID:America/New_York
BEGIN:DAYLIGHT
TZOFFSETFROM:-0500
TZOFFSETTO:-0400
TZNAME:EDT
DTSTART:20210314T070000
END:DAYLIGHT
BEGIN:STANDARD
TZOFFSETFROM:-0400
TZOFFSETTO:-0500
TZNAME:EST
DTSTART:20211107T060000
END:STANDARD
BEGIN:DAYLIGHT
TZOFFSETFROM:-0500
TZOFFSETTO:-0400
TZNAME:EDT
DTSTART:20220313T070000
END:DAYLIGHT
BEGIN:STANDARD
TZOFFSETFROM:-0400
TZOFFSETTO:-0500
TZNAME:EST
DTSTART:20221106T060000
END:STANDARD
BEGIN:DAYLIGHT
TZOFFSETFROM:-0500
TZOFFSETTO:-0400
TZNAME:EDT
DTSTART:20230312T070000
END:DAYLIGHT
BEGIN:STANDARD
TZOFFSETFROM:-0400
TZOFFSETTO:-0500
TZNAME:EST
DTSTART:20231105T060000
END:STANDARD
END:VTIMEZONE
BEGIN:VTIMEZONE
TZID:UTC
BEGIN:STANDARD
TZOFFSETFROM:+0000
TZOFFSETTO:+0000
TZNAME:UTC
DTSTART:20210101T000000
END:STANDARD
END:VTIMEZONE
BEGIN:VEVENT
DTSTART;TZID=America/New_York:20220521T130000
DTEND;TZID=America/New_York:20220521T150000
DTSTAMP:20260423T085821
CREATED:20220511T220055Z
LAST-MODIFIED:20220511T220055Z
UID:25865-1653138000-1653145200@elkinsrandolphwv.com
SUMMARY:Jail Exhibit & Escape Room Open House @ Beverly Heritage Center
DESCRIPTION:The Beverly Heritage Center will open a new exhibit in the 1841 Randolph County Jail and offer a preview of an upcoming Escape Room Saturday\, May 21st at 1:00pm. Visitors will be able to tour the new exhibit and learn how to make appointments for the escape room. \nThese new attractions will open in the recently restored 1841 jail building on Walnut Avenue\, which was the third jail built in Beverly and served as the Randolph County Jail until another jail was built in the new County Seat of Elkins. \nThe exhibit interprets the Jailor’s office as it might have looked in 1845 and tells the history of the building and the jailors and inmates it housed. Artifacts on display include several objects used in the jail including an original lock and original cell bars\, as well as 19th century railing from the Pocahontas County Courthouse and other period furniture. \nThe escape room will feature two different scenarios for guests to choose from:\n“Civil War Spy” or “Prohibition-era Bootlegger”. In each challenge participants will have to solve puzzles to find clues to “escape” the jail. The escape room will be open by appointment Wednesdays through Sundays starting in June. \nThe 1841 Jail is located on Walnut Avenue in Beverly behind the Beverly Heritage Center. Call 304-637-7424 or visit beverlyheritagecenter.org for more information. These projects are presented with support from the State Historic Preservation Office and the Snowshoe Foundation.
URL:https://elkinsrandolphwv.com/event/jail-exhibit-escape-room-open-house-beverly-heritage-center/
LOCATION:Beverly Heritage Center\, 4 Court Street\, Beverly\, WV\, 26253\, United States
ATTACH;FMTTYPE=image/jpeg:https://elkinsrandolphwv.com/wp-content/uploads/2021/02/beverly-heritage-center-logo-1-e1725977032951.jpg
GEO:38.8405774458;-79.8751789914
X-APPLE-STRUCTURED-LOCATION;VALUE=URI;X-ADDRESS=Beverly Heritage Center 4 Court Street Beverly WV 26253 United States;X-APPLE-RADIUS=500;X-TITLE=4 Court Street:geo:-79.8751789914,38.8405774458
END:VEVENT
BEGIN:VEVENT
DTSTART;TZID=UTC:20220521T173000
DTEND;TZID=UTC:20220521T210000
DTSTAMP:20260423T085821
CREATED:20220304T011939Z
LAST-MODIFIED:20220304T012210Z
UID:25432-1653154200-1653166800@elkinsrandolphwv.com
SUMMARY:Premier Show @ The Gandy Dancer Dinner Theatre
DESCRIPTION:After a wonderful plated dinner\, sit back and listen to the fabulous Mountain Memories Show Band as they serve up a 2 hour Branson-style show with music from the 50’s- today featuring Country\, Pop\, Motown\, Gospel\, and Patriotic along with family- friendly comedy and amazing dancers.\nThe Gandy Dancer offers a show that’s guaranteed to have you dancing in your seat\, laughing ‘til you cry\, touch your heart and give you memories that will last a lifetime. \nEvening\n~ Arrive at 5:30 pm ~\n~ Dinner at 6:00 pm ~\n~ Show Only arrive at 6:30 pm ~\n~ Show at 7:00 pm ~ \nMeal includes: Rotisserie chicken breast\, barbeque pulled pork\, coleslaw parsley potatoes\, baked beans\, dinner roll\, dessert and beverage.
URL:https://elkinsrandolphwv.com/event/premier-show-the-gandy-dancer-dinner-theatre/2022-05-21/
LOCATION:Gandy Dancer Theatre and Conference Center\, 359 Beverly Pike\, Elkins\, WV 26241\, USA\, United States
CATEGORIES:Entertainment,Food & Drink
ATTACH;FMTTYPE=image/png:https://elkinsrandolphwv.com/wp-content/uploads/2020/09/Gandy-Dancer-FullPanel-AD-2020-1.png
GEO:38.918641;-79.842607
END:VEVENT
END:VCALENDAR