BEGIN:VCALENDAR
VERSION:2.0
PRODID:-//Elkins-Randolph County Tourism - ECPv6.15.17.1//NONSGML v1.0//EN
CALSCALE:GREGORIAN
METHOD:PUBLISH
X-WR-CALNAME:Elkins-Randolph County Tourism
X-ORIGINAL-URL:https://elkinsrandolphwv.com
X-WR-CALDESC:Events for Elkins-Randolph County Tourism
REFRESH-INTERVAL;VALUE=DURATION:PT1H
X-Robots-Tag:noindex
X-PUBLISHED-TTL:PT1H
BEGIN:VTIMEZONE
TZID:UTC
BEGIN:STANDARD
TZOFFSETFROM:+0000
TZOFFSETTO:+0000
TZNAME:UTC
DTSTART:20210101T000000
END:STANDARD
END:VTIMEZONE
BEGIN:VEVENT
DTSTART;TZID=UTC:20220603T110000
DTEND;TZID=UTC:20220603T160000
DTSTAMP:20260419T175427
CREATED:20220203T213238Z
LAST-MODIFIED:20220203T213238Z
UID:25173-1654254000-1654272000@elkinsrandolphwv.com
SUMMARY:New Tygart Flyer @ Elkins Depot
DESCRIPTION:This wilderness excursion features mountain grades\, an “S” curve tunnel\, a high bridge and miles of unspoiled mountain views. Vintage diesel-powered locomotives climb along the cascading Shavers Fork of the Cheat River to the High Falls of Cheat. Enjoy the view relaxing aboard our comfortable climate controlled passenger coaches. \nThis vintage diesel-powered passenger train has gained a reputation as one of the most relaxing mountain wilderness excursions in our Mountain Rail Adventure portfolio. The 4-hour\, 46 mile round trip departs at 11 a.m. from the restored Elkins Depot on Railroad Avenue. \nOn the trip to the Falls\, enjoy a cold cut lunch\, which is included in the ticket price. The trip culminates at the High Falls of Cheat\, an 18′ high\, 150′ wide waterfall located in one of the most remote and pristine settings in the region. If you’re looking for comfort and spectacular views on a vintage train this is the ride for you! \nLooking for extra leg room? Adult beverages\, or your own private train host? Upgrade to our Parlor Car service for these special perks and more!
URL:https://elkinsrandolphwv.com/event/new-tygart-flyer-elkins-depot-4/2022-06-03/
LOCATION:Elkins Depot Welcome Center\, 315 Railroad Ave\, Elkins\, WV 26241\, USA\, 2 Railroad Ave\, United States
CATEGORIES:Train Excursions
ATTACH;FMTTYPE=image/png:https://elkinsrandolphwv.com/wp-content/uploads/2020/02/mountain-rail-logo.png
ORGANIZER;CN="Durbin & Greenbrier Valley Railroad":MAILTO:ticketinfo@mountainrail.com
GEO:38.92313;-79.851004
X-APPLE-STRUCTURED-LOCATION;VALUE=URI;X-ADDRESS=Elkins Depot Welcome Center 315 Railroad Ave Elkins WV 26241 USA 2 Railroad Ave United States;X-APPLE-RADIUS=500;X-TITLE=2 Railroad Ave:geo:-79.851004,38.92313
END:VEVENT
BEGIN:VEVENT
DTSTART;TZID=UTC:20220603T120000
DTEND;TZID=UTC:20220603T170000
DTSTAMP:20260419T175427
CREATED:20220505T162908Z
LAST-MODIFIED:20220505T162908Z
UID:25844-1654257600-1654275600@elkinsrandolphwv.com
SUMMARY:Friends of the Library Used Book Sale @ Elkins-Randolph County Library
DESCRIPTION:Friends of the Library Used Book Sale\nat the Elkins-Randolph County Public Library\,  416 Davis Ave\nJune 3:  12 pm – 5 pm; June 4:  9 am – 5 pm; June 5:  12 pm – 5 pm\nFunds raised will support renovation and expansion of the Library which was severely damaged by roof leaks in December.  For more info about the Friends\, visit https://elkinslibrary.com/friends-of-the-library.
URL:https://elkinsrandolphwv.com/event/friends-of-the-library-used-book-sale-elkins-randolph-county-library/2022-06-03/
LOCATION:Elkins-Randolph County Library\, 416 Davis Ave\, Elkins\, WV 26241\, USA\, 348 S Davis Ave\, United States
CATEGORIES:Community
ATTACH;FMTTYPE=image/png:https://elkinsrandolphwv.com/wp-content/uploads/2019/05/elkins-randolph-county-public-library.png
GEO:38.920648;-79.850239
X-APPLE-STRUCTURED-LOCATION;VALUE=URI;X-ADDRESS=Elkins-Randolph County Library 416 Davis Ave Elkins WV 26241 USA 348 S Davis Ave United States;X-APPLE-RADIUS=500;X-TITLE=348 S Davis Ave:geo:-79.850239,38.920648
END:VEVENT
BEGIN:VEVENT
DTSTART;TZID=UTC:20220603T173000
DTEND;TZID=UTC:20220603T210000
DTSTAMP:20260419T175427
CREATED:20220304T012817Z
LAST-MODIFIED:20220304T012817Z
UID:25460-1654277400-1654290000@elkinsrandolphwv.com
SUMMARY:Murder Mystery Dinner "Lights Out" @ The Gandy Dancer Dinner Theatre
DESCRIPTION:
URL:https://elkinsrandolphwv.com/event/murder-mystery-dinner-lights-out-the-gandy-dancer-dinner-theatre/2022-06-03/
LOCATION:Gandy Dancer Theatre and Conference Center\, 359 Beverly Pike\, Elkins\, WV 26241\, USA\, United States
CATEGORIES:Entertainment,Food & Drink
ATTACH;FMTTYPE=image/png:https://elkinsrandolphwv.com/wp-content/uploads/2020/09/Gandy-Dancer-FullPanel-AD-2020-1.png
GEO:38.918641;-79.842607
END:VEVENT
END:VCALENDAR