BEGIN:VCALENDAR
VERSION:2.0
PRODID:-//Elkins-Randolph County Tourism - ECPv6.15.17.1//NONSGML v1.0//EN
CALSCALE:GREGORIAN
METHOD:PUBLISH
X-ORIGINAL-URL:https://elkinsrandolphwv.com
X-WR-CALDESC:Events for Elkins-Randolph County Tourism
REFRESH-INTERVAL;VALUE=DURATION:PT1H
X-Robots-Tag:noindex
X-PUBLISHED-TTL:PT1H
BEGIN:VTIMEZONE
TZID:UTC
BEGIN:STANDARD
TZOFFSETFROM:+0000
TZOFFSETTO:+0000
TZNAME:UTC
DTSTART:20210101T000000
END:STANDARD
END:VTIMEZONE
BEGIN:VEVENT
DTSTART;TZID=UTC:20220618T100000
DTEND;TZID=UTC:20220618T100000
DTSTAMP:20260421T212401
CREATED:20220608T164658Z
LAST-MODIFIED:20220608T164658Z
UID:25954-1655546400-1655546400@elkinsrandolphwv.com
SUMMARY:West Virginia Day Scavenger Hunt @ Downtown Elkins
DESCRIPTION:
URL:https://elkinsrandolphwv.com/event/west-virginia-day-scavenger-hunt-downtown-elkins/
CATEGORIES:Community,Kids & Family
ATTACH;FMTTYPE=image/jpeg:https://elkinsrandolphwv.com/wp-content/uploads/2021/03/our-town-logo.jpg
END:VEVENT
BEGIN:VEVENT
DTSTART;TZID=UTC:20220618T100000
DTEND;TZID=UTC:20220618T150000
DTSTAMP:20260421T212401
CREATED:20220614T193706Z
LAST-MODIFIED:20220614T193706Z
UID:25976-1655546400-1655564400@elkinsrandolphwv.com
SUMMARY:Summer Kickoff Homestead Car Show @ Dailey
DESCRIPTION:
URL:https://elkinsrandolphwv.com/event/summer-kickoff-homestead-car-show-dailey/
CATEGORIES:Community
END:VEVENT
END:VCALENDAR