BEGIN:VCALENDAR
VERSION:2.0
PRODID:-//Elkins-Randolph County Tourism - ECPv6.15.17.1//NONSGML v1.0//EN
CALSCALE:GREGORIAN
METHOD:PUBLISH
X-WR-CALNAME:Elkins-Randolph County Tourism
X-ORIGINAL-URL:https://elkinsrandolphwv.com
X-WR-CALDESC:Events for Elkins-Randolph County Tourism
REFRESH-INTERVAL;VALUE=DURATION:PT1H
X-Robots-Tag:noindex
X-PUBLISHED-TTL:PT1H
BEGIN:VTIMEZONE
TZID:UTC
BEGIN:STANDARD
TZOFFSETFROM:+0000
TZOFFSETTO:+0000
TZNAME:UTC
DTSTART:20210101T000000
END:STANDARD
END:VTIMEZONE
BEGIN:VTIMEZONE
TZID:America/New_York
BEGIN:DAYLIGHT
TZOFFSETFROM:-0500
TZOFFSETTO:-0400
TZNAME:EDT
DTSTART:20210314T070000
END:DAYLIGHT
BEGIN:STANDARD
TZOFFSETFROM:-0400
TZOFFSETTO:-0500
TZNAME:EST
DTSTART:20211107T060000
END:STANDARD
BEGIN:DAYLIGHT
TZOFFSETFROM:-0500
TZOFFSETTO:-0400
TZNAME:EDT
DTSTART:20220313T070000
END:DAYLIGHT
BEGIN:STANDARD
TZOFFSETFROM:-0400
TZOFFSETTO:-0500
TZNAME:EST
DTSTART:20221106T060000
END:STANDARD
BEGIN:DAYLIGHT
TZOFFSETFROM:-0500
TZOFFSETTO:-0400
TZNAME:EDT
DTSTART:20230312T070000
END:DAYLIGHT
BEGIN:STANDARD
TZOFFSETFROM:-0400
TZOFFSETTO:-0500
TZNAME:EST
DTSTART:20231105T060000
END:STANDARD
END:VTIMEZONE
BEGIN:VEVENT
DTSTART;VALUE=DATE:20220625
DTEND;VALUE=DATE:20220627
DTSTAMP:20260419T175114
CREATED:20220329T180806Z
LAST-MODIFIED:20220329T180806Z
UID:25564-1656122400-1656208799@elkinsrandolphwv.com
SUMMARY:Kite Festival & 50 Year Anniversary Celebration @ Spruce Knob Mountain Center
DESCRIPTION:Join us at Spruce Knob Mountain Center to fly kites and celebrate the wind and sky! The New Era Kite Club will be on site doing trick kite demos and conducting kite-building workshops.
URL:https://elkinsrandolphwv.com/event/kite-festival-50-year-anniversary-celebration-spruce-knob-mountain-center/
LOCATION:Spruce Knob Mountain Center\, 18 Woodlands Way\, Circleville\, WV\, 26804\, United States\, 601 N Mountain Rd\, United States
CATEGORIES:Fairs & Festivals,Sports & Recreations,Spruce Knob
ATTACH;FMTTYPE=image/png:https://elkinsrandolphwv.com/wp-content/uploads/2020/01/sprucelogo_nobg_640.png
GEO:39.076864;-78.585512
X-APPLE-STRUCTURED-LOCATION;VALUE=URI;X-ADDRESS=Spruce Knob Mountain Center 18 Woodlands Way Circleville WV 26804 United States 601 N Mountain Rd United States;X-APPLE-RADIUS=500;X-TITLE=601 N Mountain Rd:geo:-78.585512,39.076864
END:VEVENT
BEGIN:VEVENT
DTSTART;VALUE=DATE:20220625
DTEND;VALUE=DATE:20220627
DTSTAMP:20260419T175114
CREATED:20220502T182919Z
LAST-MODIFIED:20220502T182919Z
UID:25823-1656122400-1656208799@elkinsrandolphwv.com
SUMMARY:Coalton Days @ Coalton
DESCRIPTION:Free event\, donations accepted for use of the park
URL:https://elkinsrandolphwv.com/event/coalton-days-coalton/
LOCATION:Coalton\, WV
CATEGORIES:Community,Fairs & Festivals
END:VEVENT
BEGIN:VEVENT
DTSTART;TZID=UTC:20220625T083000
DTEND;TZID=UTC:20220625T083000
DTSTAMP:20260419T175114
CREATED:20220323T174251Z
LAST-MODIFIED:20220323T174405Z
UID:25542-1656145800-1656145800@elkinsrandolphwv.com
SUMMARY:Jakes Day - Various Shooting Events @ Mountaineer Chapter IWLA Clubhouse
DESCRIPTION:Registration at 8:30am \nSponsored by the Tygarts Valley Chapter of the National Wild Turkey Federation \nCall Matt Stalnaker @ 304-591-9129 or Ray Mearns @ 304-338-6025 for further information.
URL:https://elkinsrandolphwv.com/event/jakes-day-various-shooting-events-mountaineer-chapter-iwla-clubhouse/
LOCATION:Izaak Walton League\, 59 Darwin Dr\, Beverly\, WV\, 26253\, United States
CATEGORIES:Kids & Family,Sports & Recreations
ATTACH;FMTTYPE=image/png:https://elkinsrandolphwv.com/wp-content/uploads/2019/08/Izaak-Walton-League.png
END:VEVENT
BEGIN:VEVENT
DTSTART;TZID=UTC:20220625T100000
DTEND;TZID=UTC:20220625T170000
DTSTAMP:20260419T175114
CREATED:20220614T193844Z
LAST-MODIFIED:20220614T193844Z
UID:25978-1656151200-1656176400@elkinsrandolphwv.com
SUMMARY:8th Annual Coalton Days Car Show & Parade @ Coalton
DESCRIPTION:
URL:https://elkinsrandolphwv.com/event/8th-annual-coalton-days-car-show-parade-coalton/
LOCATION:Coalton\, WV
CATEGORIES:Fairs & Festivals
END:VEVENT
BEGIN:VEVENT
DTSTART;TZID=UTC:20220625T110000
DTEND;TZID=UTC:20220625T110000
DTSTAMP:20260419T175114
CREATED:20220502T183034Z
LAST-MODIFIED:20220502T183034Z
UID:25824-1656154800-1656154800@elkinsrandolphwv.com
SUMMARY:Pride in the Park @ Elkins City Park
DESCRIPTION:
URL:https://elkinsrandolphwv.com/event/pride-in-the-park-elkins-city-park-2/
LOCATION:Elkins City Park\, Elkins\, WV 26241\, USA\, 101 Elkins Ave\, United States
CATEGORIES:Community
GEO:38.945377;-79.854602
X-APPLE-STRUCTURED-LOCATION;VALUE=URI;X-ADDRESS=Elkins City Park Elkins WV 26241 USA 101 Elkins Ave United States;X-APPLE-RADIUS=500;X-TITLE=101 Elkins Ave:geo:-79.854602,38.945377
END:VEVENT
BEGIN:VEVENT
DTSTART;TZID=UTC:20220625T140000
DTEND;TZID=UTC:20220625T170000
DTSTAMP:20260419T175114
CREATED:20220313T183211Z
LAST-MODIFIED:20220313T183211Z
UID:25505-1656165600-1656176400@elkinsrandolphwv.com
SUMMARY:"Something Old\, Something New” Open House @ The Kump House
DESCRIPTION:The Kump Education Center will be sponsoring a “Something Old\, Something New” Open House at the Gov. Kump House Saturday-Sunday June 25-26 from 2-5 p.m. This event will feature a Kump Family Wedding Traditions display with Edna Scott Kump’s (1907) and Peggy Kump Roberts’ wedding dresses (1936)\, as well as new interpretive exhibits related to other aspects of the Kump House history. The two-day event is free and open to the public. Donations are encouraged. \nThe Gov. Kump House is located at 401 S. Randolph Avenue\, Elkins\, WV (across from Kroger).
URL:https://elkinsrandolphwv.com/event/something-old-something-new-open-house-the-kump-house/2022-06-25/
LOCATION:Kump Education Center\, 401 Davis Avenue\, Elkins\, WV\, 26241\, United States
CATEGORIES:Community,Educational
ATTACH;FMTTYPE=image/jpeg:https://elkinsrandolphwv.com/wp-content/uploads/2019/05/Kump-Education-Center.jpg
END:VEVENT
BEGIN:VEVENT
DTSTART;TZID=America/New_York:20220625T173000
DTEND;TZID=America/New_York:20220625T193000
DTSTAMP:20260419T175114
CREATED:20220614T190849Z
LAST-MODIFIED:20220614T190849Z
UID:25974-1656178200-1656185400@elkinsrandolphwv.com
SUMMARY:Live on the Lawn w/ Doug Van Gundy & Josh Wanstreet @ Beverly Heritage Center
DESCRIPTION:Join the Beverly Heritage Center for the Live on the Lawn FREE concert series with Josh Wanstreet and Doug Van Gundy (old-time music)! Bring your own chair\, blanket\, tent\, etc and favorite food and refreshments and join us for some live music in the yard of the 1841 Jail building on Walnut Ave.\n\nOther Live on the Lawn dates:\nJuly 9th: Jesse Milnes\nAugust 27- That High Country Revival\nSept. 17- Jason Hall
URL:https://elkinsrandolphwv.com/event/live-on-the-lawn-w-doug-van-gundy-josh-wanstreet-beverly-heritage-center/
LOCATION:Beverly Heritage Center\, 4 Court Street\, Beverly\, WV\, 26253\, United States
ATTACH;FMTTYPE=image/jpeg:https://elkinsrandolphwv.com/wp-content/uploads/2021/02/beverly-heritage-center-logo-1-e1725977032951.jpg
GEO:38.8405774458;-79.8751789914
X-APPLE-STRUCTURED-LOCATION;VALUE=URI;X-ADDRESS=Beverly Heritage Center 4 Court Street Beverly WV 26253 United States;X-APPLE-RADIUS=500;X-TITLE=4 Court Street:geo:-79.8751789914,38.8405774458
END:VEVENT
END:VCALENDAR