BEGIN:VCALENDAR
VERSION:2.0
PRODID:-//Elkins-Randolph County Tourism - ECPv6.15.17.1//NONSGML v1.0//EN
CALSCALE:GREGORIAN
METHOD:PUBLISH
X-ORIGINAL-URL:https://elkinsrandolphwv.com
X-WR-CALDESC:Events for Elkins-Randolph County Tourism
REFRESH-INTERVAL;VALUE=DURATION:PT1H
X-Robots-Tag:noindex
X-PUBLISHED-TTL:PT1H
BEGIN:VTIMEZONE
TZID:UTC
BEGIN:STANDARD
TZOFFSETFROM:+0000
TZOFFSETTO:+0000
TZNAME:UTC
DTSTART:20210101T000000
END:STANDARD
END:VTIMEZONE
BEGIN:VEVENT
DTSTART;VALUE=DATE:20220706
DTEND;VALUE=DATE:20220710
DTSTAMP:20260420T143552
CREATED:20220329T181057Z
LAST-MODIFIED:20220329T181057Z
UID:25565-1657072800-1657331999@elkinsrandolphwv.com
SUMMARY:Grusk (Gravel Race Up Spruce Knob) @ Spruce Knob
DESCRIPTION:An adventure-cycling race on and around the highest peak in the Mountain State! The weekend includes mountaintop camping\, post-race food and beverages\, live music\, and camaraderie with fellow cycling adventurers.
URL:https://elkinsrandolphwv.com/event/grusk-gravel-race-up-spruce-knob-spruce-knob/
LOCATION:Spruce Knob Mountain Center\, 18 Woodlands Way\, Circleville\, WV\, 26804\, United States\, 601 N Mountain Rd\, United States
CATEGORIES:Sports & Recreations,Spruce Knob
ATTACH;FMTTYPE=image/png:https://elkinsrandolphwv.com/wp-content/uploads/2020/01/sprucelogo_nobg_640.png
GEO:39.076864;-78.585512
X-APPLE-STRUCTURED-LOCATION;VALUE=URI;X-ADDRESS=Spruce Knob Mountain Center 18 Woodlands Way Circleville WV 26804 United States 601 N Mountain Rd United States;X-APPLE-RADIUS=500;X-TITLE=601 N Mountain Rd:geo:-78.585512,39.076864
END:VEVENT
BEGIN:VEVENT
DTSTART;TZID=UTC:20220707T150000
DTEND;TZID=UTC:20220707T173000
DTSTAMP:20260420T143552
CREATED:20220706T212213Z
LAST-MODIFIED:20220706T212428Z
UID:26025-1657206000-1657215000@elkinsrandolphwv.com
SUMMARY:Free Public Tours @ The Kump House
DESCRIPTION:Gov. Kump House Free Public Tours\n“Something Old\, Something New” Exhibit\nVintage Wedding Gowns and New Displays! \n401 N. Randolph Ave. Elkins (across from Kroger)\nThursday\, July 7\, 3-5:30 p.m.\nSunday\, July 10\, 3-5:30 p.m.\nThursday\, July 14\, 3-5:30 p.m.\nSunday\, July 17\, 3-5:30 p.m.\nThursday\, July 21\, 3-5:30 p.m.\nSunday\, July 24\, 3-5:30 p.m.\nThursday\, July 28\, 3-5:30 p.m\nSunday\, July 31\, 3-5:30 p.m.\nThursday\, August 4\, 3-5:30 p.m.\nSunday\, August 7\, 3-5:30 p.m.\nwww.kumpeducationcenter.org
URL:https://elkinsrandolphwv.com/event/free-public-tours-the-kump-house/2022-07-07/
LOCATION:Kump Education Center\, 401 Davis Avenue\, Elkins\, WV\, 26241\, United States
CATEGORIES:Community,Educational
ATTACH;FMTTYPE=image/jpeg:https://elkinsrandolphwv.com/wp-content/uploads/2019/03/2560px-Gov._H._Guy_Kump_House-e1553608752151.jpg
END:VEVENT
END:VCALENDAR