BEGIN:VCALENDAR
VERSION:2.0
PRODID:-//Elkins-Randolph County Tourism - ECPv6.15.17.1//NONSGML v1.0//EN
CALSCALE:GREGORIAN
METHOD:PUBLISH
X-ORIGINAL-URL:https://elkinsrandolphwv.com
X-WR-CALDESC:Events for Elkins-Randolph County Tourism
REFRESH-INTERVAL;VALUE=DURATION:PT1H
X-Robots-Tag:noindex
X-PUBLISHED-TTL:PT1H
BEGIN:VTIMEZONE
TZID:UTC
BEGIN:STANDARD
TZOFFSETFROM:+0000
TZOFFSETTO:+0000
TZNAME:UTC
DTSTART:20210101T000000
END:STANDARD
END:VTIMEZONE
BEGIN:VEVENT
DTSTART;VALUE=DATE:20220710
DTEND;VALUE=DATE:20220712
DTSTAMP:20260419T220915
CREATED:20220203T220418Z
LAST-MODIFIED:20220203T220418Z
UID:25195-1657418400-1657504799@elkinsrandolphwv.com
SUMMARY:Augusta Week 1 @ Elkins
DESCRIPTION:If Augusta’s dance pavilion is your scene\, you’re going to love this week. Flexible class scheduling will allow you to study across these seminal American genres or take a deep dive into your favorite – you create your schedule! Cajun & Creole classes\, organized by coordinator Lynne Terr\, will feature masters from Louisiana in everything from accordion to cooking. Ginny Hawker leads the Classic Country programming with opportunities for playing in bands\, perfecting your instrument technique or dialing in your country vocals. Swing classes\, led by Wes Crawford\, will give you a chance to dust off your chops on guitar\, brass\, vocals and more. And\, of course\, the dance pavilion will be hopping every night with Cajun\, zydeco\, honky-tonk and swing dancing to rival the best you’ve ever seen. \nThe Augusta Dance Intensive will give broad training in dance traditions from several different cultures – including lindy hop\, swing\, flatfooting and Cajun – as well as a strong foundation in Dunham technique for modern dance with Laurie Goux. \nFolk Arts for Kids will give participants (ages 5 to 11) a chance to explore craft\, nature\, music and dance in a fun and immersive environment. \nDo you want to get just a taste of Augusta after work? Sign up for an evening mini-class to get 4 nights of instruction with a world-class instructor. If you get the event pass\, too\, you can join us for all of the week’s dances and concerts in the evening as well. You can sleep next week…
URL:https://elkinsrandolphwv.com/event/augusta-week-1-elkins/2022-07-10/
CATEGORIES:Art & Culture,Davis & Elkins College,Educational,Music
ATTACH;FMTTYPE=image/png:https://elkinsrandolphwv.com/wp-content/uploads/2019/03/augusta-heritage-center-NEW-logo-e1726600108332.png
END:VEVENT
END:VCALENDAR