BEGIN:VCALENDAR
VERSION:2.0
PRODID:-//Elkins-Randolph County Tourism - ECPv6.15.17.1//NONSGML v1.0//EN
CALSCALE:GREGORIAN
METHOD:PUBLISH
X-ORIGINAL-URL:https://elkinsrandolphwv.com
X-WR-CALDESC:Events for Elkins-Randolph County Tourism
REFRESH-INTERVAL;VALUE=DURATION:PT1H
X-Robots-Tag:noindex
X-PUBLISHED-TTL:PT1H
BEGIN:VTIMEZONE
TZID:UTC
BEGIN:STANDARD
TZOFFSETFROM:+0000
TZOFFSETTO:+0000
TZNAME:UTC
DTSTART:20210101T000000
END:STANDARD
END:VTIMEZONE
BEGIN:VTIMEZONE
TZID:America/New_York
BEGIN:DAYLIGHT
TZOFFSETFROM:-0500
TZOFFSETTO:-0400
TZNAME:EDT
DTSTART:20210314T070000
END:DAYLIGHT
BEGIN:STANDARD
TZOFFSETFROM:-0400
TZOFFSETTO:-0500
TZNAME:EST
DTSTART:20211107T060000
END:STANDARD
BEGIN:DAYLIGHT
TZOFFSETFROM:-0500
TZOFFSETTO:-0400
TZNAME:EDT
DTSTART:20220313T070000
END:DAYLIGHT
BEGIN:STANDARD
TZOFFSETFROM:-0400
TZOFFSETTO:-0500
TZNAME:EST
DTSTART:20221106T060000
END:STANDARD
BEGIN:DAYLIGHT
TZOFFSETFROM:-0500
TZOFFSETTO:-0400
TZNAME:EDT
DTSTART:20230312T070000
END:DAYLIGHT
BEGIN:STANDARD
TZOFFSETFROM:-0400
TZOFFSETTO:-0500
TZNAME:EST
DTSTART:20231105T060000
END:STANDARD
END:VTIMEZONE
BEGIN:VEVENT
DTSTART;TZID=UTC:20220723T083000
DTEND;TZID=UTC:20220723T083000
DTSTAMP:20260419T220920
CREATED:20220323T174621Z
LAST-MODIFIED:20220323T174621Z
UID:25543-1658565000-1658565000@elkinsrandolphwv.com
SUMMARY:Youth Conservation Day & Family Campout @ Mountaineer Chapter IWLA Clubhouse
DESCRIPTION:Registration 8:30am \nCall Matt Stalnaker @ 304-591-9129 or Ray Mearns @ 304-338-6025 for further information.
URL:https://elkinsrandolphwv.com/event/youth-conservation-day-family-campout-mountaineer-chapter-iwla-clubhouse/
LOCATION:Izaak Walton League\, 59 Darwin Dr\, Beverly\, WV\, 26253\, United States
CATEGORIES:Kids & Family,Sports & Recreations
ATTACH;FMTTYPE=image/png:https://elkinsrandolphwv.com/wp-content/uploads/2019/08/Izaak-Walton-League.png
END:VEVENT
BEGIN:VEVENT
DTSTART;TZID=America/New_York:20220723T100000
DTEND;TZID=America/New_York:20220723T170000
DTSTAMP:20260419T220920
CREATED:20220510T194929Z
LAST-MODIFIED:20220714T193711Z
UID:25851-1658570400-1658595600@elkinsrandolphwv.com
SUMMARY:Beverly Heritage Day @ Beverly Heritage Center
DESCRIPTION:Beverly Heritage Day: Discover the Stories \nDowntown Beverly will come alive with the people\, sights\, and sounds of our historic past as our annual timeline heritage event returns Saturday\, July 23rd. Come interact with Living History camps representing 18th\, 19th\, and 20th century eras with reenactors\, demonstrations\, presentations\, displays\, and more. Join us for a Parade of History\, children’s activities and games\, food\, live music\, and a brand new Scavenger Hunt and Civil War Spies Mystery Game. This family-friendly event is free open to history lovers of all ages. \nCivil War Spies Mystery Game: Beverly is occupied by federal troops and rumors are spreading about Confederate spies in our midst. Interact with local citizens to figure out who is lying and who is telling the truth. Correctly identify the two spies and you will be entered in a prize drawing. Will you be able to solve the mystery? Grand Prize – One Night’s Stay at the Mountaineer Casino Resort! \nScavenger Hunt: Follow a series of clues throughout the various reenactor camps to reveal a secret message that will lead you to a prize. Recommended for young adults and children with adult supervision. \nPresentations will include Don Teter as Porte Crayon\, a 19th-century journalist\, artist\, and soldier from West Virginia; Sam Winkler as Father Michael Costello\, a Civil War Priest and abolitionist; Art and Pam Dodds as Francis and Julia Pierpont\, West Virginia’s first Governor and First Lady. \nChildren’s activities will include the Game of Graces and Fishing for Chickens. \nThe 1841 Randolph County Jail will be open for visitors to see the new exhibit in the newly restored jailer’s office. \n  \nDraft schedule (times & details subject to change): \nParking available at corner of Fountain St & Walnut Ave \n10 am – Parade of History \n10:30 am – 5 pm – Camps\, games\, activities open \n11 am – Porte Crayon (Randolph County Museum) \n11:30 am–2 pm – Pulled pork lunch and pie sale (BHC patio) \n12 noon – Ed and Trish Bowes live music (lunch tent in Goff yard) \n1 pm – Father Michael Costello\, Civil War Priest (Civil War camp) \n1 pm – Julia Pierpont plays pump organ (Courthouse) \n2 pm – Gov. Francis and Mrs. Pierpont present Early Flags of the United States (Courthouse) \n3 pm – Porte Crayon (Randolph County Museum) \n3 pm – Julia Pierpont plays pump organ (Courthouse) \n4 pm – Civil War Spies Mystery Game awards (BHC patio) \n4:15 pm – Ice Cream Social (BHC patio)
URL:https://elkinsrandolphwv.com/event/beverly-heritage-days-beverly-heritage-center/
LOCATION:Beverly Heritage Center\, 4 Court Street\, Beverly\, WV\, 26253\, United States
ATTACH;FMTTYPE=image/jpeg:https://elkinsrandolphwv.com/wp-content/uploads/2021/02/beverly-heritage-center-logo-1-e1725977032951.jpg
GEO:38.8405774458;-79.8751789914
X-APPLE-STRUCTURED-LOCATION;VALUE=URI;X-ADDRESS=Beverly Heritage Center 4 Court Street Beverly WV 26253 United States;X-APPLE-RADIUS=500;X-TITLE=4 Court Street:geo:-79.8751789914,38.8405774458
END:VEVENT
BEGIN:VEVENT
DTSTART;TZID=UTC:20220723T100000
DTEND;TZID=UTC:20220723T190000
DTSTAMP:20260419T220920
CREATED:20220706T211809Z
LAST-MODIFIED:20220706T211834Z
UID:26023-1658570400-1658602800@elkinsrandolphwv.com
SUMMARY:Depot Day @ The Elkins Rotary Amphitheatre and Town Square
DESCRIPTION:
URL:https://elkinsrandolphwv.com/event/depot-day-the-elkins-rotary-amphitheatre-and-town-square/
LOCATION:Rotary Ampitheatre in Elkins Town Square\, 315 Railroad Avenue\, Elkins\, WV\, 26241\, United States\, 2 Railroad Ave\, United States
CATEGORIES:Community
ATTACH;FMTTYPE=image/png:https://elkinsrandolphwv.com/wp-content/uploads/2019/03/Elkins-Depot-Welcome-Center-New-Logo-with-brand-colors.png
GEO:38.92313;-79.851004
X-APPLE-STRUCTURED-LOCATION;VALUE=URI;X-ADDRESS=Rotary Ampitheatre in Elkins Town Square 315 Railroad Avenue Elkins WV 26241 United States 2 Railroad Ave United States;X-APPLE-RADIUS=500;X-TITLE=2 Railroad Ave:geo:-79.851004,38.92313
END:VEVENT
BEGIN:VEVENT
DTSTART;TZID=UTC:20220723T110000
DTEND;TZID=UTC:20220723T220000
DTSTAMP:20260419T220920
CREATED:20220714T222414Z
LAST-MODIFIED:20220714T222414Z
UID:26067-1658574000-1658613600@elkinsrandolphwv.com
SUMMARY:Peelsner Release Party @ Big Timber Brewing
DESCRIPTION:
URL:https://elkinsrandolphwv.com/event/peelsner-release-party-big-timber-brewing/
LOCATION:Big Timber Brewing\, 2 Davis Avenue\, Elkins\, WV\, 26241\, United States
CATEGORIES:Community
ATTACH;FMTTYPE=image/jpeg:https://elkinsrandolphwv.com/wp-content/uploads/2019/03/big-timber.jpg
END:VEVENT
END:VCALENDAR