BEGIN:VCALENDAR
VERSION:2.0
PRODID:-//Elkins-Randolph County Tourism - ECPv6.15.17.1//NONSGML v1.0//EN
CALSCALE:GREGORIAN
METHOD:PUBLISH
X-WR-CALNAME:Elkins-Randolph County Tourism
X-ORIGINAL-URL:https://elkinsrandolphwv.com
X-WR-CALDESC:Events for Elkins-Randolph County Tourism
REFRESH-INTERVAL;VALUE=DURATION:PT1H
X-Robots-Tag:noindex
X-PUBLISHED-TTL:PT1H
BEGIN:VTIMEZONE
TZID:UTC
BEGIN:STANDARD
TZOFFSETFROM:+0000
TZOFFSETTO:+0000
TZNAME:UTC
DTSTART:20210101T000000
END:STANDARD
END:VTIMEZONE
BEGIN:VEVENT
DTSTART;TZID=UTC:20221002T103000
DTEND;TZID=UTC:20221002T140000
DTSTAMP:20260420T213909
CREATED:20220908T173919Z
LAST-MODIFIED:20220908T173928Z
UID:26185-1664706600-1664719200@elkinsrandolphwv.com
SUMMARY:MSFF 10K Run/Walk
DESCRIPTION:Start/Finish:  5th Street/Davis Avenue \n10:30 a.m. Registration Begins in the Elkins/Randolph County Y.M.C.A \n12:30 p.m. Runners & Walkers Step Off \n12:45 p.m. Kids Run Step Off (Kids 1 Mile Challenge FREE to Kids 10 and under.  Registration the day of the event onsite.)
URL:https://elkinsrandolphwv.com/event/msff-10k-run-walk/
LOCATION:Elkins Randolph County YMCA\, 400 Davis Avenue\, Elkins\, WV\, 26241\, United States
CATEGORIES:Community,Competition,Kids & Family,Outdoor Activities,Sports & Recreations
ATTACH;FMTTYPE=image/jpeg:https://elkinsrandolphwv.com/wp-content/uploads/2019/10/MSFF-e1661781904912.jpg
END:VEVENT
BEGIN:VEVENT
DTSTART;TZID=UTC:20221002T120000
DTEND;TZID=UTC:20221002T170000
DTSTAMP:20260420T213909
CREATED:20220908T175633Z
LAST-MODIFIED:20220908T181215Z
UID:26186-1664712000-1664730000@elkinsrandolphwv.com
SUMMARY:MSFF Information Booth Open
DESCRIPTION:Davis Avenue (Between 3rd & 4th Streets)
URL:https://elkinsrandolphwv.com/event/msff-information-booth-open-3/
LOCATION:Downtown Elkins\, Davis Avenue\, Elkins\, WV\, 26241\, United States\, 101 Davis St\, United States
CATEGORIES:Community,Educational,Fairs & Festivals,Information
ATTACH;FMTTYPE=image/jpeg:https://elkinsrandolphwv.com/wp-content/uploads/2019/10/MSFF-e1661781904912.jpg
GEO:38.92227;-79.845372
X-APPLE-STRUCTURED-LOCATION;VALUE=URI;X-ADDRESS=Downtown Elkins Davis Avenue Elkins WV 26241 United States 101 Davis St United States;X-APPLE-RADIUS=500;X-TITLE=101 Davis St:geo:-79.845372,38.92227
END:VEVENT
BEGIN:VEVENT
DTSTART;TZID=UTC:20221002T120000
DTEND;TZID=UTC:20221002T180000
DTSTAMP:20260420T213909
CREATED:20220907T223514Z
LAST-MODIFIED:20220907T223849Z
UID:26161-1664712000-1664733600@elkinsrandolphwv.com
SUMMARY:Corn Maze & Pumkin Patch
DESCRIPTION:Fall is approaching! – Stop by Snyder Farms ­­­­­­­­­­­­for their new and improved corn maze! This year will be the largest and most detailed of their mazes to date. \nSnyder Farms is a family-owned business that has been in operation for 45 years! It’s their 4th year doing the Corn Maze and Pumpkin Patch but if you’ve already gone before\, don’t worry there are new things to expect this coming October! \nAdmission: \nChildren (3-12) – $5 \nAdults (13+) – $7 \nGroups (20 or more) – $5 per person
URL:https://elkinsrandolphwv.com/event/corn-maze-pumkin-patch/2022-10-02/
LOCATION:Snyder Farms\, 15631 Seneca Trail\, Huttonsville\, WV\, 26273\, United States
ATTACH;FMTTYPE=image/png:https://elkinsrandolphwv.com/wp-content/uploads/2022/09/Snyder-Farms-1-e1662574846196.png
END:VEVENT
BEGIN:VEVENT
DTSTART;TZID=UTC:20221002T140000
DTEND;TZID=UTC:20221002T180000
DTSTAMP:20260420T213909
CREATED:20220921T131032Z
LAST-MODIFIED:20220921T131032Z
UID:26309-1664719200-1664733600@elkinsrandolphwv.com
SUMMARY:Gambill Amusement Carnival
DESCRIPTION:Oct 2: 2pm-6pm\nOct 3: 6-10pm\nOct 4: 6-10pm\nOct 5: 6-10pm\nOct 6: 6-11pm\nOct 7: 10am-11pm\nOct 8: 10am-11pm\nOct 9: 1-5pm
URL:https://elkinsrandolphwv.com/event/gambill-amusement-carnival/
LOCATION:315 Railroad Ave Elkins\, WV 26241
CATEGORIES:Community,Entertainment,Fairs & Festivals,Food & Drink,Kids & Family,Outdoor Activities
ATTACH;FMTTYPE=image/png:https://elkinsrandolphwv.com/wp-content/uploads/2022/09/events-logo-nophoto-e1663751393143.png
END:VEVENT
BEGIN:VEVENT
DTSTART;TZID=UTC:20221002T143000
DTEND;TZID=UTC:20221002T163000
DTSTAMP:20260420T213909
CREATED:20220908T180335Z
LAST-MODIFIED:20220908T181024Z
UID:26187-1664721000-1664728200@elkinsrandolphwv.com
SUMMARY:Parade of Children " Creatures of the Mon"
DESCRIPTION:1:45pm Lineup – Corner of 12th Street & South Davis Avenue \n*Inclement weather date: Tuesday\, October 4th at 6:00pm\, Phil Gainer Community Center*
URL:https://elkinsrandolphwv.com/event/parade-of-children-creatures-of-the-mon/
LOCATION:Downtown Elkins\, Davis Avenue\, Elkins\, WV\, 26241\, United States\, 101 Davis St\, United States
CATEGORIES:Community,Entertainment
ATTACH;FMTTYPE=image/jpeg:https://elkinsrandolphwv.com/wp-content/uploads/2019/10/MSFF-e1661781904912.jpg
GEO:38.92227;-79.845372
X-APPLE-STRUCTURED-LOCATION;VALUE=URI;X-ADDRESS=Downtown Elkins Davis Avenue Elkins WV 26241 United States 101 Davis St United States;X-APPLE-RADIUS=500;X-TITLE=101 Davis St:geo:-79.845372,38.92227
END:VEVENT
BEGIN:VEVENT
DTSTART;TZID=UTC:20221002T153000
DTEND;TZID=UTC:20221002T170000
DTSTAMP:20260420T213909
CREATED:20220908T180859Z
LAST-MODIFIED:20220908T180859Z
UID:26188-1664724600-1664730000@elkinsrandolphwv.com
SUMMARY:MSFF Children's Festival
DESCRIPTION:Davis Avenue (Between 3rd & 4th Streets)
URL:https://elkinsrandolphwv.com/event/msff-childrens-festival-2/
LOCATION:Downtown Elkins\, Davis Avenue\, Elkins\, WV\, 26241\, United States\, 101 Davis St\, United States
CATEGORIES:Entertainment,Fairs & Festivals,Food & Drink,Kids & Family,Outdoor Activities
ATTACH;FMTTYPE=image/jpeg:https://elkinsrandolphwv.com/wp-content/uploads/2019/10/MSFF-e1661781904912.jpg
GEO:38.92227;-79.845372
X-APPLE-STRUCTURED-LOCATION;VALUE=URI;X-ADDRESS=Downtown Elkins Davis Avenue Elkins WV 26241 United States 101 Davis St United States;X-APPLE-RADIUS=500;X-TITLE=101 Davis St:geo:-79.845372,38.92227
END:VEVENT
BEGIN:VEVENT
DTSTART;TZID=UTC:20221002T190000
DTEND;TZID=UTC:20221002T220000
DTSTAMP:20260420T213909
CREATED:20220913T042020Z
LAST-MODIFIED:20220913T052512Z
UID:26205-1664737200-1664748000@elkinsrandolphwv.com
SUMMARY:Citizens Bank Festival Stage : Nothin' Fancy
DESCRIPTION:* Inclement Weather Location for all Downtown Stage Events – Elkins High School *
URL:https://elkinsrandolphwv.com/event/citizens-bank-festival-stage/
LOCATION:Elkins Town Square Ampitheatre\, 315 Railroad Avenue\, Elkins\, WV\, 26241\, United States
CATEGORIES:Community,Entertainment,Fairs & Festivals,Food & Drink,Kids & Family,Music
ATTACH;FMTTYPE=image/gif:https://elkinsrandolphwv.com/wp-content/uploads/2022/09/topback2.gif
END:VEVENT
END:VCALENDAR