BEGIN:VCALENDAR
VERSION:2.0
PRODID:-//Elkins-Randolph County Tourism - ECPv6.15.17.1//NONSGML v1.0//EN
CALSCALE:GREGORIAN
METHOD:PUBLISH
X-WR-CALNAME:Elkins-Randolph County Tourism
X-ORIGINAL-URL:https://elkinsrandolphwv.com
X-WR-CALDESC:Events for Elkins-Randolph County Tourism
REFRESH-INTERVAL;VALUE=DURATION:PT1H
X-Robots-Tag:noindex
X-PUBLISHED-TTL:PT1H
BEGIN:VTIMEZONE
TZID:UTC
BEGIN:STANDARD
TZOFFSETFROM:+0000
TZOFFSETTO:+0000
TZNAME:UTC
DTSTART:20210101T000000
END:STANDARD
END:VTIMEZONE
BEGIN:VEVENT
DTSTART;TZID=UTC:20221004T090000
DTEND;TZID=UTC:20221004T150000
DTSTAMP:20260421T154421
CREATED:20220913T050910Z
LAST-MODIFIED:20220913T050910Z
UID:26215-1664874000-1664895600@elkinsrandolphwv.com
SUMMARY:Randolph County Senior Bazaar
DESCRIPTION:
URL:https://elkinsrandolphwv.com/event/randolph-county-senior-bazaar-2/
LOCATION:Randolph County Senior Center\, 1 5th St\, Elkins\, WV\, 26241
ATTACH;FMTTYPE=image/jpeg:https://elkinsrandolphwv.com/wp-content/uploads/2019/10/MSFF-e1661781904912.jpg
END:VEVENT
BEGIN:VEVENT
DTSTART;TZID=UTC:20221004T100000
DTEND;TZID=UTC:20221004T160000
DTSTAMP:20260421T154421
CREATED:20220304T010321Z
LAST-MODIFIED:20220304T010321Z
UID:25385-1664877600-1664899200@elkinsrandolphwv.com
SUMMARY:Fall Annual Juried Arts Exhibit & Student Show @ The Arts Center
DESCRIPTION:Truly a favorite for many artists in West Virginia. The Annual Juried Fall Exhibit features artwork from residents both professional and the novice throughout West Virginia. Also\, features West Virginia art students from various counties throughout the state in primary and secondary schools. \nMain Exhibit: Oct 4 to Nov 17 \nShort Show: Oct 4 to Oct 8 \nStudent Art Show: Oct 4 to Oct 8 \nReception: TBA \nGallery Hours: Tuesday\, Wednesday\, Thursday\, from 10 am to 4 pm. Friday by appointment is preferred\, but drop ins welcome. If the flag is out front\, the front doors are open. If not\, feel free to enter through the back entrance of the building. \n\n2021 Sponsors: \nState Farm\, Jodie Parrack\, West Virginia Watercolor Society\, Laurie Goldstein Warren\, Seneca Trail Artists Guild\, Emma Scott Garden Club\, Anonymous
URL:https://elkinsrandolphwv.com/event/fall-annual-juried-arts-exhibit-student-show-the-arts-center/2022-10-04/
LOCATION:The Arts Center\, aka Randolph Co. Community Arts Council\, 2 Park St\, Elkins\, WV\, 26241\, United States
CATEGORIES:Art & Culture,Community
ATTACH;FMTTYPE=image/png:https://elkinsrandolphwv.com/wp-content/uploads/2019/03/the-arts-center-e1726534520618.png
GEO:38.924095;-79.850318
X-APPLE-STRUCTURED-LOCATION;VALUE=URI;X-ADDRESS=The Arts Center aka Randolph Co. Community Arts Council 2 Park St Elkins WV 26241 United States;X-APPLE-RADIUS=500;X-TITLE=2 Park St:geo:-79.850318,38.924095
END:VEVENT
BEGIN:VEVENT
DTSTART;TZID=UTC:20221004T170000
DTEND;TZID=UTC:20221004T210000
DTSTAMP:20260421T154421
CREATED:20220913T043240Z
LAST-MODIFIED:20220913T051850Z
UID:26209-1664902800-1664917200@elkinsrandolphwv.com
SUMMARY:Information Booth Open
DESCRIPTION:Corner of Davis Avenue & 3rd Street
URL:https://elkinsrandolphwv.com/event/information-booth-open/
CATEGORIES:Community,Information
ATTACH;FMTTYPE=image/jpeg:https://elkinsrandolphwv.com/wp-content/uploads/2019/10/MSFF-e1661781904912.jpg
END:VEVENT
BEGIN:VEVENT
DTSTART;TZID=UTC:20221004T180000
DTEND;TZID=UTC:20221004T220000
DTSTAMP:20260421T154421
CREATED:20220921T131224Z
LAST-MODIFIED:20220921T131224Z
UID:26313-1664906400-1664920800@elkinsrandolphwv.com
SUMMARY:Gambill Amusement Carnival
DESCRIPTION:Oct 2: 2pm-6pm\nOct 3: 6-10pm\nOct 4: 6-10pm\nOct 5: 6-10pm\nOct 6: 6-11pm\nOct 7: 10am-11pm\nOct 8: 10am-11pm\nOct 9: 1-5pm
URL:https://elkinsrandolphwv.com/event/gambill-amusement-carnival-3/
LOCATION:315 Railroad Ave Elkins\, WV 26241
CATEGORIES:Community,Entertainment,Fairs & Festivals,Food & Drink,Kids & Family,Outdoor Activities
ATTACH;FMTTYPE=image/png:https://elkinsrandolphwv.com/wp-content/uploads/2022/09/events-logo-nophoto-e1663751393143.png
END:VEVENT
BEGIN:VEVENT
DTSTART;TZID=UTC:20221004T190000
DTEND;TZID=UTC:20221004T210000
DTSTAMP:20260421T154421
CREATED:20220913T052403Z
LAST-MODIFIED:20220913T052403Z
UID:26217-1664910000-1664917200@elkinsrandolphwv.com
SUMMARY:Citizens Bank Festival Stage: Talent Show
DESCRIPTION:* Inclement Weather Location for all Downtown Stage Events – Elkins High School *
URL:https://elkinsrandolphwv.com/event/citizens-bank-festival-stage-talent-show/
LOCATION:Elkins Town Square Ampitheatre\, 315 Railroad Avenue\, Elkins\, WV\, 26241\, United States
CATEGORIES:Fairs & Festivals,Food & Drink,Kids & Family,Music
ATTACH;FMTTYPE=image/jpeg:https://elkinsrandolphwv.com/wp-content/uploads/2019/10/MSFF-e1661781904912.jpg
END:VEVENT
END:VCALENDAR