BEGIN:VCALENDAR
VERSION:2.0
PRODID:-//Elkins-Randolph County Tourism - ECPv6.15.17.1//NONSGML v1.0//EN
CALSCALE:GREGORIAN
METHOD:PUBLISH
X-WR-CALNAME:Elkins-Randolph County Tourism
X-ORIGINAL-URL:https://elkinsrandolphwv.com
X-WR-CALDESC:Events for Elkins-Randolph County Tourism
REFRESH-INTERVAL;VALUE=DURATION:PT1H
X-Robots-Tag:noindex
X-PUBLISHED-TTL:PT1H
BEGIN:VTIMEZONE
TZID:UTC
BEGIN:STANDARD
TZOFFSETFROM:+0000
TZOFFSETTO:+0000
TZNAME:UTC
DTSTART:20210101T000000
END:STANDARD
END:VTIMEZONE
BEGIN:VEVENT
DTSTART;TZID=UTC:20221005T090000
DTEND;TZID=UTC:20221005T150000
DTSTAMP:20260421T154412
CREATED:20220913T054105Z
LAST-MODIFIED:20220913T054121Z
UID:26219-1664960400-1664982000@elkinsrandolphwv.com
SUMMARY:Randolph County Senior Bazaar
DESCRIPTION:
URL:https://elkinsrandolphwv.com/event/randolph-county-senior-bazaar-3/
LOCATION:Randolph County Senior Center\, 1 5th St\, Elkins\, WV\, 26241
ATTACH;FMTTYPE=image/jpeg:https://elkinsrandolphwv.com/wp-content/uploads/2019/10/MSFF-e1661781904912.jpg
END:VEVENT
BEGIN:VEVENT
DTSTART;TZID=UTC:20221005T090000
DTEND;TZID=UTC:20221005T210000
DTSTAMP:20260421T154412
CREATED:20220913T053255Z
LAST-MODIFIED:20220913T053303Z
UID:26218-1664960400-1665003600@elkinsrandolphwv.com
SUMMARY:Primitive Campground Exhibit
DESCRIPTION:D&E Front Lawn
URL:https://elkinsrandolphwv.com/event/primitive-campground-exhibit/
LOCATION:Davis & Elkins College\, 100 Campus Dr\, Elkins\, WV 26241\, USA – Harper McNeeley Auditorium\, United States
ATTACH;FMTTYPE=image/jpeg:https://elkinsrandolphwv.com/wp-content/uploads/2019/10/MSFF-e1661781904912.jpg
GEO:38.921503;-79.844583
END:VEVENT
BEGIN:VEVENT
DTSTART;TZID=UTC:20221005T093000
DTEND;TZID=UTC:20221005T173000
DTSTAMP:20260421T154412
CREATED:20220915T202907Z
LAST-MODIFIED:20220915T202907Z
UID:26226-1664962200-1664991000@elkinsrandolphwv.com
SUMMARY:Mountain Weavers Guild
DESCRIPTION:
URL:https://elkinsrandolphwv.com/event/mountain-weavers-guild/
LOCATION:Darden Mill Museum\, 2 Railroad Ave\, Elkins\, WV\, 26241\, United States
CATEGORIES:Art & Culture,Community
ATTACH;FMTTYPE=image/jpeg:https://elkinsrandolphwv.com/wp-content/uploads/2022/09/71898026_1429176620568362_7320672151445438464_n-e1663259327970.jpg
END:VEVENT
BEGIN:VEVENT
DTSTART;TZID=UTC:20221005T170000
DTEND;TZID=UTC:20221005T210000
DTSTAMP:20260421T154412
CREATED:20220913T054716Z
LAST-MODIFIED:20220913T054716Z
UID:26221-1664989200-1665003600@elkinsrandolphwv.com
SUMMARY:Information Booth Open
DESCRIPTION:Corner of Davis Avenue & 3rd Street
URL:https://elkinsrandolphwv.com/event/information-booth-open-3/
CATEGORIES:Community,Information
ATTACH;FMTTYPE=image/jpeg:https://elkinsrandolphwv.com/wp-content/uploads/2019/10/MSFF-e1661781904912.jpg
END:VEVENT
BEGIN:VEVENT
DTSTART;TZID=UTC:20221005T180000
DTEND;TZID=UTC:20221005T200000
DTSTAMP:20260421T154412
CREATED:20220915T203753Z
LAST-MODIFIED:20220915T203826Z
UID:26229-1664992800-1665000000@elkinsrandolphwv.com
SUMMARY:The Arts Center Juried Art Exhibit
DESCRIPTION:
URL:https://elkinsrandolphwv.com/event/the-arts-center-juried-art-exhibit/
LOCATION:The Arts Center\, aka Randolph Co. Community Arts Council\, 2 Park St\, Elkins\, WV\, 26241\, United States
CATEGORIES:Art & Culture,Community,Kids & Family
ATTACH;FMTTYPE=image/jpeg:https://elkinsrandolphwv.com/wp-content/uploads/2019/10/MSFF-e1661781904912.jpg
GEO:38.924095;-79.850318
X-APPLE-STRUCTURED-LOCATION;VALUE=URI;X-ADDRESS=The Arts Center aka Randolph Co. Community Arts Council 2 Park St Elkins WV 26241 United States;X-APPLE-RADIUS=500;X-TITLE=2 Park St:geo:-79.850318,38.924095
END:VEVENT
BEGIN:VEVENT
DTSTART;TZID=UTC:20221005T180000
DTEND;TZID=UTC:20221005T210000
DTSTAMP:20260421T154412
CREATED:20220915T204107Z
LAST-MODIFIED:20220915T204107Z
UID:26230-1664992800-1665003600@elkinsrandolphwv.com
SUMMARY:Photography Exhibit Reception
DESCRIPTION:
URL:https://elkinsrandolphwv.com/event/photography-exhibit-reception/
LOCATION:Elkins Randolph County YMCA\, 400 Davis Avenue\, Elkins\, WV\, 26241\, United States
CATEGORIES:Art & Culture,Community,Kids & Family
ATTACH;FMTTYPE=image/jpeg:https://elkinsrandolphwv.com/wp-content/uploads/2019/10/MSFF-e1661781904912.jpg
END:VEVENT
BEGIN:VEVENT
DTSTART;TZID=UTC:20221005T180000
DTEND;TZID=UTC:20221005T220000
DTSTAMP:20260421T154412
CREATED:20220921T131301Z
LAST-MODIFIED:20220921T131301Z
UID:26314-1664992800-1665007200@elkinsrandolphwv.com
SUMMARY:Gambill Amusement Carnival
DESCRIPTION:Oct 2: 2pm-6pm\nOct 3: 6-10pm\nOct 4: 6-10pm\nOct 5: 6-10pm\nOct 6: 6-11pm\nOct 7: 10am-11pm\nOct 8: 10am-11pm\nOct 9: 1-5pm
URL:https://elkinsrandolphwv.com/event/gambill-amusement-carnival-4/
LOCATION:315 Railroad Ave Elkins\, WV 26241
CATEGORIES:Community,Entertainment,Fairs & Festivals,Food & Drink,Kids & Family,Outdoor Activities
ATTACH;FMTTYPE=image/png:https://elkinsrandolphwv.com/wp-content/uploads/2022/09/events-logo-nophoto-e1663751393143.png
END:VEVENT
BEGIN:VEVENT
DTSTART;TZID=UTC:20221005T190000
DTEND;TZID=UTC:20221005T210000
DTSTAMP:20260421T154412
CREATED:20220913T054918Z
LAST-MODIFIED:20220913T054918Z
UID:26222-1664996400-1665003600@elkinsrandolphwv.com
SUMMARY:Citizens Bank Festival Stage: Elton John & Billy Joel Tribute
DESCRIPTION:* Inclement Weather Location for all Downtown Stage Events – Elkins High School *
URL:https://elkinsrandolphwv.com/event/citizens-bank-festival-stage-elton-john-billy-joel-tribute/
LOCATION:Elkins Town Square Ampitheatre\, 315 Railroad Avenue\, Elkins\, WV\, 26241\, United States
CATEGORIES:Fairs & Festivals,Food & Drink,Kids & Family,Music
ATTACH;FMTTYPE=image/jpeg:https://elkinsrandolphwv.com/wp-content/uploads/2019/10/MSFF-e1661781904912.jpg
END:VEVENT
END:VCALENDAR