BEGIN:VCALENDAR
VERSION:2.0
PRODID:-//Elkins-Randolph County Tourism - ECPv6.15.20//NONSGML v1.0//EN
CALSCALE:GREGORIAN
METHOD:PUBLISH
X-WR-CALNAME:Elkins-Randolph County Tourism
X-ORIGINAL-URL:https://elkinsrandolphwv.com
X-WR-CALDESC:Events for Elkins-Randolph County Tourism
REFRESH-INTERVAL;VALUE=DURATION:PT1H
X-Robots-Tag:noindex
X-PUBLISHED-TTL:PT1H
BEGIN:VTIMEZONE
TZID:UTC
BEGIN:STANDARD
TZOFFSETFROM:+0000
TZOFFSETTO:+0000
TZNAME:UTC
DTSTART:20230101T000000
END:STANDARD
END:VTIMEZONE
BEGIN:VEVENT
DTSTART;TZID=UTC:20240825T180000
DTEND;TZID=UTC:20240825T210000
DTSTAMP:20260423T085613
CREATED:20240822T065329Z
LAST-MODIFIED:20240822T065329Z
UID:29106-1724608800-1724619600@elkinsrandolphwv.com
SUMMARY:A Taste of the Florida Keys: Chef's Table Experience
DESCRIPTION:We’re taking you on a journey to the Florida Keys—not the sanitized\, picture-perfect version you see on postcards\, but the real Keys. The one with weathered fishermen\, conch fritters that make you weak in the knees\, and a salty breeze that makes everything taste just a little bit better.\nChef Stalnaker has put together a seven-course menu that’s not just inspired by the Keys—it’s drenched in them. We’re talking fresh-off-the-boat seafood\, citrus that could’ve been plucked from Hemingway’s backyard\, and flavors that don’t just whisper—they shout. This isn’t a meal for the faint of heart. It’s for those who know that good food should make you feel something.\nThe Keys are a place where time slows down\, where meals are meant to be savored\, not rushed. That’s what this event is all about. We’re bringing the sun-soaked spirit of the islands to West Virginia\, with dishes that are as raw and real as the people who live there. Each bite is a taste of the Keys—honest\, bold\, and just a little bit wild.
URL:https://elkinsrandolphwv.com/event/a-taste-of-the-florida-keys-chefs-table-experience/
LOCATION:The Forks\, 35 Scenic Ridge Rd\, Elkins\, 26241\, United States
CATEGORIES:Art & Culture,Community,Food
ATTACH;FMTTYPE=image/jpeg:https://elkinsrandolphwv.com/wp-content/uploads/2019/03/forks.jpg
END:VEVENT
END:VCALENDAR