BEGIN:VCALENDAR
VERSION:2.0
PRODID:-//Elkins-Randolph County Tourism - ECPv6.15.20//NONSGML v1.0//EN
CALSCALE:GREGORIAN
METHOD:PUBLISH
X-WR-CALNAME:Elkins-Randolph County Tourism
X-ORIGINAL-URL:https://elkinsrandolphwv.com
X-WR-CALDESC:Events for Elkins-Randolph County Tourism
REFRESH-INTERVAL;VALUE=DURATION:PT1H
X-Robots-Tag:noindex
X-PUBLISHED-TTL:PT1H
BEGIN:VTIMEZONE
TZID:UTC
BEGIN:STANDARD
TZOFFSETFROM:+0000
TZOFFSETTO:+0000
TZNAME:UTC
DTSTART:20230101T000000
END:STANDARD
END:VTIMEZONE
BEGIN:VEVENT
DTSTART;TZID=UTC:20241205T160000
DTEND;TZID=UTC:20241205T190000
DTSTAMP:20260425T085208
CREATED:20241125T194032Z
LAST-MODIFIED:20241125T194032Z
UID:29754-1733414400-1733425200@elkinsrandolphwv.com
SUMMARY:Christmas at the Kump House
DESCRIPTION:TUESDAYS AND THURSDAYS\, DEC. 3-19 FROM 4-7 P.M.\nSATURDAYS\, DEC. 21 AND 28\, FROM 1-4 P.M.  \nTour the 1925 historic home of Gov. Kump decorated for the holidays! The Open House features a model train display\, snowman wonderland\, light refreshments\, and benefits the Kump Education Center. 401 Randolph Ave. (across from Kroger). Parking in rear\, off Seneca Road. A $10 donation is recommended.
URL:https://elkinsrandolphwv.com/event/christmas-at-the-kump-house-2/
LOCATION:Kump Education Center\, 401 Davis Avenue\, Elkins\, WV\, 26241\, United States
END:VEVENT
BEGIN:VEVENT
DTSTART;TZID=UTC:20241205T160000
DTEND;TZID=UTC:20241205T200000
DTSTAMP:20260425T085208
CREATED:20241121T205447Z
LAST-MODIFIED:20241121T205447Z
UID:29741-1733414400-1733428800@elkinsrandolphwv.com
SUMMARY:Pint Night at Big Timber Brewing for Interact Children's Museum
DESCRIPTION:Please join us Thursday\, December 5\, 2024\, from 4:00-8:00 PM at Big Timber Brewing! BTB is donating to our Open the Doors Capital Campaign! ICM will earn $1.00 from every beer purchased from 4-8!\n Our friends at Clementine’s Cantina will be providing coupons for free chips & salsa! Additionally\, they will also be donating ALL of their tips to ICM on 12.5.24!\n Our friends at Gino’s Pizza of Elkins have also partnered with us on 12.5.24! Gino’s will have 50 tickets to give away. They are valid for any of the following: pepperoni bites\, 6 wings\, breadsticks w/cheese\, & 1 topping large pizza!Any purchase of these items with a ticket\, Ginos will donate 20% of the total bill to ICM!\n Please join us to support local small businesses & help ICM Open the Doors at a permanent location!
URL:https://elkinsrandolphwv.com/event/pint-night-at-big-timber-brewing-for-interact-childrens-museum/
LOCATION:Big Timber Brewing\, 2 Davis Avenue\, Elkins\, WV\, 26241\, United States
CATEGORIES:Community,Food & Drink
ORGANIZER;CN="Interact Children's Museum":MAILTO:interactmuseum@gmail.com
END:VEVENT
BEGIN:VEVENT
DTSTART;TZID=UTC:20241205T183000
DTEND;TZID=UTC:20241205T190000
DTSTAMP:20260425T085208
CREATED:20241120T221332Z
LAST-MODIFIED:20241120T221332Z
UID:29726-1733423400-1733425200@elkinsrandolphwv.com
SUMMARY:Trim a Tree & Light the Night Party at Graceland Inn
DESCRIPTION:When: December 5th\, 6:30pm – 7PM \nBring an Ornament to adorn D&E’s community tree on the veranda of Graceland Inn. Complimentary ceremony\, live entertainment. \nRSVP for Post-Ceremony Dinner Reservations.
URL:https://elkinsrandolphwv.com/event/trim-a-tree-light-the-night-party-at-graceland-inn/
LOCATION:Graceland Inn and Restaurant\, 100 Campus Drive\, Elkins\, WV\, 26241\, United States
END:VEVENT
END:VCALENDAR