BEGIN:VCALENDAR
VERSION:2.0
PRODID:-//Elkins-Randolph County Tourism - ECPv6.15.20//NONSGML v1.0//EN
CALSCALE:GREGORIAN
METHOD:PUBLISH
X-ORIGINAL-URL:https://elkinsrandolphwv.com
X-WR-CALDESC:Events for Elkins-Randolph County Tourism
REFRESH-INTERVAL;VALUE=DURATION:PT1H
X-Robots-Tag:noindex
X-PUBLISHED-TTL:PT1H
BEGIN:VTIMEZONE
TZID:UTC
BEGIN:STANDARD
TZOFFSETFROM:+0000
TZOFFSETTO:+0000
TZNAME:UTC
DTSTART:20230101T000000
END:STANDARD
END:VTIMEZONE
BEGIN:VEVENT
DTSTART;TZID=UTC:20241206T100000
DTEND;TZID=UTC:20241206T170000
DTSTAMP:20260424T153418
CREATED:20241121T215722Z
LAST-MODIFIED:20241121T215722Z
UID:29751-1733479200-1733504400@elkinsrandolphwv.com
SUMMARY:Holiday Artist Market at The Arts Center
DESCRIPTION:On December 6th & December 7th\, RCCAC’s Holiday Artist Market will fill the Great Hall with incredible Artist Vendors and their phenomenal artwork.\nThis is a great opportunity to shop from local artists\, support your local economy\, and find the unique holiday gifts your loved one’s dream of. We are so excited to welcome some new vendors this year\, as well as seeing some familiar faces! Thank you to ALL participating artists for supporting your local Arts Center & thank you to @greatharvestelkinswv for feeding our starving (JK) artists
URL:https://elkinsrandolphwv.com/event/holiday-artist-market-at-the-arts-center-2/
LOCATION:The Arts Center\, aka Randolph Co. Community Arts Council\, 2 Park St\, Elkins\, WV\, 26241\, United States
GEO:38.924095;-79.850318
X-APPLE-STRUCTURED-LOCATION;VALUE=URI;X-ADDRESS=The Arts Center aka Randolph Co. Community Arts Council 2 Park St Elkins WV 26241 United States;X-APPLE-RADIUS=500;X-TITLE=2 Park St:geo:-79.850318,38.924095
END:VEVENT
BEGIN:VEVENT
DTSTART;TZID=UTC:20241206T160000
DTEND;TZID=UTC:20241206T180000
DTSTAMP:20260424T153418
CREATED:20241120T213352Z
LAST-MODIFIED:20241120T213352Z
UID:29713-1733500800-1733508000@elkinsrandolphwv.com
SUMMARY:Polar Express Pajama Party
DESCRIPTION:Put on your pajamas\, bring your sleeping bag\, stuffed animal\, or blanket and get ready for the best PJ party ever. There will be fun\, cookies\, cocoa and a visit from Santa and Mrs. Claus!\n\nView the Facebook page to purchase tickets! Only 20 tickets will be available.
URL:https://elkinsrandolphwv.com/event/polar-express-pajama-party/
LOCATION:Alexandria on Main\, 119 Third Street\, Elkins\, WV\, 26241\, United States
CATEGORIES:Community,Entertainment,Kids & Family
ATTACH;FMTTYPE=image/png:https://elkinsrandolphwv.com/wp-content/uploads/2024/08/Screenshot-2024-08-21-10.20.00-PM-e1726092562772.png
END:VEVENT
BEGIN:VEVENT
DTSTART;TZID=UTC:20241206T180000
DTEND;TZID=UTC:20241206T200000
DTSTAMP:20260424T153418
CREATED:20241120T215623Z
LAST-MODIFIED:20241120T215623Z
UID:29719-1733508000-1733515200@elkinsrandolphwv.com
SUMMARY:Fresh Christmas Wreath Making Class at The Oxley House
DESCRIPTION:Join The Oxley House on Friday\, December 6th\, 2024\, at 6:00 PM for a delightful evening of creativity and holiday cheer with Liz Marshall MacVean!\n Details:\nCost: $100 per person or $175 per coupleIncludes: All materials to create a beautiful fresh Christmas wreath A charcuterie board Baked brie A festive alcoholic Christmas punchLocation: Tygart Hotel Louise McNeill Conference RoomLimited to 20 spots! Call now to reserve your spot—space is filling up fast—304-924-4279!\nLet’s kick off the holiday season with joy\, creativity\, and delicious treats. We can’t wait to see you there!
URL:https://elkinsrandolphwv.com/event/fresh-christmas-wreath-making-class-at-the-oxley-house/
LOCATION:Oxley House\, 206 Davis Avenue\, Elkins\, WV
END:VEVENT
BEGIN:VEVENT
DTSTART;TZID=UTC:20241206T180000
DTEND;TZID=UTC:20241206T200000
DTSTAMP:20260424T153418
CREATED:20241121T210156Z
LAST-MODIFIED:20241121T210156Z
UID:29745-1733508000-1733515200@elkinsrandolphwv.com
SUMMARY:Elkins-Randolph County Chamber of Commerce's Annual Elkins Christmas Parade
DESCRIPTION:
URL:https://elkinsrandolphwv.com/event/elkins-randolph-county-chamber-of-commerces-annual-elkins-christmas-parade/
LOCATION:Downtown Elkins\, Davis Avenue\, Elkins\, WV\, 26241\, United States
END:VEVENT
BEGIN:VEVENT
DTSTART;TZID=UTC:20241206T180000
DTEND;TZID=UTC:20241206T210000
DTSTAMP:20260424T153418
CREATED:20241001T230037Z
LAST-MODIFIED:20241001T230037Z
UID:29602-1733508000-1733518800@elkinsrandolphwv.com
SUMMARY:Mountain Memories Christmas Dinner Show
DESCRIPTION:After a fabulous plated Christmas dinner of teriyaki chicken and ham and all the trimmings\, celebrate the “Reason for the Season” at the Gandy Dancer Theatre! This incredible cast includes talented singers\, beautiful costumed dancers\, comedians and the finest musicians around. \nArrive at 5:30 pm  ~ Dinner at 6:00 pm  ~ Show Only arrive at 6:30 pm  ~ Show at 7:00 pm
URL:https://elkinsrandolphwv.com/event/mountain-memories-christmas-dinner-show-3/
LOCATION:Gandy Dancer Theatre and Conference Center\, 359 Beverly Pike\, Elkins\, WV 26241\, USA\, United States
CATEGORIES:Community,Entertainment,Food & Drink,Kids & Family
ATTACH;FMTTYPE=image/jpeg:https://elkinsrandolphwv.com/wp-content/uploads/2019/03/Gandy-Logo-1-480x335-e1727185281650.jpg
GEO:38.918641;-79.842607
END:VEVENT
BEGIN:VEVENT
DTSTART;TZID=UTC:20241206T200000
DTEND;TZID=UTC:20241206T220000
DTSTAMP:20260424T153418
CREATED:20241121T032020Z
LAST-MODIFIED:20241121T032020Z
UID:29735-1733515200-1733522400@elkinsrandolphwv.com
SUMMARY:Live Music at El Gran Sabor: Tiffany and Joel
DESCRIPTION:
URL:https://elkinsrandolphwv.com/event/live-music-at-el-gran-sabor-tiffany-and-joel/
LOCATION:El Gran Sabor\, 413 Kerens Ave\, Elkins\, WV 26241\, USA\, 155 Kerens Ave\, United States
GEO:38.92349;-79.848286
X-APPLE-STRUCTURED-LOCATION;VALUE=URI;X-ADDRESS=El Gran Sabor 413 Kerens Ave Elkins WV 26241 USA 155 Kerens Ave United States;X-APPLE-RADIUS=500;X-TITLE=155 Kerens Ave:geo:-79.848286,38.92349
END:VEVENT
END:VCALENDAR