BEGIN:VCALENDAR
VERSION:2.0
PRODID:-//Elkins-Randolph County Tourism - ECPv6.15.20//NONSGML v1.0//EN
CALSCALE:GREGORIAN
METHOD:PUBLISH
X-WR-CALNAME:Elkins-Randolph County Tourism
X-ORIGINAL-URL:https://elkinsrandolphwv.com
X-WR-CALDESC:Events for Elkins-Randolph County Tourism
REFRESH-INTERVAL;VALUE=DURATION:PT1H
X-Robots-Tag:noindex
X-PUBLISHED-TTL:PT1H
BEGIN:VTIMEZONE
TZID:UTC
BEGIN:STANDARD
TZOFFSETFROM:+0000
TZOFFSETTO:+0000
TZNAME:UTC
DTSTART:20230101T000000
END:STANDARD
END:VTIMEZONE
BEGIN:VEVENT
DTSTART;TZID=UTC:20241207T070000
DTEND;TZID=UTC:20241207T120000
DTSTAMP:20260426T000405
CREATED:20240903T223721Z
LAST-MODIFIED:20240903T223721Z
UID:29133-1733554800-1733572800@elkinsrandolphwv.com
SUMMARY:Buckwheat / Pancake Breakfast
DESCRIPTION:Hosted by the Home of the Soul Family Worship in partnership with the Tygart Valley Homestead Association. \nWhen: December 7\, 2024 from 7am to noon. \nWhere: Homestead Community Event Center \nPrice: $10.00 All You Can Eat \nMenu May Vary: Sourdough Buckwheat Pancakes\, Regular Pancakes\, Eggs (fried of scrambled)\, Pork Sausage\, Coffee\, Orange Juice\, or Milk
URL:https://elkinsrandolphwv.com/event/buckwheat-pancake-breakfast-5/
LOCATION:Homestead Community Center\, Dailey\, WV\, United States
CATEGORIES:Community,Food,Food & Drink
END:VEVENT
BEGIN:VEVENT
DTSTART;TZID=UTC:20241207T080000
DTEND;TZID=UTC:20241207T110000
DTSTAMP:20260426T000405
CREATED:20240930T180929Z
LAST-MODIFIED:20240930T180929Z
UID:29588-1733558400-1733569200@elkinsrandolphwv.com
SUMMARY:Breakfast with Santa and Friends @ Beverly Fire Dept
DESCRIPTION:Come and support the EHS Class of 2025 and have pancakes\, sausage\, and drinks with Santa\, Mrs Claus and friends. All proceeds support the 2025 EHS Project Safe Graduation Party. Tickets will go on sale in November 2024 thru any EHS senior that signed up to sell tickets. Tickets may also be purchased online starting in October and go thru November 30th at www.eventbrite.com. Tickets will be available for purchase at the door the day of the event.
URL:https://elkinsrandolphwv.com/event/breakfast-with-santa-and-friends-beverly-fire-dept/
LOCATION:Beverly Volunteer Fire Department\, 429 Main St\, Beverly\, WV 26253\, USA\, 25 Main St\, United States
CATEGORIES:Community,Entertainment,Food & Drink,Kids & Family
GEO:38.842835;-79.874052
X-APPLE-STRUCTURED-LOCATION;VALUE=URI;X-ADDRESS=Beverly Volunteer Fire Department 429 Main St Beverly WV 26253 USA 25 Main St United States;X-APPLE-RADIUS=500;X-TITLE=25 Main St:geo:-79.874052,38.842835
END:VEVENT
BEGIN:VEVENT
DTSTART;TZID=UTC:20241207T080000
DTEND;TZID=UTC:20241207T150000
DTSTAMP:20260426T000405
CREATED:20241121T210621Z
LAST-MODIFIED:20241121T210644Z
UID:29746-1733558400-1733583600@elkinsrandolphwv.com
SUMMARY:Elkins Community Christmas Bazaar
DESCRIPTION:Come welcome in the Holiday Season on the first Saturday in December at the Phil Gainer Community Center.\nThe Bazaar will feature a unique variety of vendors\, furry friends from the Randolph County Humane Society and a visit from Santa between 11am and 1pm. Free admission\, although a donation(monetary or new and unused toy) for Randolph County Toys for Tots is encouraged. Concessions available.
URL:https://elkinsrandolphwv.com/event/elkins-community-christmas-bazaar-2/
LOCATION:Phil Gainer Community Center\, 142 Robert E Lee Ave Ext\, Elkins\, WV 26241\, USA\, 149 Robert E Lee Ave Exd\, United States
GEO:38.925764;-79.864059
X-APPLE-STRUCTURED-LOCATION;VALUE=URI;X-ADDRESS=Phil Gainer Community Center 142 Robert E Lee Ave Ext Elkins WV 26241 USA 149 Robert E Lee Ave Exd United States;X-APPLE-RADIUS=500;X-TITLE=149 Robert E Lee Ave Exd:geo:-79.864059,38.925764
END:VEVENT
BEGIN:VEVENT
DTSTART;TZID=UTC:20241207T093000
DTEND;TZID=UTC:20241207T170000
DTSTAMP:20260426T000405
CREATED:20241206T192645Z
LAST-MODIFIED:20241206T192645Z
UID:29779-1733563800-1733590800@elkinsrandolphwv.com
SUMMARY:Holiday Craft Show Hosted by Davis & Elkins Student Nursing Association
DESCRIPTION:
URL:https://elkinsrandolphwv.com/event/holiday-craft-show-hosted-by-davis-elkins-student-nursing-association/
LOCATION:Davis and Elkins College
CATEGORIES:Art & Culture,Community
END:VEVENT
BEGIN:VEVENT
DTSTART;TZID=UTC:20241207T100000
DTEND;TZID=UTC:20241207T170000
DTSTAMP:20260426T000405
CREATED:20240801T190006Z
LAST-MODIFIED:20240801T190006Z
UID:29031-1733565600-1733590800@elkinsrandolphwv.com
SUMMARY:Old Fashioned Christmas
DESCRIPTION:
URL:https://elkinsrandolphwv.com/event/old-fashioned-christmas/
LOCATION:Beverly Heritage Center\, 4 Court Street\, Beverly\, WV\, 26253\, United States
CATEGORIES:Community,Entertainment,Kids & Family
ATTACH;FMTTYPE=image/jpeg:https://elkinsrandolphwv.com/wp-content/uploads/2021/02/beverly-heritage-center-logo-1-e1725977032951.jpg
GEO:38.8405774458;-79.8751789914
X-APPLE-STRUCTURED-LOCATION;VALUE=URI;X-ADDRESS=Beverly Heritage Center 4 Court Street Beverly WV 26253 United States;X-APPLE-RADIUS=500;X-TITLE=4 Court Street:geo:-79.8751789914,38.8405774458
END:VEVENT
BEGIN:VEVENT
DTSTART;TZID=UTC:20241207T100000
DTEND;TZID=UTC:20241207T170000
DTSTAMP:20260426T000405
CREATED:20241121T013152Z
LAST-MODIFIED:20241121T215744Z
UID:29731-1733565600-1733590800@elkinsrandolphwv.com
SUMMARY:Holiday Artist Market at The Arts Center
DESCRIPTION:On December 6th & December 7th\, RCCAC’s Holiday Artist Market will fill the Great Hall with incredible Artist Vendors and their phenomenal artwork.This is a great opportunity to shop from local artists\, support your local economy\, and find the unique holiday gifts your loved one’s dream of. We are so excited to welcome some new vendors this year\, as well as seeing some familiar faces! Thank you to ALL participating artists for supporting your local Arts Center & thank you to @greatharvestelkinswv for feeding our starving (JK) artists!
URL:https://elkinsrandolphwv.com/event/holiday-artist-market-2/
LOCATION:Randolph County Community Arts Center\, 2 Park Street\, Elkins\, 26241
END:VEVENT
BEGIN:VEVENT
DTSTART;TZID=UTC:20241207T120000
DTEND;TZID=UTC:20241207T143000
DTSTAMP:20260426T000405
CREATED:20241001T230207Z
LAST-MODIFIED:20241001T230207Z
UID:29603-1733572800-1733581800@elkinsrandolphwv.com
SUMMARY:Mountain Memories Christmas Matinee
DESCRIPTION:Celebrate the “Reason for the Season” at the Gandy Dancer Theatre! This incredible cast includes talented singers\, beautiful costumed dancers\, comedians and the finest musicians around. \nArrive at 11:30 am  ~ Lunch at 12:00 pm  ~ Show Only arrive at 12:30 pm  ~  \nShow at 1:00 pm
URL:https://elkinsrandolphwv.com/event/mountain-memories-christmas-matinee/
LOCATION:Gandy Dancer Theatre and Conference Center\, 359 Beverly Pike\, Elkins\, WV 26241\, USA\, United States
CATEGORIES:Community,Entertainment,Food & Drink,Kids & Family
ATTACH;FMTTYPE=image/jpeg:https://elkinsrandolphwv.com/wp-content/uploads/2019/03/Gandy-Logo-1-480x335-e1727185281650.jpg
GEO:38.918641;-79.842607
END:VEVENT
BEGIN:VEVENT
DTSTART;TZID=UTC:20241207T130000
DTEND;TZID=UTC:20241207T150000
DTSTAMP:20260426T000405
CREATED:20241113T013451Z
LAST-MODIFIED:20241113T013451Z
UID:29679-1733576400-1733583600@elkinsrandolphwv.com
SUMMARY:Elfkins Santa Workhop at the Tygart Hotel
DESCRIPTION: Elfkins Santa’s Workshop at the Tygart Hotel!  Date: December 7th\, 2024 Time: 1:00 p.m. to 3:00 p.m. Cost: $35 per child\nBring the magic of Christmas to life with a fun-filled day at the Tygart Hotel!  Little ones (ages 5 and up) are invited to meet Santa\, Mrs. Claus\, and their merry elves for an afternoon of holiday fun!\n Activities Include  Photos with Santa Holiday Ornament Decorating Decorating Christmas Cookies with the Elfies Christmas Games with Prizes Letters to Santa\nParents\, don’t forget – all children must be accompanied by an adult at all times to keep the holiday spirit safe and merry!\nCall 304-924-4279 for more information. Let’s make this holiday season unforgettable! 
URL:https://elkinsrandolphwv.com/event/elfkins-santa-workhop-at-the-tygart-hotel/
LOCATION:Tygart Hotel\, 206 Davis Avenue\, Elkins\, WV
CATEGORIES:Art & Culture,Community,Entertainment,Food,Kids & Family
ATTACH;FMTTYPE=image/png:https://elkinsrandolphwv.com/wp-content/uploads/2024/02/Tygart-Hotel-profile.png
ORGANIZER;CN="Tygart Hotel":MAILTO:fd.tygart@taylorhospitality.com
END:VEVENT
BEGIN:VEVENT
DTSTART;TZID=UTC:20241207T160000
DTEND;TZID=UTC:20241207T190000
DTSTAMP:20260426T000405
CREATED:20241120T213840Z
LAST-MODIFIED:20241120T213840Z
UID:29714-1733587200-1733598000@elkinsrandolphwv.com
SUMMARY:A Night in Bethlehem
DESCRIPTION:oin us once again for our annual “A Night in Bethlehem” A FREE interactive Christmas experience for ALL AGES. Experience the sights\, sounds and wonders of the very first Christmas in little ol’ Bethlehem town with our interactive marketplace and live nativity with animals. We are adding new exciting elements this year\, you don’t want to miss this family event celebrating the true meaning of Christmas!
URL:https://elkinsrandolphwv.com/event/a-night-in-bethlehem/
LOCATION:First Baptist Church\, 412 Randolph Ave\, Elkins\, 26241\, United States
CATEGORIES:Art & Culture,Community,Entertainment,Kids & Family
END:VEVENT
BEGIN:VEVENT
DTSTART;TZID=UTC:20241207T180000
DTEND;TZID=UTC:20241207T210000
DTSTAMP:20260426T000405
CREATED:20241001T230334Z
LAST-MODIFIED:20241001T230334Z
UID:29604-1733594400-1733605200@elkinsrandolphwv.com
SUMMARY:Mountain Memories Christmas Dinner Show
DESCRIPTION:After a fabulous plated Christmas dinner of teriyaki chicken and ham and all the trimmings\, celebrate the “Reason for the Season” at the Gandy Dancer Theatre! This incredible cast includes talented singers\, beautiful costumed dancers\, comedians and the finest musicians around. \nArrive at 5:30 pm  ~ Dinner at 6:00 pm  ~ Show Only arrive at 6:30 pm  ~ Show at 7:00 pm
URL:https://elkinsrandolphwv.com/event/mountain-memories-christmas-dinner-show-4/
LOCATION:Gandy Dancer Theatre and Conference Center\, 359 Beverly Pike\, Elkins\, WV 26241\, USA\, United States
CATEGORIES:Community,Entertainment,Food & Drink,Kids & Family
ATTACH;FMTTYPE=image/jpeg:https://elkinsrandolphwv.com/wp-content/uploads/2019/03/Gandy-Logo-1-480x335-e1727185281650.jpg
GEO:38.918641;-79.842607
END:VEVENT
BEGIN:VEVENT
DTSTART;TZID=UTC:20241207T180000
DTEND;TZID=UTC:20241207T220000
DTSTAMP:20260426T000405
CREATED:20241120T220556Z
LAST-MODIFIED:20241203T195414Z
UID:29724-1733594400-1733608800@elkinsrandolphwv.com
SUMMARY:Augusta Wassail Fundraiser
DESCRIPTION:6:00 p.m. | Apple Tree Wassail @ Kump House Apple Orchard\n7:00 p.m. | Wassail & Carol Sing @ Big Timber\n8:00 p.m. | Square Dance @ Big Timber\n\nGet ready for an unforgettable evening of holiday cheer and holiday traditions as we come together to support the Augusta Heritage Center’s Scholarship Fund! All funds raised during this event help connect those in need of assistance with our community\, culture\, and art.\n Join the fun!\n Wassailing – Raise your voice and your glass as Emily Miller leads us in this lively holiday tradition!\n Square Dance – Kick up your heels to the sounds of live music and expert calling. No experience? No problem—come as you are and join the fun!\n Silent Auction – Score unique\, one-of-a-kind treasures just in time for the holidays!\n Enjoy Big Timber Brewing’s craft beers while soaking up the festive vibes.\n Admission: Donations at the door. Every dollar helps provide scholarships for students to keep the traditions we love alive!This is your chance to celebrate\, dance\, sing\, and make a real difference in our community. Grab your friends and family\, and let’s make this a night to remember! \n Spread the word\, and we’ll see you there!
URL:https://elkinsrandolphwv.com/event/augusta-heritage-center-scholarship-fundraiser/
LOCATION:Big Timber Brewing\, 2 Davis Avenue\, Elkins\, WV\, 26241\, United States
END:VEVENT
BEGIN:VEVENT
DTSTART;TZID=UTC:20241207T190000
DTEND;TZID=UTC:20241207T220000
DTSTAMP:20260426T000405
CREATED:20241121T204355Z
LAST-MODIFIED:20241121T204355Z
UID:29739-1733598000-1733608800@elkinsrandolphwv.com
SUMMARY:Christmas Mania 3: Live Pro Wrestling
DESCRIPTION:The Tygart Valley Wrestling Foundation will hold its Christmas Mania 3 event on December 7th at the Homestead Community and Event Center at 7pm.
URL:https://elkinsrandolphwv.com/event/christmas-mania-3-live-pro-wrestling/
LOCATION:Homestead Community Center\, Dailey\, WV\, United States
CATEGORIES:Entertainment
END:VEVENT
BEGIN:VEVENT
DTSTART;TZID=UTC:20241207T193000
DTEND;TZID=UTC:20241207T220000
DTSTAMP:20260426T000405
CREATED:20241120T215812Z
LAST-MODIFIED:20241120T215812Z
UID:29720-1733599800-1733608800@elkinsrandolphwv.com
SUMMARY:Live Music at The Oxley House
DESCRIPTION:Music begins at 7:30pm
URL:https://elkinsrandolphwv.com/event/live-music-at-the-oxley-house-3/
LOCATION:Oxley House\, 206 Davis Avenue\, Elkins\, WV
END:VEVENT
END:VCALENDAR