BEGIN:VCALENDAR
VERSION:2.0
PRODID:-//Elkins-Randolph County Tourism - ECPv6.15.20//NONSGML v1.0//EN
CALSCALE:GREGORIAN
METHOD:PUBLISH
X-ORIGINAL-URL:https://elkinsrandolphwv.com
X-WR-CALDESC:Events for Elkins-Randolph County Tourism
REFRESH-INTERVAL;VALUE=DURATION:PT1H
X-Robots-Tag:noindex
X-PUBLISHED-TTL:PT1H
BEGIN:VTIMEZONE
TZID:UTC
BEGIN:STANDARD
TZOFFSETFROM:+0000
TZOFFSETTO:+0000
TZNAME:UTC
DTSTART:20230101T000000
END:STANDARD
END:VTIMEZONE
BEGIN:VEVENT
DTSTART;TZID=UTC:20241217T160000
DTEND;TZID=UTC:20241217T190000
DTSTAMP:20260424T153404
CREATED:20241125T194306Z
LAST-MODIFIED:20241125T194306Z
UID:29757-1734451200-1734462000@elkinsrandolphwv.com
SUMMARY:Christmas at the Kump House
DESCRIPTION:TUESDAYS AND THURSDAYS\, DEC. 3-19 FROM 4-7 P.M.\nSATURDAYS\, DEC. 21 AND 28\, FROM 1-4 P.M.  \nTour the 1925 historic home of Gov. Kump decorated for the holidays! The Open House features a model train display\, snowman wonderland\, light refreshments\, and benefits the Kump Education Center. 401 Randolph Ave. (across from Kroger). Parking in rear\, off Seneca Road. A $10 donation is recommended.
URL:https://elkinsrandolphwv.com/event/christmas-at-the-kump-house-5/
LOCATION:Kump Education Center\, 401 Davis Avenue\, Elkins\, WV\, 26241\, United States
END:VEVENT
END:VCALENDAR