BEGIN:VCALENDAR
VERSION:2.0
PRODID:-//Elkins-Randolph County Tourism - ECPv6.15.20//NONSGML v1.0//EN
CALSCALE:GREGORIAN
METHOD:PUBLISH
X-WR-CALNAME:Elkins-Randolph County Tourism
X-ORIGINAL-URL:https://elkinsrandolphwv.com
X-WR-CALDESC:Events for Elkins-Randolph County Tourism
REFRESH-INTERVAL;VALUE=DURATION:PT1H
X-Robots-Tag:noindex
X-PUBLISHED-TTL:PT1H
BEGIN:VTIMEZONE
TZID:UTC
BEGIN:STANDARD
TZOFFSETFROM:+0000
TZOFFSETTO:+0000
TZNAME:UTC
DTSTART:20240101T000000
END:STANDARD
END:VTIMEZONE
BEGIN:VEVENT
DTSTART;TZID=UTC:20250114T183000
DTEND;TZID=UTC:20250114T203000
DTSTAMP:20260424T002239
CREATED:20250109T210905Z
LAST-MODIFIED:20250109T210905Z
UID:29797-1736879400-1736886600@elkinsrandolphwv.com
SUMMARY:Augusta Heritage Center Presents: An Evening with Sparky Rucker - Music’s Role in Appalachian Social Change
DESCRIPTION:Join us for an exciting evening of discussion and music with Sparky Rucker and Rhonda Rucker!  We’ll be talking about music’s role in social change and how it has shaped movements in our country as well as Sparky’s personal history!\n\n\n\nTime: 6:30 p.m.\nLocation: The Old Brick Playhouse\n\n\nAdmission: Free Entry!\n\n\n\nThis event is cohosted by Augusta and the Appalachian Forest National Heritage Area. With special thanks to our sponsors\, The Holiday Inn Express
URL:https://elkinsrandolphwv.com/event/augusta-heritage-center-presents-an-evening-with-sparky-rucker-musics-role-in-appalachian-social-change/
LOCATION:The Old Brick Playhouse\, 4 Davis Avenue\, Elkins\, WV\, 26241\, United States
END:VEVENT
END:VCALENDAR