BEGIN:VCALENDAR
VERSION:2.0
PRODID:-//Elkins-Randolph County Tourism - ECPv6.15.20//NONSGML v1.0//EN
CALSCALE:GREGORIAN
METHOD:PUBLISH
X-WR-CALNAME:Elkins-Randolph County Tourism
X-ORIGINAL-URL:https://elkinsrandolphwv.com
X-WR-CALDESC:Events for Elkins-Randolph County Tourism
REFRESH-INTERVAL;VALUE=DURATION:PT1H
X-Robots-Tag:noindex
X-PUBLISHED-TTL:PT1H
BEGIN:VTIMEZONE
TZID:UTC
BEGIN:STANDARD
TZOFFSETFROM:+0000
TZOFFSETTO:+0000
TZNAME:UTC
DTSTART:20240101T000000
END:STANDARD
END:VTIMEZONE
BEGIN:VEVENT
DTSTART;TZID=UTC:20250125T100000
DTEND;TZID=UTC:20250125T170000
DTSTAMP:20260424T002334
CREATED:20250109T220755Z
LAST-MODIFIED:20250109T220755Z
UID:29806-1737799200-1737824400@elkinsrandolphwv.com
SUMMARY:Thriftycon 2025
DESCRIPTION:Thriftycon is BACK!\nSat. Jan. 25 at the Seneca Mall Atrium (Elkins\, WV) and shop the coolest curated antique\, vintage\, & second hand vendors! Last year was a huge success and we are excited to continue this event!\nFree Admission. Street parking & free parking available behind the Seneca Mall. \n\nIf you’re interested in becoming a vendor\, please FB message Clementine’s Closet or text Emily Watson at 3047042725 ONLY.
URL:https://elkinsrandolphwv.com/event/thriftycon-2025/
LOCATION:Seneca Mall
END:VEVENT
BEGIN:VEVENT
DTSTART;TZID=UTC:20250125T170000
DTEND;TZID=UTC:20250125T220000
DTSTAMP:20260424T002334
CREATED:20250109T235708Z
LAST-MODIFIED:20250109T235708Z
UID:29817-1737824400-1737842400@elkinsrandolphwv.com
SUMMARY:2025 Burns Dinner Fundraiser: WV Wild and Wonderful Celtic Festival and Highland Games
DESCRIPTION:Welcome to the 2025 Burns Dinner Fundraiser: WV Wild and Wonderful Celtic Festival and Highland Games! Join us for a night of fun and fundraising to celebrate good fellowship and the works of Scottish poet Robert Burns at the Gandy Dancer in Elkins\, WV. Get ready for a celebration of all things Celtic with live music by Kinnfolk\, dance\, storytelling\, and raffles. Come hungry and ready to support a great cause! Please purchase tickets by Jan 18 for a headcount. Don’t miss out on this exciting event – mark your calendars now!\n5:00 PMDoors Open (at Gandy Dancer)\nRAFFLES throughout evening\n5:30 PM – 6:00 PMDinner is Served\n6:00 PM – 9:45 PMLive Entertainment
URL:https://elkinsrandolphwv.com/event/2025-burns-dinner-fundraiser-wv-wild-and-wonderful-celtic-festival-and-highland-games/
LOCATION:Gandy Dancer Theatre and Conference Center\, 359 Beverly Pike\, Elkins\, WV 26241\, USA\, United States
ORGANIZER;CN="WV Wild and Wonderful Celtic Festival and Highland Games":MAILTO:wvcelticfestandgames@gmail.com ‭
GEO:38.918641;-79.842607
END:VEVENT
BEGIN:VEVENT
DTSTART;TZID=UTC:20250125T193000
DTEND;TZID=UTC:20250125T220000
DTSTAMP:20260424T002334
CREATED:20250110T000251Z
LAST-MODIFIED:20250110T000251Z
UID:29819-1737833400-1737842400@elkinsrandolphwv.com
SUMMARY:Live Music at the Oxley House: The Ginsangers
DESCRIPTION:Join us for an unforgettable evening on Saturday\, January 25th from 7:30 p.m. to 10:00 p.m. with Connie Townsend and Dave Parker\, the talented duo behind The Ginsangers! \nWith over two decades of captivating performances\, this dynamic act blends blues\, classic country\, gospel\, and Americana into a soulful sound that reflects their diverse musical influences. Their original songs have earned national awards and airplay on Sirius XM\, Public Radio\, and more. The Ginsangers have graced stages from Mountain Stage to Merlefest and venues across the country.\nBring your friends and experience live music at its finest!
URL:https://elkinsrandolphwv.com/event/live-music-at-the-oxley-house-the-ginsangers/
LOCATION:Oxley House\, 206 Davis Avenue\, Elkins\, WV
END:VEVENT
BEGIN:VEVENT
DTSTART;TZID=UTC:20250125T200000
DTEND;TZID=UTC:20250125T200000
DTSTAMP:20260424T002334
CREATED:20250109T235400Z
LAST-MODIFIED:20250109T235438Z
UID:29816-1737835200-1737835200@elkinsrandolphwv.com
SUMMARY:Live Music at Beander's Restaurant and Tavern: Total Recall
DESCRIPTION:
URL:https://elkinsrandolphwv.com/event/live-music-at-beanders-restaurant-and-tavern-total-recall/
LOCATION:Beander’s Restaurant & Tavern\, 314 Davis Ave\, Elkins\, WV\, 26241\, United States
GEO:38.944536;-79.85025
X-APPLE-STRUCTURED-LOCATION;VALUE=URI;X-ADDRESS=Beander’s Restaurant & Tavern 314 Davis Ave Elkins WV 26241 United States;X-APPLE-RADIUS=500;X-TITLE=314 Davis Ave:geo:-79.85025,38.944536
END:VEVENT
END:VCALENDAR