BEGIN:VCALENDAR
VERSION:2.0
PRODID:-//Elkins-Randolph County Tourism - ECPv6.15.20//NONSGML v1.0//EN
CALSCALE:GREGORIAN
METHOD:PUBLISH
X-ORIGINAL-URL:https://elkinsrandolphwv.com
X-WR-CALDESC:Events for Elkins-Randolph County Tourism
REFRESH-INTERVAL;VALUE=DURATION:PT1H
X-Robots-Tag:noindex
X-PUBLISHED-TTL:PT1H
BEGIN:VTIMEZONE
TZID:UTC
BEGIN:STANDARD
TZOFFSETFROM:+0000
TZOFFSETTO:+0000
TZNAME:UTC
DTSTART:20240101T000000
END:STANDARD
END:VTIMEZONE
BEGIN:VEVENT
DTSTART;TZID=UTC:20250129T190000
DTEND;TZID=UTC:20250129T200000
DTSTAMP:20260423T224351
CREATED:20250109T232904Z
LAST-MODIFIED:20250123T222541Z
UID:29810-1738177200-1738180800@elkinsrandolphwv.com
SUMMARY:Tree Talk Lecture Series at The Kump House: “Witness Trees of the Monongahela National Forest” by Melissa Thomas-Van Gundy
DESCRIPTION:FREE MONTHLY TREE TALKS begin Wednesday\, Jan. 29 at 7 p.m. at the Kump Education Center. The lectures are sponsored by the Elkins Tree Board and the KEC. Topics are: 1/29\, “Witness Trees of the Monongahela National Forest” by Melissa Thomas-Van Gundy\, USDA Forest Service; 2/26\, “Under Pressure: A Tale of Two Salamanders” by Lacy Rucker\, USDA Forest Service; 3/26\, “Fungi and their Relationship with Plants” with Kristen Wickert\, WV Mushroom Club; and 4/23\, “Stress\, Strain and Trees: An Introduction to Tree Mechanics” by Ken Beezley\, D&E. All lectures begin at 7 p.m. Parking is available behind the historic Kump House\, 401 Randolph Ave. (across from Kroger). \n\nFor more information visit kumpeducationcenter.org
URL:https://elkinsrandolphwv.com/event/tree-talk-lecture-series-at-the-kump-house-witness-trees-of-the-monongahela-national-forest-by-melissa-thomas-van-gundy/
LOCATION:Kump Education Center\, 401 Davis Avenue\, Elkins\, WV\, 26241\, United States
END:VEVENT
END:VCALENDAR