BEGIN:VCALENDAR
VERSION:2.0
PRODID:-//Elkins-Randolph County Tourism - ECPv6.15.20//NONSGML v1.0//EN
CALSCALE:GREGORIAN
METHOD:PUBLISH
X-ORIGINAL-URL:https://elkinsrandolphwv.com
X-WR-CALDESC:Events for Elkins-Randolph County Tourism
REFRESH-INTERVAL;VALUE=DURATION:PT1H
X-Robots-Tag:noindex
X-PUBLISHED-TTL:PT1H
BEGIN:VTIMEZONE
TZID:UTC
BEGIN:STANDARD
TZOFFSETFROM:+0000
TZOFFSETTO:+0000
TZNAME:UTC
DTSTART:20240101T000000
END:STANDARD
END:VTIMEZONE
BEGIN:VEVENT
DTSTART;TZID=UTC:20250131T180000
DTEND;TZID=UTC:20250131T190000
DTSTAMP:20260423T224216
CREATED:20250130T213038Z
LAST-MODIFIED:20250130T213038Z
UID:29834-1738346400-1738350000@elkinsrandolphwv.com
SUMMARY:Speakin' Easy at the Tygart
DESCRIPTION:Randolph County Historical Society invites you to join us in celebrating the centennial of our first banquet\, held in January 1925 at the Tygart Hotel. In commemoration of 100 years of preserving Randolph County history\, the program will explore the history of the Tygart Hotel and Elkins in the Roaring Twenties. The event will start at 6 pm\, with dinner served at 6:30\, followed by the program.\nThe 20s inspired dinner by the Oxley House at the Tygart will feature a choice of New York Strip or Airline Chicken\, House Salad & Rolls\, Roasted Asparagus\, Herb Crusted Potatoes. Pecan Cinnamon Rolls & Cheesecake for Dessert. Tax and tip included\, adult beverages extra.\nAdvance purchase of tickets at $75 per person is required by January 22. Tickets are available below\, on our website www.randolphhistoricalwv.org\, by mail with a check and contact information to RCHS\, PO Box 342\, Elkins\, WV 26241\, or call Logan at 304-636-6182 x1 for more information.
URL:https://elkinsrandolphwv.com/event/speakin-easy-at-the-tygart/
LOCATION:Tygart Hotel\, 206 Davis Avenue\, Elkins\, WV
END:VEVENT
BEGIN:VEVENT
DTSTART;TZID=UTC:20250131T190000
DTEND;TZID=UTC:20250131T210000
DTSTAMP:20260423T224216
CREATED:20250109T211818Z
LAST-MODIFIED:20250109T211818Z
UID:29800-1738350000-1738357200@elkinsrandolphwv.com
SUMMARY:Elkins Barn Dance Collective Square Dance
DESCRIPTION:Music by Chris Haddox and Friends with calling TBA \nLocation: Big Timber \nDate: January 31\, 2025 7:00 – 9:00pm \nGeneral Admission: $10; Students/AmeriCorps/Fixed Income: $5 \nhttps://augustaartsandculture.org/events/elkins-barn-dance-collective-square-dance-3/
URL:https://elkinsrandolphwv.com/event/elkins-barn-dance-collective-square-dance/
LOCATION:Big Timber Brewing\, 2 Davis Avenue\, Elkins\, WV\, 26241\, United States
END:VEVENT
BEGIN:VEVENT
DTSTART;TZID=UTC:20250131T193000
DTEND;TZID=UTC:20250131T203000
DTSTAMP:20260423T224216
CREATED:20250127T224559Z
LAST-MODIFIED:20250127T224559Z
UID:29829-1738351800-1738355400@elkinsrandolphwv.com
SUMMARY:Game Over\, A Night of Student One-Act Plays @ Davis and Elkins College
DESCRIPTION:Davis & Elkins College’s Theatre and Film program is excited to present Game Over\, A Night of Student One-Act Plays this Thursday\, Friday\, and Saturday at 7:30pm and Sunday at 2:30pm.  This is our most student driven show in years\, featuring student playwrights\, directors\, designers\, technicians\, actors\, and house management.  The show will take place on stage at the Harper McNeeley\, so while admission is free for the showcase\, we strongly recommend reservations: https://linktr.ee/dnetheatre.\n\nFrom genies to demons and farce to theatre of cruelty\, this night has a little something for everyone over the age of 13.  Be sure to bring your phones so that you can participate in Star Eakle’s chose-your-own-adventure production Alder Grove\, reminiscent of survivalist video games. \nContent Advisory: We suggest a PG13 rating due to language\, violence\, and adult content. The show will also feature occasional flashing lights and loud noises.
URL:https://elkinsrandolphwv.com/event/game-over-a-night-of-student-one-act-plays-davis-and-elkins-college-2/
LOCATION:Davis and Elkins College
END:VEVENT
END:VCALENDAR