BEGIN:VCALENDAR
VERSION:2.0
PRODID:-//Elkins-Randolph County Tourism - ECPv6.15.20//NONSGML v1.0//EN
CALSCALE:GREGORIAN
METHOD:PUBLISH
X-ORIGINAL-URL:https://elkinsrandolphwv.com
X-WR-CALDESC:Events for Elkins-Randolph County Tourism
REFRESH-INTERVAL;VALUE=DURATION:PT1H
X-Robots-Tag:noindex
X-PUBLISHED-TTL:PT1H
BEGIN:VTIMEZONE
TZID:UTC
BEGIN:STANDARD
TZOFFSETFROM:+0000
TZOFFSETTO:+0000
TZNAME:UTC
DTSTART:20240101T000000
END:STANDARD
END:VTIMEZONE
BEGIN:VEVENT
DTSTART;TZID=UTC:20250201T193000
DTEND;TZID=UTC:20250201T203000
DTSTAMP:20260425T121250
CREATED:20250127T224728Z
LAST-MODIFIED:20250127T224915Z
UID:29830-1738438200-1738441800@elkinsrandolphwv.com
SUMMARY:Game Over\, A Night of Student One-Act Plays @ Davis and Elkins College
DESCRIPTION:Davis & Elkins College’s Theatre and Film program is excited to present Game Over\, A Night of Student One-Act Plays this Thursday\, Friday\, and Saturday at 7:30pm and Sunday at 2:30pm.  This is our most student driven show in years\, featuring student playwrights\, directors\, designers\, technicians\, actors\, and house management.  The show will take place on stage at the Harper McNeeley\, so while admission is free for the showcase\, we strongly recommend reservations: https://linktr.ee/dnetheatre.\n\nFrom genies to demons and farce to theatre of cruelty\, this night has a little something for everyone over the age of 13.  Be sure to bring your phones so that you can participate in Star Eakle’s chose-your-own-adventure production Alder Grove\, reminiscent of survivalist video games. \nContent Advisory: We suggest a PG13 rating due to language\, violence\, and adult content. The show will also feature occasional flashing lights and loud noises.
URL:https://elkinsrandolphwv.com/event/game-over-a-night-of-student-one-act-plays-davis-and-elkins-college-3/
LOCATION:Davis and Elkins College
END:VEVENT
BEGIN:VEVENT
DTSTART;TZID=UTC:20250201T193000
DTEND;TZID=UTC:20250201T220000
DTSTAMP:20260425T121250
CREATED:20250110T002023Z
LAST-MODIFIED:20250110T002023Z
UID:29823-1738438200-1738447200@elkinsrandolphwv.com
SUMMARY:Karaoke Night at Oxley House
DESCRIPTION:Karaoke Night with Wyatt Turner \n Date: Saturday\, February 1\, 2025 Time: 7:30 PM – 10:00 PM Location: The Oxley House Cocktail Bar\, inside the Tygart Hotel\nJoin us for an exciting Karaoke Night hosted by country music artist Wyatt Turner!  Whether you’re a seasoned singer or just want to cheer on friends\, this is a night you won’t want to miss.\n What to Expect:Live karaoke with Wyatt TurnerDelicious cocktails from the Oxley HouseA fun\, relaxed atmosphere to show off your singing skills!Bring your friends and make it a night to remember! No cover charge—just good vibes\, great music\, and unforgettable memories.
URL:https://elkinsrandolphwv.com/event/karaoke-night-at-oxley-house/
LOCATION:Oxley House\, 206 Davis Avenue\, Elkins\, WV
END:VEVENT
END:VCALENDAR