BEGIN:VCALENDAR
VERSION:2.0
PRODID:-//Elkins-Randolph County Tourism - ECPv6.15.20//NONSGML v1.0//EN
CALSCALE:GREGORIAN
METHOD:PUBLISH
X-WR-CALNAME:Elkins-Randolph County Tourism
X-ORIGINAL-URL:https://elkinsrandolphwv.com
X-WR-CALDESC:Events for Elkins-Randolph County Tourism
REFRESH-INTERVAL;VALUE=DURATION:PT1H
X-Robots-Tag:noindex
X-PUBLISHED-TTL:PT1H
BEGIN:VTIMEZONE
TZID:UTC
BEGIN:STANDARD
TZOFFSETFROM:+0000
TZOFFSETTO:+0000
TZNAME:UTC
DTSTART:20240101T000000
END:STANDARD
END:VTIMEZONE
BEGIN:VEVENT
DTSTART;VALUE=DATE:20250214
DTEND;VALUE=DATE:20250216
DTSTAMP:20260424T052407
CREATED:20250214T002918Z
LAST-MODIFIED:20250214T002918Z
UID:29857-1739498400-1739584799@elkinsrandolphwv.com
SUMMARY:Valentine’s Day at Graceland Inn & Restaurant
DESCRIPTION:Celebrate Valentine’s Day at Graceland Inn & Restaurant. Enjoy our Candlelight Menu for Two with three courses and a bottle of wine for only $110 per couple or choose our Getaway Package\, a two-night Stay\, welcome bottle of champagne\, dinner from our special Candlelight Menu\, and Sunday brunch for only $350 per couple.\nGraceland Inn & Restaurant on the campus of Davis & Elkins College is open Wednesday to Saturday from 5 to 9 for dinner and Sunday from 11 to 2:30 for brunch.\nFor reservations call 304-637-1600.
URL:https://elkinsrandolphwv.com/event/valentines-day-at-graceland-inn-restaurant/2025-02-14/
LOCATION:Graceland Inn and Restaurant\, 100 Campus Drive\, Elkins\, WV\, 26241\, United States
END:VEVENT
BEGIN:VEVENT
DTSTART;TZID=UTC:20250214T160000
DTEND;TZID=UTC:20250214T210000
DTSTAMP:20260424T052407
CREATED:20250109T232616Z
LAST-MODIFIED:20250109T232616Z
UID:29809-1739548800-1739566800@elkinsrandolphwv.com
SUMMARY:Valentine's Day Dinner at The Oxley House and Tygart Hotel
DESCRIPTION:Oxley House Valentine’s Day Dinner  Friday\, February 14th | 4:00 p.m. – 9:00 p.m.\nOpen Table Reservations: https://tinyurl.com/Oxley-Valentines-Day\nCelebrate Love in Style at Oxley House Restaurant & Cocktail Bar! Join us for an unforgettable evening of romance and exquisite cuisine crafted by our talented Executive Chef Carlos. \nPricing: $65 per person  ~ $125 per couple \nAdd a Touch of Romance : Enhance your evening with a beautiful bundle of flowers to take home—an elegant way to celebrate your Valentine and make the night even more special. \nTygart Hotel Romance Package :Make this Valentine’s Day truly special with a romantic escape at the Tygart Hotel. Indulge in our Romance Package\, featuring a 1-night stay\, a delicious dinner for two at the Oxley House (including two appetizers\, two entrées\, two desserts)\, plus a surprise specialty gift upon arrival—and enjoy late check-out for a more relaxing experience. Extend the experience with a 2-night stay for even more cherished moments.\nBook your staycation today  www.tygarthotel.com/offers
URL:https://elkinsrandolphwv.com/event/valentines-day-dinner-at-the-oxley-house-and-tygart-hotel/
LOCATION:Oxley House\, 206 Davis Avenue\, Elkins\, WV
END:VEVENT
BEGIN:VEVENT
DTSTART;TZID=UTC:20250214T170000
DTEND;TZID=UTC:20250214T210000
DTSTAMP:20260424T052407
CREATED:20250214T003215Z
LAST-MODIFIED:20250214T003835Z
UID:29861-1739552400-1739566800@elkinsrandolphwv.com
SUMMARY:Valentine's Celebration at The Lodge
DESCRIPTION:Bring your Sweetheart to The Lodge for an evening of fine food! Reserve your table by calling 304.636.1470
URL:https://elkinsrandolphwv.com/event/valentines-celebration-at-the-lodge/2025-02-14/
LOCATION:Alpine Lodge and Restaurant\, US-33\, Alpena\, WV\, 26254\, United States
END:VEVENT
END:VCALENDAR