BEGIN:VCALENDAR
VERSION:2.0
PRODID:-//Elkins-Randolph County Tourism - ECPv6.15.20//NONSGML v1.0//EN
CALSCALE:GREGORIAN
METHOD:PUBLISH
X-ORIGINAL-URL:https://elkinsrandolphwv.com
X-WR-CALDESC:Events for Elkins-Randolph County Tourism
REFRESH-INTERVAL;VALUE=DURATION:PT1H
X-Robots-Tag:noindex
X-PUBLISHED-TTL:PT1H
BEGIN:VTIMEZONE
TZID:UTC
BEGIN:STANDARD
TZOFFSETFROM:+0000
TZOFFSETTO:+0000
TZNAME:UTC
DTSTART:20240101T000000
END:STANDARD
END:VTIMEZONE
BEGIN:VEVENT
DTSTART;VALUE=DATE:20250215
DTEND;VALUE=DATE:20250217
DTSTAMP:20260425T085409
CREATED:20250214T002918Z
LAST-MODIFIED:20250214T002918Z
UID:29858-1739584800-1739671199@elkinsrandolphwv.com
SUMMARY:Valentine’s Day at Graceland Inn & Restaurant
DESCRIPTION:Celebrate Valentine’s Day at Graceland Inn & Restaurant. Enjoy our Candlelight Menu for Two with three courses and a bottle of wine for only $110 per couple or choose our Getaway Package\, a two-night Stay\, welcome bottle of champagne\, dinner from our special Candlelight Menu\, and Sunday brunch for only $350 per couple.\nGraceland Inn & Restaurant on the campus of Davis & Elkins College is open Wednesday to Saturday from 5 to 9 for dinner and Sunday from 11 to 2:30 for brunch.\nFor reservations call 304-637-1600.
URL:https://elkinsrandolphwv.com/event/valentines-day-at-graceland-inn-restaurant/2025-02-15/
LOCATION:Graceland Inn and Restaurant\, 100 Campus Drive\, Elkins\, WV\, 26241\, United States
END:VEVENT
BEGIN:VEVENT
DTSTART;TZID=UTC:20250215T090000
DTEND;TZID=UTC:20250215T110000
DTSTAMP:20260425T085409
CREATED:20250130T213547Z
LAST-MODIFIED:20250130T213547Z
UID:29836-1739610000-1739617200@elkinsrandolphwv.com
SUMMARY:Chiller Thriller
DESCRIPTION:Location change for 2025! The Chiller Thriller is coming to town.\nA fun run with a distance and pace for everyone\, beginning and ending at Clementine’s Cantina. Breakfast will be available for purchase.\nGrab you gear and a running buddy and keep your fingers crossed for some nice chilly weather.
URL:https://elkinsrandolphwv.com/event/chiller-thriller/
LOCATION:Clementine’s Cantina\, 112 Davis Avenue\, Elkins\, WV
END:VEVENT
BEGIN:VEVENT
DTSTART;TZID=UTC:20250215T110000
DTEND;TZID=UTC:20250215T170000
DTSTAMP:20260425T085409
CREATED:20250214T002305Z
LAST-MODIFIED:20250214T002305Z
UID:29853-1739617200-1739638800@elkinsrandolphwv.com
SUMMARY:Self-Love Soiree - A Self-Care Market
DESCRIPTION:Join us on Saturday Feb 15th for our first ever self-care market! Shop with our hand selected vendors and treat yourself — sweets\, treats\, books\, second-hand fashion\, plants\, holistic wellness\, skincare\, vintage clothing and decor\, Photo Booth\, art\, permanent jewelry\, and more. We hope to have you there.
URL:https://elkinsrandolphwv.com/event/self-love-soiree-a-self-care-market/
LOCATION:Seneca Mall
END:VEVENT
BEGIN:VEVENT
DTSTART;TZID=UTC:20250215T120000
DTEND;TZID=UTC:20250215T140000
DTSTAMP:20260425T085409
CREATED:20250214T002615Z
LAST-MODIFIED:20250214T002615Z
UID:29855-1739620800-1739628000@elkinsrandolphwv.com
SUMMARY:"Words of Love" Exhibit Opening
DESCRIPTION:Let’s keep that Valentine’s Day feeling going!\nVisit the Beverly Heritage Center on February 15th from 12 to 2pm for the special opening of “Words of Love! A Window to Love Letters from the Past.” Words of Love is the newest exhibit in our Women’s Window\, featuring love letters\, poems\, dance photos and more from Beverly and all across Randolph County.\nFree to all\, we will serve hot cocoa and homemade cookies in the Heritage Center gallery. This window exhibit is visible from the outside of the building\, facing Court St.\, so dress according to the Wild & Wonderful weather we’ve been having.\nCan’t wait to see you there!\nThis exhibit is made possible through financial support of the Appalachian Forest National Heritage Area.
URL:https://elkinsrandolphwv.com/event/words-of-love-exhibit-opening/
LOCATION:Beverly Heritage Center\, 4 Court Street\, Beverly\, WV\, 26253\, United States
GEO:38.8405774458;-79.8751789914
X-APPLE-STRUCTURED-LOCATION;VALUE=URI;X-ADDRESS=Beverly Heritage Center 4 Court Street Beverly WV 26253 United States;X-APPLE-RADIUS=500;X-TITLE=4 Court Street:geo:-79.8751789914,38.8405774458
END:VEVENT
BEGIN:VEVENT
DTSTART;TZID=UTC:20250215T170000
DTEND;TZID=UTC:20250215T210000
DTSTAMP:20260425T085409
CREATED:20250214T003215Z
LAST-MODIFIED:20250214T003837Z
UID:29862-1739638800-1739653200@elkinsrandolphwv.com
SUMMARY:Valentine's Celebration at The Lodge
DESCRIPTION:Bring your Sweetheart to The Lodge for an evening of fine food! Reserve your table by calling 304.636.1470
URL:https://elkinsrandolphwv.com/event/valentines-celebration-at-the-lodge/2025-02-15/
LOCATION:Alpine Lodge and Restaurant\, US-33\, Alpena\, WV\, 26254\, United States
END:VEVENT
END:VCALENDAR